BEGIN:VCALENDAR
VERSION:2.0
PRODID:-//Nicole Johnston - ECPv6.15.20//NONSGML v1.0//EN
CALSCALE:GREGORIAN
METHOD:PUBLISH
X-ORIGINAL-URL:https://nicolejohnston.com.au
X-WR-CALDESC:Events for Nicole Johnston
REFRESH-INTERVAL;VALUE=DURATION:PT1H
X-Robots-Tag:noindex
X-PUBLISHED-TTL:PT1H
BEGIN:VTIMEZONE
TZID:Australia/Brisbane
BEGIN:STANDARD
TZOFFSETFROM:+1000
TZOFFSETTO:+1000
TZNAME:AEST
DTSTART:20150101T000000
END:STANDARD
END:VTIMEZONE
BEGIN:VEVENT
DTSTART;TZID=Australia/Brisbane:20250126T073000
DTEND;TZID=Australia/Brisbane:20250126T203000
DTSTAMP:20260424T160912
CREATED:20250107T053218Z
LAST-MODIFIED:20250108T001229Z
UID:28844-1737876600-1737923400@nicolejohnston.com.au
SUMMARY:Graceville | Benarrawa Annual Survival Day Ceremony
DESCRIPTION:All are welcome at Benarrawa Aboriginal and Torres Strait Islander Solidarity Group’s local acknowledgement of Survival Day\, January 26th\, for a short ceremony. Arrive 7:15am for a 7:30am start. \nGather at the bronze canoe\, near Simpson’s Playground\, end of Graceville Avenue\, Graceville. If you plan to stay for the community breakfast after the ceremony\, BYO keep cup/mug\, thermos of hot water for breakfast cuppa and a small plate of food to share.
URL:https://nicolejohnston.com.au/event/graceville-benarrawa-annual-survival-day-ceremony/
LOCATION:Simpsons Playground\, cnr Graceville Ave and Nadine St\,  Graceville\, Qld\, 4075\, Australia
CATEGORIES:Community Event
ATTACH;FMTTYPE=image/png:https://nicolejohnston.com.au/wp-content/uploads/2025/01/Benarrawa-Survival-Day-2025.png
ORGANIZER;CN="Benarrawa Community Development Assn.":MAILTO:benarrawa@westnet.com.au
GEO:-27.5235837;152.9920697
X-APPLE-STRUCTURED-LOCATION;VALUE=URI;X-ADDRESS=Simpsons Playground cnr Graceville Ave and Nadine St  Graceville Qld 4075 Australia;X-APPLE-RADIUS=500;X-TITLE=cnr Graceville Ave and Nadine St:geo:152.9920697,-27.5235837
END:VEVENT
BEGIN:VEVENT
DTSTART;TZID=Australia/Brisbane:20240127T090000
DTEND;TZID=Australia/Brisbane:20240127T120000
DTSTAMP:20260424T160912
CREATED:20230807T034239Z
LAST-MODIFIED:20230807T034240Z
UID:26835-1706346000-1706356800@nicolejohnston.com.au
SUMMARY:Graceville | Kayak Explore
DESCRIPTION:Booking essential. Come along for some fun paddling games while exploring your local waterway. All equipment and instruction is provided\, perfect for beginners or those with experience. \nThis is a Chillout event suitable for young people 10-17 years old. \nBookings essential. To book visit Paddle Qld. For more information phone 0414 960 728. \nWear ENCLOSED FOOTWEAR\, water shoes\, not crocs or any footwear than can fall off and clothing suitable to paddle in and get wet. Towel and a change of clothes. Paddling is a low impact activity\, but due to the nature of paddle sports a reasonable level of fitness and health is required to participate.
URL:https://nicolejohnston.com.au/event/graceville-kayak-explore-5/
LOCATION:Simpsons Playground\, cnr Graceville Ave and Nadine St\,  Graceville\, Qld\, 4075\, Australia
GEO:-27.5235837;152.9920697
X-APPLE-STRUCTURED-LOCATION;VALUE=URI;X-ADDRESS=Simpsons Playground cnr Graceville Ave and Nadine St  Graceville Qld 4075 Australia;X-APPLE-RADIUS=500;X-TITLE=cnr Graceville Ave and Nadine St:geo:152.9920697,-27.5235837
END:VEVENT
BEGIN:VEVENT
DTSTART;TZID=Australia/Brisbane:20231202T120000
DTEND;TZID=Australia/Brisbane:20231202T150000
DTSTAMP:20260424T160912
CREATED:20230807T033836Z
LAST-MODIFIED:20230807T033836Z
UID:26833-1701518400-1701529200@nicolejohnston.com.au
SUMMARY:Graceville | Kayak Explore
DESCRIPTION:Come along for some fun paddling while exploring your local waterway! All equipment and instruction is provided\, perfect for beginners or those with experience. \nBookings essential. To book visit Paddle Qld. For more information phone 0414 960 728. \nWear ENCLOSED FOOTWEAR\, water shoes\, not crocs or any footwear than can fall off and clothing suitable to paddle in and get wet. Towel and a change of clothes. Paddling is a low impact activity\, but due to the nature of paddle sports a reasonable level of fitness and health is required to participate.
URL:https://nicolejohnston.com.au/event/graceville-kayak-explore-4/
LOCATION:Simpsons Playground\, cnr Graceville Ave and Nadine St\,  Graceville\, Qld\, 4075\, Australia
GEO:-27.5235837;152.9920697
X-APPLE-STRUCTURED-LOCATION;VALUE=URI;X-ADDRESS=Simpsons Playground cnr Graceville Ave and Nadine St  Graceville Qld 4075 Australia;X-APPLE-RADIUS=500;X-TITLE=cnr Graceville Ave and Nadine St:geo:152.9920697,-27.5235837
END:VEVENT
BEGIN:VEVENT
DTSTART;TZID=Australia/Brisbane:20231118T120000
DTEND;TZID=Australia/Brisbane:20231118T150000
DTSTAMP:20260424T160912
CREATED:20230807T033451Z
LAST-MODIFIED:20230807T033451Z
UID:26831-1700308800-1700319600@nicolejohnston.com.au
SUMMARY:Graceville | Kayak Explore
DESCRIPTION:Come along for some fun paddling while exploring your local waterway! All equipment and instruction is provided\, perfect for beginners or those with experience. \nBookings essential. To book visit Paddle Qld. For more information phone 0414 960 728. \nWear ENCLOSED FOOTWEAR\, water shoes\, not crocs or any footwear than can fall off and clothing suitable to paddle in and get wet. Towel and a change of clothes. Paddling is a low impact activity\, but due to the nature of paddlesports a reasonable level of fitness and health is required to participate.
URL:https://nicolejohnston.com.au/event/graceville-kayak-explore-3/
LOCATION:Simpsons Playground\, cnr Graceville Ave and Nadine St\,  Graceville\, Qld\, 4075\, Australia
GEO:-27.5235837;152.9920697
X-APPLE-STRUCTURED-LOCATION;VALUE=URI;X-ADDRESS=Simpsons Playground cnr Graceville Ave and Nadine St  Graceville Qld 4075 Australia;X-APPLE-RADIUS=500;X-TITLE=cnr Graceville Ave and Nadine St:geo:152.9920697,-27.5235837
END:VEVENT
BEGIN:VEVENT
DTSTART;TZID=Australia/Brisbane:20230904T120000
DTEND;TZID=Australia/Brisbane:20230904T150000
DTSTAMP:20260424T160912
CREATED:20230710T060921Z
LAST-MODIFIED:20230710T060921Z
UID:26629-1693828800-1693839600@nicolejohnston.com.au
SUMMARY:Graceville | GOLD Kayak Explore
DESCRIPTION:Bookings essential. Splash out and have some fun. A great opportunity to enjoy a relaxing paddle while exploring Brisbane’s waterways. Gather some friends or come on your own to meet new likeminded people. All equipment and instruction is provided\, perfect for beginners or those with experience. \nThis is a GOLD event suitable for seniors. \nBookings essential. To book visit Paddle Qld. For more information phone 0414 960 728.
URL:https://nicolejohnston.com.au/event/graceville-gold-kayak-explore/
LOCATION:Simpsons Playground\, cnr Graceville Ave and Nadine St\,  Graceville\, Qld\, 4075\, Australia
GEO:-27.5235837;152.9920697
X-APPLE-STRUCTURED-LOCATION;VALUE=URI;X-ADDRESS=Simpsons Playground cnr Graceville Ave and Nadine St  Graceville Qld 4075 Australia;X-APPLE-RADIUS=500;X-TITLE=cnr Graceville Ave and Nadine St:geo:152.9920697,-27.5235837
END:VEVENT
BEGIN:VEVENT
DTSTART;TZID=Australia/Brisbane:20221119T093000
DTEND;TZID=Australia/Brisbane:20221119T113000
DTSTAMP:20260424T160912
CREATED:20221108T044304Z
LAST-MODIFIED:20221108T044304Z
UID:25870-1668850200-1668857400@nicolejohnston.com.au
SUMMARY:Graceville | 'Turn and Learn' Composting Workshop
DESCRIPTION:In this ‘Turn and Learn’ session\, find out how to compost at home or at one of Council’s community composting hubs. As part of this hands-on session\, you will also build your own compost pile. \nMeet at the Graceville Community Composting Hub near the Pamphlett-Tennyson Sea Scouts Hall. Wear closed in shoes\, gardening gloves\, sun smart clothing and bring your own water bottle.
URL:https://nicolejohnston.com.au/event/graceville-turn-and-learn-composting-workshop/
LOCATION:Simpsons Playground\, cnr Graceville Ave and Nadine St\,  Graceville\, Qld\, 4075\, Australia
CATEGORIES:Community Event
ATTACH;FMTTYPE=image/png:https://nicolejohnston.com.au/wp-content/uploads/2022/11/BCC-Turn-and-Learn.png
GEO:-27.5235837;152.9920697
X-APPLE-STRUCTURED-LOCATION;VALUE=URI;X-ADDRESS=Simpsons Playground cnr Graceville Ave and Nadine St  Graceville Qld 4075 Australia;X-APPLE-RADIUS=500;X-TITLE=cnr Graceville Ave and Nadine St:geo:152.9920697,-27.5235837
END:VEVENT
BEGIN:VEVENT
DTSTART;TZID=Australia/Brisbane:20210910T183000
DTEND;TZID=Australia/Brisbane:20210910T190000
DTSTAMP:20260424T160912
CREATED:20210906T031121Z
LAST-MODIFIED:20210906T031121Z
UID:24825-1631298600-1631300400@nicolejohnston.com.au
SUMMARY:Brisbane Festival Street Serenades | Forrest Run
DESCRIPTION:
URL:https://nicolejohnston.com.au/event/brisbane-festival-street-serenades-forrest-run/
LOCATION:Simpsons Playground\, cnr Graceville Ave and Nadine St\,  Graceville\, Qld\, 4075\, Australia
CATEGORIES:Community Event
ATTACH;FMTTYPE=image/png:https://nicolejohnston.com.au/wp-content/uploads/2021/09/Street-Serenades-Square.png
ORGANIZER;CN="Brisbane Festival":MAILTO:brisbane@brisbanefestival.com.au
GEO:-27.5235837;152.9920697
X-APPLE-STRUCTURED-LOCATION;VALUE=URI;X-ADDRESS=Simpsons Playground cnr Graceville Ave and Nadine St  Graceville Qld 4075 Australia;X-APPLE-RADIUS=500;X-TITLE=cnr Graceville Ave and Nadine St:geo:152.9920697,-27.5235837
END:VEVENT
BEGIN:VEVENT
DTSTART;TZID=Australia/Brisbane:20200719T100000
DTEND;TZID=Australia/Brisbane:20200719T120000
DTSTAMP:20260424T160912
CREATED:20200708T001857Z
LAST-MODIFIED:20200708T001857Z
UID:22138-1595152800-1595160000@nicolejohnston.com.au
SUMMARY:Graceville | Survivor Challenge
DESCRIPTION:This is the best team games going around. Teams compete in fun but challenging activities for clues or rewards to the next challenge. With team work\, strategy and a little luck can your team survive the challenge. \nBookings essential. To book email Life Be in it FunWorks.  For more information phone Glenn on 0403 221 676. \nSuitable for children ages 8-15.
URL:https://nicolejohnston.com.au/event/graceville-survivor-challenge/
LOCATION:Simpsons Playground\, cnr Graceville Ave and Nadine St\,  Graceville\, Qld\, 4075\, Australia
GEO:-27.5235837;152.9920697
X-APPLE-STRUCTURED-LOCATION;VALUE=URI;X-ADDRESS=Simpsons Playground cnr Graceville Ave and Nadine St  Graceville Qld 4075 Australia;X-APPLE-RADIUS=500;X-TITLE=cnr Graceville Ave and Nadine St:geo:152.9920697,-27.5235837
END:VEVENT
BEGIN:VEVENT
DTSTART;TZID=Australia/Brisbane:20200715T090000
DTEND;TZID=Australia/Brisbane:20200715T094500
DTSTAMP:20260424T160912
CREATED:20200629T041437Z
LAST-MODIFIED:20200629T041437Z
UID:22018-1594803600-1594806300@nicolejohnston.com.au
SUMMARY:Graceville | Gentle Exercise for Seniors
DESCRIPTION:A gentle\, low impact workout incorporating strength\, balance and stretching for seniors. \nThis is a GOLD event suitable for seniors. \nFor more information phone Clare on 0432 168 667. \nMeet near the playground in the shade of the trees.
URL:https://nicolejohnston.com.au/event/graceville-gentle-exercise-for-seniors/2020-07-15/
LOCATION:Simpsons Playground\, cnr Graceville Ave and Nadine St\,  Graceville\, Qld\, 4075\, Australia
GEO:-27.5235837;152.9920697
X-APPLE-STRUCTURED-LOCATION;VALUE=URI;X-ADDRESS=Simpsons Playground cnr Graceville Ave and Nadine St  Graceville Qld 4075 Australia;X-APPLE-RADIUS=500;X-TITLE=cnr Graceville Ave and Nadine St:geo:152.9920697,-27.5235837
END:VEVENT
BEGIN:VEVENT
DTSTART;TZID=Australia/Brisbane:20200705T090000
DTEND;TZID=Australia/Brisbane:20200705T120000
DTSTAMP:20260424T160912
CREATED:20200624T051559Z
LAST-MODIFIED:20200624T051559Z
UID:21885-1593939600-1593950400@nicolejohnston.com.au
SUMMARY:Graceville | Kayak Games
DESCRIPTION:Get a group of friends together\, or come on your own for three hours of fun with water games and activities. \nThis is a Chillout event suitable for young people 10-17 years. \nBookings essential. To book visit Paddle Queensland. For more information phone 0414 960 728. \nMeet at the boat ramp behind Scout Hall.
URL:https://nicolejohnston.com.au/event/graceville-kayak-games-2/
LOCATION:Simpsons Playground\, cnr Graceville Ave and Nadine St\,  Graceville\, Qld\, 4075\, Australia
GEO:-27.5235837;152.9920697
X-APPLE-STRUCTURED-LOCATION;VALUE=URI;X-ADDRESS=Simpsons Playground cnr Graceville Ave and Nadine St  Graceville Qld 4075 Australia;X-APPLE-RADIUS=500;X-TITLE=cnr Graceville Ave and Nadine St:geo:152.9920697,-27.5235837
END:VEVENT
BEGIN:VEVENT
DTSTART;TZID=Australia/Brisbane:20200508T100000
DTEND;TZID=Australia/Brisbane:20200508T120000
DTSTAMP:20260424T160912
CREATED:20200224T044542Z
LAST-MODIFIED:20200224T044542Z
UID:21541-1588932000-1588939200@nicolejohnston.com.au
SUMMARY:Graceville | A Pirate's Life for Me
DESCRIPTION:Bookings essential. Come dressed as a pirate to this session where children can learn how to talk like a pirate\, walk like a pirate and also learn how to play a pirate’s favourite games. This is a swash buckling session perfect for little buccaneers. \nBookings essential. Bookings open one month in advance. To book visit Bazil Grumble or for more information phone 0411 246 487.
URL:https://nicolejohnston.com.au/event/graceville-a-pirates-life-for-me/
LOCATION:Simpsons Playground\, cnr Graceville Ave and Nadine St\,  Graceville\, Qld\, 4075\, Australia
GEO:-27.5235837;152.9920697
X-APPLE-STRUCTURED-LOCATION;VALUE=URI;X-ADDRESS=Simpsons Playground cnr Graceville Ave and Nadine St  Graceville Qld 4075 Australia;X-APPLE-RADIUS=500;X-TITLE=cnr Graceville Ave and Nadine St:geo:152.9920697,-27.5235837
END:VEVENT
BEGIN:VEVENT
DTSTART;TZID=Australia/Brisbane:20200423T090000
DTEND;TZID=Australia/Brisbane:20200423T120000
DTSTAMP:20260424T160912
CREATED:20200224T044222Z
LAST-MODIFIED:20200224T044222Z
UID:21539-1587632400-1587643200@nicolejohnston.com.au
SUMMARY:Graceville | Kayak Explore
DESCRIPTION:Bookings essential. A great opportunity to enjoy a relaxing paddle and explore your local waterway. Enjoy family time\, get a group of friends together or come on your own to meet new people. All equipment and instructions are provided. Perfect for beginners or those with experience. \nThis is a GOLD event suitable for seniors. \nBookings essential. To book visit Paddle Queensland. For more information phone 0414 960 728. \nWear enclosed footwear and clothing suitable to paddle in and get wet. Bring a towel and a change of clothes.
URL:https://nicolejohnston.com.au/event/graceville-kayak-explore-2/
LOCATION:Simpsons Playground\, cnr Graceville Ave and Nadine St\,  Graceville\, Qld\, 4075\, Australia
GEO:-27.5235837;152.9920697
X-APPLE-STRUCTURED-LOCATION;VALUE=URI;X-ADDRESS=Simpsons Playground cnr Graceville Ave and Nadine St  Graceville Qld 4075 Australia;X-APPLE-RADIUS=500;X-TITLE=cnr Graceville Ave and Nadine St:geo:152.9920697,-27.5235837
END:VEVENT
BEGIN:VEVENT
DTSTART;TZID=Australia/Brisbane:20200416T100000
DTEND;TZID=Australia/Brisbane:20200416T120000
DTSTAMP:20260424T160912
CREATED:20200224T044046Z
LAST-MODIFIED:20200224T044046Z
UID:21537-1587031200-1587038400@nicolejohnston.com.au
SUMMARY:Graceville | River Adventure Walk
DESCRIPTION:Bookings essential. Come and join in the fun of a guided walk by the beautiful Brisbane River at Graceville. Every family who comes along will receive a River Passport with a list of key features to find including scenery and animals. Your family will work together as a team to find all the special locations\, then get them stamped in your passport. \nThis is a GOLD’n’Kids event suitable for seniors and children 4 years and over. \nBookings essential. Bookings open one month in advance. To book visit Bazil Grumble. For more information phone Bazil Grumble on 0411 246 487.
URL:https://nicolejohnston.com.au/event/graceville-river-adventure-walk/
LOCATION:Simpsons Playground\, cnr Graceville Ave and Nadine St\,  Graceville\, Qld\, 4075\, Australia
GEO:-27.5235837;152.9920697
X-APPLE-STRUCTURED-LOCATION;VALUE=URI;X-ADDRESS=Simpsons Playground cnr Graceville Ave and Nadine St  Graceville Qld 4075 Australia;X-APPLE-RADIUS=500;X-TITLE=cnr Graceville Ave and Nadine St:geo:152.9920697,-27.5235837
END:VEVENT
BEGIN:VEVENT
DTSTART;TZID=Australia/Brisbane:20200406T080000
DTEND;TZID=Australia/Brisbane:20200406T110000
DTSTAMP:20260424T160912
CREATED:20200224T043658Z
LAST-MODIFIED:20200224T043658Z
UID:21535-1586160000-1586170800@nicolejohnston.com.au
SUMMARY:Graceville | Kayak Explore
DESCRIPTION:Bookings essential. Splash out and have some fun. A great opportunity to enjoy a relaxing paddle while exploring Brisbane’s waterways. Suitable for seniors and one or two accompanying children aged ten years and over. \nThis is a GOLD’n’Kids event suitable for seniors and children ten years and over. \nBookings essential. To book visit Paddle Queensland. For more information phone 0414 960 728. \nWear enclosed footwear and clothing suitable to paddle in and get wet. Bring a towel and a change of clothes.
URL:https://nicolejohnston.com.au/event/graceville-kayak-explore/
LOCATION:Simpsons Playground\, cnr Graceville Ave and Nadine St\,  Graceville\, Qld\, 4075\, Australia
GEO:-27.5235837;152.9920697
X-APPLE-STRUCTURED-LOCATION;VALUE=URI;X-ADDRESS=Simpsons Playground cnr Graceville Ave and Nadine St  Graceville Qld 4075 Australia;X-APPLE-RADIUS=500;X-TITLE=cnr Graceville Ave and Nadine St:geo:152.9920697,-27.5235837
END:VEVENT
BEGIN:VEVENT
DTSTART;TZID=Australia/Brisbane:20200403T170000
DTEND;TZID=Australia/Brisbane:20200403T200000
DTSTAMP:20260424T160912
CREATED:20200224T043519Z
LAST-MODIFIED:20200224T043519Z
UID:21533-1585933200-1585944000@nicolejohnston.com.au
SUMMARY:Graceville | Kayak Moon River
DESCRIPTION:Bookings essential. A great opportunity to enjoy a relaxing paddle and explore your local waterway in a kayak. Enjoy some family time\, get a group of friends together\, or come on your own to meet some new people. All equipment and instruction is provided\, perfect for beginners or those with experience. \nBookings essential. To book visit Paddle Queensland. For more information phone 0414 960 728.
URL:https://nicolejohnston.com.au/event/graceville-kayak-moon-river/
LOCATION:Simpsons Playground\, cnr Graceville Ave and Nadine St\,  Graceville\, Qld\, 4075\, Australia
GEO:-27.5235837;152.9920697
X-APPLE-STRUCTURED-LOCATION;VALUE=URI;X-ADDRESS=Simpsons Playground cnr Graceville Ave and Nadine St  Graceville Qld 4075 Australia;X-APPLE-RADIUS=500;X-TITLE=cnr Graceville Ave and Nadine St:geo:152.9920697,-27.5235837
END:VEVENT
BEGIN:VEVENT
DTSTART;TZID=Australia/Brisbane:20200205T180000
DTEND;TZID=Australia/Brisbane:20200205T210000
DTSTAMP:20260424T160912
CREATED:20200107T063452Z
LAST-MODIFIED:20200107T063452Z
UID:20219-1580925600-1580936400@nicolejohnston.com.au
SUMMARY:Graceville | Canoe Moon River
DESCRIPTION:Bookings essential. A great opportunity to enjoy a relaxing paddle and explore your local waterway in the evening. Enjoy family time\, get a group of friends together or come on your own to meet new people. All equipment and instructions are provided. Perfect for beginners or those with experience. \nThis is a GOLD event suitable for seniors. \nBookings essential. To book visit Paddle Queensland. For more information phone 0414 960 728.
URL:https://nicolejohnston.com.au/event/graceville-canoe-moon-river/
LOCATION:Simpsons Playground\, cnr Graceville Ave and Nadine St\,  Graceville\, Qld\, 4075\, Australia
GEO:-27.5235837;152.9920697
X-APPLE-STRUCTURED-LOCATION;VALUE=URI;X-ADDRESS=Simpsons Playground cnr Graceville Ave and Nadine St  Graceville Qld 4075 Australia;X-APPLE-RADIUS=500;X-TITLE=cnr Graceville Ave and Nadine St:geo:152.9920697,-27.5235837
END:VEVENT
BEGIN:VEVENT
DTSTART;TZID=Australia/Brisbane:20200109T080000
DTEND;TZID=Australia/Brisbane:20200109T110000
DTSTAMP:20260424T160912
CREATED:20200107T062225Z
LAST-MODIFIED:20200107T062225Z
UID:20207-1578556800-1578567600@nicolejohnston.com.au
SUMMARY:Graceville | Canoe Games
DESCRIPTION:Bookings essential. Get a group of friends together\, or come on your own for three hours of fun with water games and activities.  Meet at the boat ramp behind the Scout hall. \nThis is a Chillout event suitable for young people 10-17 years old. \nTo book visit Paddle Queensland or for more information phone 0414 960 728.
URL:https://nicolejohnston.com.au/event/graceville-canoe-games/
LOCATION:Simpsons Playground\, cnr Graceville Ave and Nadine St\,  Graceville\, Qld\, 4075\, Australia
GEO:-27.5235837;152.9920697
X-APPLE-STRUCTURED-LOCATION;VALUE=URI;X-ADDRESS=Simpsons Playground cnr Graceville Ave and Nadine St  Graceville Qld 4075 Australia;X-APPLE-RADIUS=500;X-TITLE=cnr Graceville Ave and Nadine St:geo:152.9920697,-27.5235837
END:VEVENT
BEGIN:VEVENT
DTSTART;TZID=Australia/Brisbane:20180729T070000
DTEND;TZID=Australia/Brisbane:20180729T093000
DTSTAMP:20260424T160912
CREATED:20180613T014635Z
LAST-MODIFIED:20180613T014635Z
UID:17410-1532847600-1532856600@nicolejohnston.com.au
SUMMARY:Graceville | Christ the King Fun Run
DESCRIPTION:
URL:https://nicolejohnston.com.au/event/graceville-christ-the-king-fun-run/
LOCATION:Simpsons Playground\, cnr Graceville Ave and Nadine St\,  Graceville\, Qld\, 4075\, Australia
GEO:-27.5235837;152.9920697
X-APPLE-STRUCTURED-LOCATION;VALUE=URI;X-ADDRESS=Simpsons Playground cnr Graceville Ave and Nadine St  Graceville Qld 4075 Australia;X-APPLE-RADIUS=500;X-TITLE=cnr Graceville Ave and Nadine St:geo:152.9920697,-27.5235837
END:VEVENT
BEGIN:VEVENT
DTSTART;TZID=Australia/Brisbane:20170119T130000
DTEND;TZID=Australia/Brisbane:20170119T160000
DTSTAMP:20260424T160912
CREATED:20170110T002125Z
LAST-MODIFIED:20170110T002125Z
UID:11266-1484830800-1484841600@nicolejohnston.com.au
SUMMARY:Canoe Games | Graceville
DESCRIPTION:Get a group of friends together\, or come on your own for three hours of fun with water games and activities. $5. Suitable for ages 10-17. \n 
URL:https://nicolejohnston.com.au/event/canoe-games-graceville/
LOCATION:Simpsons Playground\, cnr Graceville Ave and Nadine St\,  Graceville\, Qld\, 4075\, Australia
GEO:-27.5235837;152.9920697
X-APPLE-STRUCTURED-LOCATION;VALUE=URI;X-ADDRESS=Simpsons Playground cnr Graceville Ave and Nadine St  Graceville Qld 4075 Australia;X-APPLE-RADIUS=500;X-TITLE=cnr Graceville Ave and Nadine St:geo:152.9920697,-27.5235837
END:VEVENT
BEGIN:VEVENT
DTSTART;TZID=Australia/Brisbane:20160922T130000
DTEND;TZID=Australia/Brisbane:20160922T160000
DTSTAMP:20260424T160912
CREATED:20160913T045004Z
LAST-MODIFIED:20160913T051558Z
UID:10069-1474549200-1474560000@nicolejohnston.com.au
SUMMARY:School Holidays | Kayak Games
DESCRIPTION:Get a group of friends together\, or come on your own for three hours of fun with water games and activities. Bookings required.
URL:https://nicolejohnston.com.au/event/graceville-kayak-games/
LOCATION:Simpsons Playground\, cnr Graceville Ave and Nadine St\,  Graceville\, Qld\, 4075\, Australia
GEO:-27.5235837;152.9920697
X-APPLE-STRUCTURED-LOCATION;VALUE=URI;X-ADDRESS=Simpsons Playground cnr Graceville Ave and Nadine St  Graceville Qld 4075 Australia;X-APPLE-RADIUS=500;X-TITLE=cnr Graceville Ave and Nadine St:geo:152.9920697,-27.5235837
END:VEVENT
BEGIN:VEVENT
DTSTART;TZID=Australia/Brisbane:20160731T080000
DTEND;TZID=Australia/Brisbane:20160731T090000
DTSTAMP:20260424T160912
CREATED:20160624T055605Z
LAST-MODIFIED:20160624T055605Z
UID:9390-1469952000-1469955600@nicolejohnston.com.au
SUMMARY:Christ the King Fun Run
DESCRIPTION:2km or 5km options. Meet at Simpsons Playground. \nFor more info on course map\, prizes and how to enter\, visit CTK Graceville Fun Run Facebook page here
URL:https://nicolejohnston.com.au/event/christ-the-king-fun-run/
LOCATION:Simpsons Playground\, cnr Graceville Ave and Nadine St\,  Graceville\, Qld\, 4075\, Australia
GEO:-27.5235837;152.9920697
X-APPLE-STRUCTURED-LOCATION;VALUE=URI;X-ADDRESS=Simpsons Playground cnr Graceville Ave and Nadine St  Graceville Qld 4075 Australia;X-APPLE-RADIUS=500;X-TITLE=cnr Graceville Ave and Nadine St:geo:152.9920697,-27.5235837
END:VEVENT
END:VCALENDAR