BEGIN:VCALENDAR
VERSION:2.0
PRODID:-//Nicole Johnston - ECPv6.15.20//NONSGML v1.0//EN
CALSCALE:GREGORIAN
METHOD:PUBLISH
X-ORIGINAL-URL:https://nicolejohnston.com.au
X-WR-CALDESC:Events for Nicole Johnston
REFRESH-INTERVAL;VALUE=DURATION:PT1H
X-Robots-Tag:noindex
X-PUBLISHED-TTL:PT1H
BEGIN:VTIMEZONE
TZID:Australia/Brisbane
BEGIN:STANDARD
TZOFFSETFROM:+1000
TZOFFSETTO:+1000
TZNAME:AEST
DTSTART:20250101T000000
END:STANDARD
END:VTIMEZONE
BEGIN:VEVENT
DTSTART;TZID=Australia/Brisbane:20260424T163000
DTEND;TZID=Australia/Brisbane:20260424T173000
DTSTAMP:20260424T063209
CREATED:20260302T044015Z
LAST-MODIFIED:20260302T044015Z
UID:32182-1777048200-1777051800@nicolejohnston.com.au
SUMMARY:Graceville | Obstacle Training Circuit
DESCRIPTION:Join us for an exciting obstacle training circuit! Develop new skills and techniques on the obstacle course while building strength and improving your fitness. It’s a fun and energising session you won’t want to miss! Meet at the obstacle course at Simpsons Playground. \nNo bookings required. For more information phone Emma from Centenary Playground on 0419 592 777. \nMeet at the obstacle course at Simpsons Playground.
URL:https://nicolejohnston.com.au/event/graceville-obstacle-training-circuit-33/
LOCATION:Graceville Riverside Parklands\, Graceville Avenue\, Graceville\, Queensland\, 4075\, Australia
GEO:-27.5228793;152.9875616
X-APPLE-STRUCTURED-LOCATION;VALUE=URI;X-ADDRESS=Graceville Riverside Parklands Graceville Avenue Graceville Queensland 4075 Australia;X-APPLE-RADIUS=500;X-TITLE=Graceville Avenue:geo:152.9875616,-27.5228793
END:VEVENT
BEGIN:VEVENT
DTSTART;TZID=Australia/Brisbane:20260501T163000
DTEND;TZID=Australia/Brisbane:20260501T173000
DTSTAMP:20260424T063209
CREATED:20260302T052235Z
LAST-MODIFIED:20260302T052235Z
UID:32206-1777653000-1777656600@nicolejohnston.com.au
SUMMARY:Graceville | Obstacle Training Circuit
DESCRIPTION:Join us for an exciting obstacle training circuit! Develop new skills and techniques on the obstacle course while building strength and improving your fitness. It’s a fun and energising session you won’t want to miss! Meet at the obstacle course at Simpsons Playground. \nNo bookings required. For more information phone Emma from Centenary Playground on 0419 592 777.
URL:https://nicolejohnston.com.au/event/graceville-obstacle-training-circuit-34/
LOCATION:Graceville Riverside Parklands\, Graceville Avenue\, Graceville\, Queensland\, 4075\, Australia
GEO:-27.5228793;152.9875616
X-APPLE-STRUCTURED-LOCATION;VALUE=URI;X-ADDRESS=Graceville Riverside Parklands Graceville Avenue Graceville Queensland 4075 Australia;X-APPLE-RADIUS=500;X-TITLE=Graceville Avenue:geo:152.9875616,-27.5228793
END:VEVENT
BEGIN:VEVENT
DTSTART;TZID=Australia/Brisbane:20260508T163000
DTEND;TZID=Australia/Brisbane:20260508T173000
DTSTAMP:20260424T063209
CREATED:20260302T053913Z
LAST-MODIFIED:20260302T053913Z
UID:32226-1778257800-1778261400@nicolejohnston.com.au
SUMMARY:Graceville | Obstacle Training Circuit
DESCRIPTION:Join us for an exciting obstacle training circuit! Develop new skills and techniques on the obstacle course while building strength and improving your fitness. It’s a fun and energising session you won’t want to miss! Meet at the obstacle course at Simpsons Playground. \nNo bookings required. For more information phone Emma from Centenary Playground on 0419 592 777.
URL:https://nicolejohnston.com.au/event/graceville-obstacle-training-circuit-35/
LOCATION:Graceville Riverside Parklands\, Graceville Avenue\, Graceville\, Queensland\, 4075\, Australia
GEO:-27.5228793;152.9875616
X-APPLE-STRUCTURED-LOCATION;VALUE=URI;X-ADDRESS=Graceville Riverside Parklands Graceville Avenue Graceville Queensland 4075 Australia;X-APPLE-RADIUS=500;X-TITLE=Graceville Avenue:geo:152.9875616,-27.5228793
END:VEVENT
BEGIN:VEVENT
DTSTART;TZID=Australia/Brisbane:20260515T163000
DTEND;TZID=Australia/Brisbane:20260515T173000
DTSTAMP:20260424T063209
CREATED:20260319T010348Z
LAST-MODIFIED:20260319T010348Z
UID:32449-1778862600-1778866200@nicolejohnston.com.au
SUMMARY:Graceville | Obstacle Training Circuit
DESCRIPTION:Join us for an exciting obstacle training circuit! Develop new skills and techniques on the obstacle course while building strength and improving your fitness. It’s a fun and energising session you won’t want to miss! Meet at the obstacle course at Simpsons Playground. \nNo bookings required. For more information phone Emma from Centenary Playground on 0419 592 777.
URL:https://nicolejohnston.com.au/event/graceville-obstacle-training-circuit-36/
LOCATION:Graceville Riverside Parklands\, Graceville Avenue\, Graceville\, Queensland\, 4075\, Australia
GEO:-27.5228793;152.9875616
X-APPLE-STRUCTURED-LOCATION;VALUE=URI;X-ADDRESS=Graceville Riverside Parklands Graceville Avenue Graceville Queensland 4075 Australia;X-APPLE-RADIUS=500;X-TITLE=Graceville Avenue:geo:152.9875616,-27.5228793
END:VEVENT
BEGIN:VEVENT
DTSTART;TZID=Australia/Brisbane:20260522T163000
DTEND;TZID=Australia/Brisbane:20260522T173000
DTSTAMP:20260424T063209
CREATED:20260319T013805Z
LAST-MODIFIED:20260319T013805Z
UID:32475-1779467400-1779471000@nicolejohnston.com.au
SUMMARY:Graceville | Obstacle Training Circuit
DESCRIPTION:Join us for an exciting obstacle training circuit! Develop new skills and techniques on the obstacle course while building strength and improving your fitness. It’s a fun and energising session you won’t want to miss! Meet at the obstacle course at Simpsons Playground. \nNo bookings required. For more information phone Emma from Centenary Playground on 0419 592 777.
URL:https://nicolejohnston.com.au/event/graceville-obstacle-training-circuit-37/
LOCATION:Graceville Riverside Parklands\, Graceville Avenue\, Graceville\, Queensland\, 4075\, Australia
GEO:-27.5228793;152.9875616
X-APPLE-STRUCTURED-LOCATION;VALUE=URI;X-ADDRESS=Graceville Riverside Parklands Graceville Avenue Graceville Queensland 4075 Australia;X-APPLE-RADIUS=500;X-TITLE=Graceville Avenue:geo:152.9875616,-27.5228793
END:VEVENT
BEGIN:VEVENT
DTSTART;TZID=Australia/Brisbane:20260529T163000
DTEND;TZID=Australia/Brisbane:20260529T173000
DTSTAMP:20260424T063209
CREATED:20260319T021927Z
LAST-MODIFIED:20260319T021927Z
UID:32501-1780072200-1780075800@nicolejohnston.com.au
SUMMARY:Graceville | Obstacle Training Circuit
DESCRIPTION:Join us for an exciting obstacle training circuit! Develop new skills and techniques on the obstacle course while building strength and improving your fitness. It’s a fun and energising session you won’t want to miss! Meet at the obstacle course at Simpsons Playground. \nNo bookings required. For more information phone Emma from Centenary Playground on 0419 592 777.
URL:https://nicolejohnston.com.au/event/graceville-obstacle-training-circuit-38/
LOCATION:Graceville Riverside Parklands\, Graceville Avenue\, Graceville\, Queensland\, 4075\, Australia
GEO:-27.5228793;152.9875616
X-APPLE-STRUCTURED-LOCATION;VALUE=URI;X-ADDRESS=Graceville Riverside Parklands Graceville Avenue Graceville Queensland 4075 Australia;X-APPLE-RADIUS=500;X-TITLE=Graceville Avenue:geo:152.9875616,-27.5228793
END:VEVENT
END:VCALENDAR