BEGIN:VCALENDAR
VERSION:2.0
PRODID:-//Nicole Johnston - ECPv6.15.20//NONSGML v1.0//EN
CALSCALE:GREGORIAN
METHOD:PUBLISH
X-ORIGINAL-URL:https://nicolejohnston.com.au
X-WR-CALDESC:Events for Nicole Johnston
REFRESH-INTERVAL;VALUE=DURATION:PT1H
X-Robots-Tag:noindex
X-PUBLISHED-TTL:PT1H
BEGIN:VTIMEZONE
TZID:Australia/Brisbane
BEGIN:STANDARD
TZOFFSETFROM:+1000
TZOFFSETTO:+1000
TZNAME:AEST
DTSTART:20170101T000000
END:STANDARD
END:VTIMEZONE
BEGIN:VEVENT
DTSTART;TZID=Australia/Brisbane:20191102T100000
DTEND;TZID=Australia/Brisbane:20191102T120000
DTSTAMP:20260424T161120
CREATED:20190916T022109Z
LAST-MODIFIED:20190916T022110Z
UID:19493-1572688800-1572696000@nicolejohnston.com.au
SUMMARY:Souths Graceville Hounds Rugby League Club Sign On Day
DESCRIPTION:
URL:https://nicolejohnston.com.au/event/souths-graceville-hounds-rugby-league-club-sign-on-day/
LOCATION:Souths Graceville Rugby League Club\, 247 Graceville Ave\, Graceville\, Qld\, 4075\, Australia
END:VEVENT
BEGIN:VEVENT
DTSTART;TZID=Australia/Brisbane:20181013T170000
DTEND;TZID=Australia/Brisbane:20181013T200000
DTSTAMP:20260424T161120
CREATED:20181011T020830Z
LAST-MODIFIED:20181011T020831Z
UID:17983-1539450000-1539460800@nicolejohnston.com.au
SUMMARY:Graceville | Family Fun Day
DESCRIPTION:
URL:https://nicolejohnston.com.au/event/graceville-family-fun-day/
LOCATION:Souths Graceville Rugby League Club\, 247 Graceville Ave\, Graceville\, Qld\, 4075\, Australia
END:VEVENT
END:VCALENDAR