BEGIN:VCALENDAR
VERSION:2.0
PRODID:-//Nicole Johnston - ECPv6.15.20//NONSGML v1.0//EN
CALSCALE:GREGORIAN
METHOD:PUBLISH
X-ORIGINAL-URL:https://nicolejohnston.com.au
X-WR-CALDESC:Events for Nicole Johnston
REFRESH-INTERVAL;VALUE=DURATION:PT1H
X-Robots-Tag:noindex
X-PUBLISHED-TTL:PT1H
BEGIN:VTIMEZONE
TZID:Australia/Brisbane
BEGIN:STANDARD
TZOFFSETFROM:+1000
TZOFFSETTO:+1000
TZNAME:AEST
DTSTART:20140101T000000
END:STANDARD
END:VTIMEZONE
BEGIN:VEVENT
DTSTART;TZID=Australia/Brisbane:20251214T183000
DTEND;TZID=Australia/Brisbane:20251214T200000
DTSTAMP:20260424T104832
CREATED:20251023T065332Z
LAST-MODIFIED:20251023T065332Z
UID:31069-1765737000-1765742400@nicolejohnston.com.au
SUMMARY:Chelmer | St David's Anglican Church Christmas Carols
DESCRIPTION:
URL:https://nicolejohnston.com.au/event/chelmer-st-davids-anglican-church-christmas-carols/
LOCATION:St David’s Anglican Church\, 62 Chelmer St East\, Chelmer\, Queensland\, 4068\, Australia
CATEGORIES:Community Event
ATTACH;FMTTYPE=image/jpeg:https://nicolejohnston.com.au/wp-content/uploads/2025/10/St-Davids-Christmas-Carols-2025.jpg
GEO:-27.514588;152.973768
X-APPLE-STRUCTURED-LOCATION;VALUE=URI;X-ADDRESS=St David’s Anglican Church 62 Chelmer St East Chelmer Queensland 4068 Australia;X-APPLE-RADIUS=500;X-TITLE=62 Chelmer St East:geo:152.973768,-27.514588
END:VEVENT
BEGIN:VEVENT
DTSTART;TZID=Australia/Brisbane:20251025T090000
DTEND;TZID=Australia/Brisbane:20251025T130000
DTSTAMP:20260424T104832
CREATED:20250924T053935Z
LAST-MODIFIED:20250924T053936Z
UID:31015-1761382800-1761397200@nicolejohnston.com.au
SUMMARY:Chelmer | St David's Community Fete
DESCRIPTION:
URL:https://nicolejohnston.com.au/event/chelmer-st-davids-community-fete-2/
LOCATION:St David’s Anglican Church\, 62 Chelmer St East\, Chelmer\, Queensland\, 4068\, Australia
CATEGORIES:Community Event
ATTACH;FMTTYPE=image/png:https://nicolejohnston.com.au/wp-content/uploads/2025/09/St-Davids-Fete-2025-1.png
GEO:-27.514588;152.973768
X-APPLE-STRUCTURED-LOCATION;VALUE=URI;X-ADDRESS=St David’s Anglican Church 62 Chelmer St East Chelmer Queensland 4068 Australia;X-APPLE-RADIUS=500;X-TITLE=62 Chelmer St East:geo:152.973768,-27.514588
END:VEVENT
BEGIN:VEVENT
DTSTART;TZID=Australia/Brisbane:20241215T183000
DTEND;TZID=Australia/Brisbane:20241215T200000
DTSTAMP:20260424T104832
CREATED:20241023T014110Z
LAST-MODIFIED:20241023T014112Z
UID:28364-1734287400-1734292800@nicolejohnston.com.au
SUMMARY:Chelmer | St David's Family Christmas Carols
DESCRIPTION:
URL:https://nicolejohnston.com.au/event/chelmer-st-davids-family-christmas-carols/
LOCATION:St David’s Anglican Church\, 62 Chelmer St East\, Chelmer\, Queensland\, 4068\, Australia
CATEGORIES:Community Event
ATTACH;FMTTYPE=image/jpeg:https://nicolejohnston.com.au/wp-content/uploads/2024/10/St-Davids-Christmas-Carols-Flyer-2024.jpg
GEO:-27.514588;152.973768
X-APPLE-STRUCTURED-LOCATION;VALUE=URI;X-ADDRESS=St David’s Anglican Church 62 Chelmer St East Chelmer Queensland 4068 Australia;X-APPLE-RADIUS=500;X-TITLE=62 Chelmer St East:geo:152.973768,-27.514588
END:VEVENT
BEGIN:VEVENT
DTSTART;TZID=Australia/Brisbane:20231217T183000
DTEND;TZID=Australia/Brisbane:20231217T200000
DTSTAMP:20260424T104832
CREATED:20231026T043818Z
LAST-MODIFIED:20231026T043820Z
UID:27009-1702837800-1702843200@nicolejohnston.com.au
SUMMARY:Chelmer | St David's Church Christmas Carols
DESCRIPTION:
URL:https://nicolejohnston.com.au/event/chelmer-st-davids-church-christmas-carols/
LOCATION:St David’s Anglican Church\, 62 Chelmer St East\, Chelmer\, Queensland\, 4068\, Australia
CATEGORIES:Community Event
ATTACH;FMTTYPE=image/png:https://nicolejohnston.com.au/wp-content/uploads/2023/10/St-Davids-Christmas-Carols.png
GEO:-27.514588;152.973768
X-APPLE-STRUCTURED-LOCATION;VALUE=URI;X-ADDRESS=St David’s Anglican Church 62 Chelmer St East Chelmer Queensland 4068 Australia;X-APPLE-RADIUS=500;X-TITLE=62 Chelmer St East:geo:152.973768,-27.514588
END:VEVENT
BEGIN:VEVENT
DTSTART;TZID=Australia/Brisbane:20231118T090000
DTEND;TZID=Australia/Brisbane:20231118T130000
DTSTAMP:20260424T104832
CREATED:20231026T043415Z
LAST-MODIFIED:20231026T043417Z
UID:27006-1700298000-1700312400@nicolejohnston.com.au
SUMMARY:Chelmer | St David's Church Christmas Market
DESCRIPTION:
URL:https://nicolejohnston.com.au/event/chelmer-st-davids-church-christmas-market/
LOCATION:St David’s Anglican Church\, 62 Chelmer St East\, Chelmer\, Queensland\, 4068\, Australia
CATEGORIES:Community Event
ATTACH;FMTTYPE=image/png:https://nicolejohnston.com.au/wp-content/uploads/2023/10/Christmas-market-St-Davids.png
GEO:-27.514588;152.973768
X-APPLE-STRUCTURED-LOCATION;VALUE=URI;X-ADDRESS=St David’s Anglican Church 62 Chelmer St East Chelmer Queensland 4068 Australia;X-APPLE-RADIUS=500;X-TITLE=62 Chelmer St East:geo:152.973768,-27.514588
END:VEVENT
BEGIN:VEVENT
DTSTART;TZID=Australia/Brisbane:20221218T183000
DTEND;TZID=Australia/Brisbane:20221218T200000
DTSTAMP:20260424T104832
CREATED:20221130T062600Z
LAST-MODIFIED:20221130T062601Z
UID:25906-1671388200-1671393600@nicolejohnston.com.au
SUMMARY:Chelmer | St David's Christmas Carols
DESCRIPTION:
URL:https://nicolejohnston.com.au/event/chelmer-st-davids-christmas-carols/
LOCATION:St David’s Anglican Church\, 62 Chelmer St East\, Chelmer\, Queensland\, 4068\, Australia
CATEGORIES:Community Event
ATTACH;FMTTYPE=image/png:https://nicolejohnston.com.au/wp-content/uploads/2022/11/Chelmer-Xmas-2022-Facebook-Post.png
GEO:-27.514588;152.973768
X-APPLE-STRUCTURED-LOCATION;VALUE=URI;X-ADDRESS=St David’s Anglican Church 62 Chelmer St East Chelmer Queensland 4068 Australia;X-APPLE-RADIUS=500;X-TITLE=62 Chelmer St East:geo:152.973768,-27.514588
END:VEVENT
BEGIN:VEVENT
DTSTART;TZID=Australia/Brisbane:20221112T090000
DTEND;TZID=Australia/Brisbane:20221112T130000
DTSTAMP:20260424T104832
CREATED:20221108T035617Z
LAST-MODIFIED:20221108T035618Z
UID:25860-1668243600-1668258000@nicolejohnston.com.au
SUMMARY:Chelmer | St David's Community Fete
DESCRIPTION:Featuring a free jumping castle\, free baby animal farm\, craft stalls\, entertainment\, market stalls\, food and more.
URL:https://nicolejohnston.com.au/event/chelmer-st-davids-community-fete/
LOCATION:St David’s Anglican Church\, 62 Chelmer St East\, Chelmer\, Queensland\, 4068\, Australia
CATEGORIES:Community Event
ATTACH;FMTTYPE=image/png:https://nicolejohnston.com.au/wp-content/uploads/2022/11/Green-School-Fete-Carnival-Poster-2.png
GEO:-27.514588;152.973768
X-APPLE-STRUCTURED-LOCATION;VALUE=URI;X-ADDRESS=St David’s Anglican Church 62 Chelmer St East Chelmer Queensland 4068 Australia;X-APPLE-RADIUS=500;X-TITLE=62 Chelmer St East:geo:152.973768,-27.514588
END:VEVENT
BEGIN:VEVENT
DTSTART;TZID=Australia/Brisbane:20211204T150000
DTEND;TZID=Australia/Brisbane:20211204T180000
DTSTAMP:20260424T104832
CREATED:20211109T050509Z
LAST-MODIFIED:20211109T050509Z
UID:25154-1638630000-1638640800@nicolejohnston.com.au
SUMMARY:Chelmer | St David's Christmas Fete
DESCRIPTION:Join in the celebration of Christmas and the opening of the renovated Church building. Enjoy a sausage sizzle; craft; cake; sweets; jams/pickles; books; bric a brac; free jumping castle; and free baby animals. Quiet reflective space also available.
URL:https://nicolejohnston.com.au/event/chelmer-st-davids-christmas-fete/
LOCATION:St David’s Anglican Church\, 62 Chelmer St East\, Chelmer\, Queensland\, 4068\, Australia
CATEGORIES:Community Event
ATTACH;FMTTYPE=image/png:https://nicolejohnston.com.au/wp-content/uploads/2021/11/St-Davids-Christmas.png
GEO:-27.514588;152.973768
X-APPLE-STRUCTURED-LOCATION;VALUE=URI;X-ADDRESS=St David’s Anglican Church 62 Chelmer St East Chelmer Queensland 4068 Australia;X-APPLE-RADIUS=500;X-TITLE=62 Chelmer St East:geo:152.973768,-27.514588
END:VEVENT
BEGIN:VEVENT
DTSTART;TZID=Australia/Brisbane:20191221T170000
DTEND;TZID=Australia/Brisbane:20191221T200000
DTSTAMP:20260424T104832
CREATED:20191114T043235Z
LAST-MODIFIED:20191114T043235Z
UID:19848-1576947600-1576958400@nicolejohnston.com.au
SUMMARY:Chelmer | Christmas Festival
DESCRIPTION:
URL:https://nicolejohnston.com.au/event/chelmer-christmas-festival/
LOCATION:St David’s Anglican Church\, 62 Chelmer St East\, Chelmer\, Queensland\, 4068\, Australia
GEO:-27.514588;152.973768
X-APPLE-STRUCTURED-LOCATION;VALUE=URI;X-ADDRESS=St David’s Anglican Church 62 Chelmer St East Chelmer Queensland 4068 Australia;X-APPLE-RADIUS=500;X-TITLE=62 Chelmer St East:geo:152.973768,-27.514588
END:VEVENT
BEGIN:VEVENT
DTSTART;TZID=Australia/Brisbane:20190803T100000
DTEND;TZID=Australia/Brisbane:20190803T140000
DTSTAMP:20260424T104832
CREATED:20190703T004702Z
LAST-MODIFIED:20190703T004702Z
UID:19074-1564826400-1564840800@nicolejohnston.com.au
SUMMARY:St David's Fete
DESCRIPTION:
URL:https://nicolejohnston.com.au/event/st-davids-fete/
LOCATION:St David’s Anglican Church\, 62 Chelmer St East\, Chelmer\, Queensland\, 4068\, Australia
GEO:-27.514588;152.973768
X-APPLE-STRUCTURED-LOCATION;VALUE=URI;X-ADDRESS=St David’s Anglican Church 62 Chelmer St East Chelmer Queensland 4068 Australia;X-APPLE-RADIUS=500;X-TITLE=62 Chelmer St East:geo:152.973768,-27.514588
END:VEVENT
BEGIN:VEVENT
DTSTART;TZID=Australia/Brisbane:20171217T170000
DTEND;TZID=Australia/Brisbane:20171217T200000
DTSTAMP:20260424T104832
CREATED:20171102T021439Z
LAST-MODIFIED:20171102T021439Z
UID:14341-1513530000-1513540800@nicolejohnston.com.au
SUMMARY:St David's Anglican Church Community Christmas Festival
DESCRIPTION:Free jumping castle and petting zoo. Christmas and food stalls. Come along for a great annual community event. I hope to see you there!
URL:https://nicolejohnston.com.au/event/st-davids-anglican-church-community-christmas-festival/
LOCATION:St David’s Anglican Church\, 62 Chelmer St East\, Chelmer\, Queensland\, 4068\, Australia
GEO:-27.514588;152.973768
X-APPLE-STRUCTURED-LOCATION;VALUE=URI;X-ADDRESS=St David’s Anglican Church 62 Chelmer St East Chelmer Queensland 4068 Australia;X-APPLE-RADIUS=500;X-TITLE=62 Chelmer St East:geo:152.973768,-27.514588
END:VEVENT
BEGIN:VEVENT
DTSTART;TZID=Australia/Brisbane:20171217T170000
DTEND;TZID=Australia/Brisbane:20171217T190000
DTSTAMP:20260424T104832
CREATED:20171114T005511Z
LAST-MODIFIED:20171114T005511Z
UID:14459-1513530000-1513537200@nicolejohnston.com.au
SUMMARY:Chelmer | St David's Anglican Xmas Festival
DESCRIPTION:Join me to celebrate the Christmas season at St David’s Anglican Christmas Festival from 5pm on Sunday\, 17 December. Come along and enjoy children’s activities\, such as jumping castle and petting zoo\, as well as yummy baked goods and christmas stalls. The festival will be held at St David’s Church\, 62 Chelmer St E\, Chelmer.
URL:https://nicolejohnston.com.au/event/chelmer-st-davids-anglican-xmas-festival/
LOCATION:St David’s Anglican Church\, 62 Chelmer St East\, Chelmer\, Queensland\, 4068\, Australia
GEO:-27.514588;152.973768
X-APPLE-STRUCTURED-LOCATION;VALUE=URI;X-ADDRESS=St David’s Anglican Church 62 Chelmer St East Chelmer Queensland 4068 Australia;X-APPLE-RADIUS=500;X-TITLE=62 Chelmer St East:geo:152.973768,-27.514588
END:VEVENT
BEGIN:VEVENT
DTSTART;TZID=Australia/Brisbane:20170729T100000
DTEND;TZID=Australia/Brisbane:20170729T140000
DTSTAMP:20260424T104832
CREATED:20170703T231336Z
LAST-MODIFIED:20170703T231336Z
UID:13004-1501322400-1501336800@nicolejohnston.com.au
SUMMARY:St David's Church Fete
DESCRIPTION:
URL:https://nicolejohnston.com.au/event/st-davids-church-fete/
LOCATION:St David’s Anglican Church\, 62 Chelmer St East\, Chelmer\, Queensland\, 4068\, Australia
GEO:-27.514588;152.973768
X-APPLE-STRUCTURED-LOCATION;VALUE=URI;X-ADDRESS=St David’s Anglican Church 62 Chelmer St East Chelmer Queensland 4068 Australia;X-APPLE-RADIUS=500;X-TITLE=62 Chelmer St East:geo:152.973768,-27.514588
END:VEVENT
BEGIN:VEVENT
DTSTART;TZID=Australia/Brisbane:20151220T190000
DTEND;TZID=Australia/Brisbane:20151220T210000
DTSTAMP:20260424T104832
CREATED:20151110T101324Z
LAST-MODIFIED:20151110T101324Z
UID:5504-1450638000-1450645200@nicolejohnston.com.au
SUMMARY:St David's Carols
DESCRIPTION:Join us for an evening of carols followed by a free community supper.
URL:https://nicolejohnston.com.au/event/st-davids-carols/
LOCATION:St David’s Anglican Church\, 62 Chelmer St East\, Chelmer\, Queensland\, 4068\, Australia
GEO:-27.514588;152.973768
X-APPLE-STRUCTURED-LOCATION;VALUE=URI;X-ADDRESS=St David’s Anglican Church 62 Chelmer St East Chelmer Queensland 4068 Australia;X-APPLE-RADIUS=500;X-TITLE=62 Chelmer St East:geo:152.973768,-27.514588
END:VEVENT
BEGIN:VEVENT
DTSTART;TZID=Australia/Brisbane:20151219T180000
DTEND;TZID=Australia/Brisbane:20151219T190000
DTSTAMP:20260424T104832
CREATED:20150721T011227Z
LAST-MODIFIED:20151111T074126Z
UID:3541-1450548000-1450551600@nicolejohnston.com.au
SUMMARY:St David's Chelmer Christmas Pageant
DESCRIPTION:Annual Christmas nativity play and carols for Chelmer and surrounding suburbs
URL:https://nicolejohnston.com.au/event/st-davids-chelmer-christmas-pageant/
LOCATION:St David’s Anglican Church\, 62 Chelmer St East\, Chelmer\, Queensland\, 4068\, Australia
GEO:-27.514588;152.973768
X-APPLE-STRUCTURED-LOCATION;VALUE=URI;X-ADDRESS=St David’s Anglican Church 62 Chelmer St East Chelmer Queensland 4068 Australia;X-APPLE-RADIUS=500;X-TITLE=62 Chelmer St East:geo:152.973768,-27.514588
END:VEVENT
BEGIN:VEVENT
DTSTART;TZID=Australia/Brisbane:20150725T100000
DTEND;TZID=Australia/Brisbane:20150725T140000
DTSTAMP:20260424T104832
CREATED:20150720T044732Z
LAST-MODIFIED:20150720T044732Z
UID:3509-1437818400-1437832800@nicolejohnston.com.au
SUMMARY:St David's Anglican Church Fete
DESCRIPTION:Enjoy some delicious food in the Church grounds: Hamburgers\, Korean BBQ\, Devonshire Tea\, Chocolates\, Hot Soup\, Strawberries & Cream\, Ice-Cream \nFun for all children: jumping castle\, toddler collage\, kids craft and kids raffle! \nMega Raffle & Chocolate Wheel. \nThere’ll also be live entertainment and a vintage bridal gown display.
URL:https://nicolejohnston.com.au/event/st-davids-anglican-church-fete/
LOCATION:St David’s Anglican Church\, 62 Chelmer St East\, Chelmer\, Queensland\, 4068\, Australia
GEO:-27.514588;152.973768
X-APPLE-STRUCTURED-LOCATION;VALUE=URI;X-ADDRESS=St David’s Anglican Church 62 Chelmer St East Chelmer Queensland 4068 Australia;X-APPLE-RADIUS=500;X-TITLE=62 Chelmer St East:geo:152.973768,-27.514588
END:VEVENT
BEGIN:VEVENT
DTSTART;TZID=Australia/Brisbane:20150721T091500
DTEND;TZID=Australia/Brisbane:20150721T103000
DTSTAMP:20260424T104832
CREATED:20150720T051247Z
LAST-MODIFIED:20150720T051247Z
UID:3514-1437470100-1437474600@nicolejohnston.com.au
SUMMARY:Edward Bear Club - Chelmer
DESCRIPTION:There will be Messy play\, Music\, Craft and Story time for babies and toddlers and their parents\, grandparents or carers. \nWe welcome you to come along with a little one for a morning of messy fun; it is free and morning tea will be provided. \nIf you know someone who might like to come along please let them know Edward Bear is back\, all are welcome. \n***Please note that the Edward Bear Club does not run during school holidays.
URL:https://nicolejohnston.com.au/event/edward-bear-club-chelmer/2015-07-21/
LOCATION:St David’s Anglican Church\, 62 Chelmer St East\, Chelmer\, Queensland\, 4068\, Australia
GEO:-27.514588;152.973768
X-APPLE-STRUCTURED-LOCATION;VALUE=URI;X-ADDRESS=St David’s Anglican Church 62 Chelmer St East Chelmer Queensland 4068 Australia;X-APPLE-RADIUS=500;X-TITLE=62 Chelmer St East:geo:152.973768,-27.514588
END:VEVENT
END:VCALENDAR