BEGIN:VCALENDAR
VERSION:2.0
PRODID:-//Nicole Johnston - ECPv6.15.20//NONSGML v1.0//EN
CALSCALE:GREGORIAN
METHOD:PUBLISH
X-WR-CALNAME:Nicole Johnston
X-ORIGINAL-URL:https://nicolejohnston.com.au
X-WR-CALDESC:Events for Nicole Johnston
REFRESH-INTERVAL;VALUE=DURATION:PT1H
X-Robots-Tag:noindex
X-PUBLISHED-TTL:PT1H
BEGIN:VTIMEZONE
TZID:Australia/Brisbane
BEGIN:STANDARD
TZOFFSETFROM:+1000
TZOFFSETTO:+1000
TZNAME:AEST
DTSTART:20140101T000000
END:STANDARD
END:VTIMEZONE
BEGIN:VEVENT
DTSTART;TZID=Australia/Brisbane:20250531T110000
DTEND;TZID=Australia/Brisbane:20250531T190000
DTSTAMP:20260424T163311
CREATED:20250424T032254Z
LAST-MODIFIED:20250424T032254Z
UID:29598-1748689200-1748718000@nicolejohnston.com.au
SUMMARY:Yeronga | St Sebastian's Primary School Fete
DESCRIPTION:A jam-packed day of family-friendly fun\, rides\, games\, stalls\, food and drinks at the 2025 St Sebastian’s Fete!
URL:https://nicolejohnston.com.au/event/yeronga-st-sebastians-primary-school-fete/
LOCATION:St Sebastian’s School\, Kadumba Street\, Yeronga\, Queensland\, 4104\, Australia
CATEGORIES:Community Event
ATTACH;FMTTYPE=image/jpeg:https://nicolejohnston.com.au/wp-content/uploads/2025/04/St-Sebastians-School-Fete-2025.jpg
GEO:-27.515171;153.0119597
X-APPLE-STRUCTURED-LOCATION;VALUE=URI;X-ADDRESS=St Sebastian’s School Kadumba Street Yeronga Queensland 4104 Australia;X-APPLE-RADIUS=500;X-TITLE=Kadumba Street:geo:153.0119597,-27.515171
END:VEVENT
BEGIN:VEVENT
DTSTART;TZID=Australia/Brisbane:20250429T073000
DTEND;TZID=Australia/Brisbane:20250429T083000
DTSTAMP:20260424T163311
CREATED:20250424T032653Z
LAST-MODIFIED:20250424T032653Z
UID:29602-1745911800-1745915400@nicolejohnston.com.au
SUMMARY:Yeronga | St Sebastian's Primary School Community Coffee & Tour
DESCRIPTION:St Sebastian’s School invites new families\, current families and past students to their Open Week event!\n\nEvent highlights:• Tour the school• Meet the Principal and friendly staff• Grab a coffee• Connect with other prospective families and current students.\n\nRSVP to stay up to date with the event details and reminders. Register online: https://forms.office.com/r/3FJR1QvZWs
URL:https://nicolejohnston.com.au/event/yeronga-st-sebastians-primary-school-community-coffee-tour/
LOCATION:St Sebastian’s School\, Kadumba Street\, Yeronga\, Queensland\, 4104\, Australia
GEO:-27.515171;153.0119597
X-APPLE-STRUCTURED-LOCATION;VALUE=URI;X-ADDRESS=St Sebastian’s School Kadumba Street Yeronga Queensland 4104 Australia;X-APPLE-RADIUS=500;X-TITLE=Kadumba Street:geo:153.0119597,-27.515171
END:VEVENT
BEGIN:VEVENT
DTSTART;TZID=Australia/Brisbane:20231021T110000
DTEND;TZID=Australia/Brisbane:20231021T160000
DTSTAMP:20260424T163311
CREATED:20230831T005037Z
LAST-MODIFIED:20230831T005037Z
UID:26897-1697886000-1697904000@nicolejohnston.com.au
SUMMARY:Yeronga | St Sebastian's School 'Under the Sea Spectacular' Fete
DESCRIPTION:An exciting day of fun\, rides\, stalls\, games and food at the St Sebastian’s Under The Sea Spectacular.
URL:https://nicolejohnston.com.au/event/yeronga-st-sebastians-school-under-the-sea-spectacular-fete/
LOCATION:St Sebastian’s School\, Kadumba Street\, Yeronga\, Queensland\, 4104\, Australia
CATEGORIES:Community Event
ATTACH;FMTTYPE=image/jpeg:https://nicolejohnston.com.au/wp-content/uploads/2023/08/Under-the-Sea-Fete.jpg
GEO:-27.515171;153.0119597
X-APPLE-STRUCTURED-LOCATION;VALUE=URI;X-ADDRESS=St Sebastian’s School Kadumba Street Yeronga Queensland 4104 Australia;X-APPLE-RADIUS=500;X-TITLE=Kadumba Street:geo:153.0119597,-27.515171
END:VEVENT
BEGIN:VEVENT
DTSTART;TZID=Australia/Brisbane:20220911T100000
DTEND;TZID=Australia/Brisbane:20220911T140000
DTSTAMP:20260424T163311
CREATED:20220906T035013Z
LAST-MODIFIED:20220906T035014Z
UID:25781-1662890400-1662904800@nicolejohnston.com.au
SUMMARY:Yeronga | St Seb's Spring Bloom Art & Design Show
DESCRIPTION:This much-loved biennial exhibition showcases the work of local artists + features creative activities for the kids to enjoy and beautiful displays of artwork made by the children of St Sebastian’s\, celebrating all that is creative and inspiring for the whole family.
URL:https://nicolejohnston.com.au/event/yeronga-st-sebs-spring-bloom-art-design-show/
LOCATION:St Sebastian’s School\, Kadumba Street\, Yeronga\, Queensland\, 4104\, Australia
CATEGORIES:Community Event
ATTACH;FMTTYPE=image/jpeg:https://nicolejohnston.com.au/wp-content/uploads/2022/09/Yeronga-Spring-Art-Show.jpg
GEO:-27.515171;153.0119597
X-APPLE-STRUCTURED-LOCATION;VALUE=URI;X-ADDRESS=St Sebastian’s School Kadumba Street Yeronga Queensland 4104 Australia;X-APPLE-RADIUS=500;X-TITLE=Kadumba Street:geo:153.0119597,-27.515171
END:VEVENT
BEGIN:VEVENT
DTSTART;TZID=Australia/Brisbane:20211023T130000
DTEND;TZID=Australia/Brisbane:20211023T200000
DTSTAMP:20260424T163311
CREATED:20210929T022801Z
LAST-MODIFIED:20210929T022801Z
UID:25076-1634994000-1635019200@nicolejohnston.com.au
SUMMARY:Yeronga | St Sebastian's Family Fun Day
DESCRIPTION:Enjoy food\, coffee\, rides\, stalls\, live performances\, kids’ activities and a movie at the “around the world in a day” themed Family Fun Day.
URL:https://nicolejohnston.com.au/event/yeronga-st-sebastians-family-fun-day/
LOCATION:St Sebastian’s School\, Kadumba Street\, Yeronga\, Queensland\, 4104\, Australia
GEO:-27.515171;153.0119597
X-APPLE-STRUCTURED-LOCATION;VALUE=URI;X-ADDRESS=St Sebastian’s School Kadumba Street Yeronga Queensland 4104 Australia;X-APPLE-RADIUS=500;X-TITLE=Kadumba Street:geo:153.0119597,-27.515171
END:VEVENT
BEGIN:VEVENT
DTSTART;TZID=Australia/Brisbane:20191012T110000
DTEND;TZID=Australia/Brisbane:20191012T190000
DTSTAMP:20260424T163311
CREATED:20190923T005654Z
LAST-MODIFIED:20190929T091151Z
UID:19551-1570878000-1570906800@nicolejohnston.com.au
SUMMARY:St Sebastian's Primary School Fete
DESCRIPTION:
URL:https://nicolejohnston.com.au/event/st-sebastians-primary-school-fete-2/
LOCATION:St Sebastian’s School\, Kadumba Street\, Yeronga\, Queensland\, 4104\, Australia
GEO:-27.515171;153.0119597
X-APPLE-STRUCTURED-LOCATION;VALUE=URI;X-ADDRESS=St Sebastian’s School Kadumba Street Yeronga Queensland 4104 Australia;X-APPLE-RADIUS=500;X-TITLE=Kadumba Street:geo:153.0119597,-27.515171
END:VEVENT
BEGIN:VEVENT
DTSTART;TZID=Australia/Brisbane:20180520T120000
DTEND;TZID=Australia/Brisbane:20180520T170000
DTSTAMP:20260424T163311
CREATED:20180502T045605Z
LAST-MODIFIED:20180502T045605Z
UID:16055-1526817600-1526835600@nicolejohnston.com.au
SUMMARY:St Sebastian's Mother's Day High tea
DESCRIPTION:
URL:https://nicolejohnston.com.au/event/st-sebastians-mothers-day-high-tea/
LOCATION:St Sebastian’s School\, Kadumba Street\, Yeronga\, Queensland\, 4104\, Australia
GEO:-27.515171;153.0119597
X-APPLE-STRUCTURED-LOCATION;VALUE=URI;X-ADDRESS=St Sebastian’s School Kadumba Street Yeronga Queensland 4104 Australia;X-APPLE-RADIUS=500;X-TITLE=Kadumba Street:geo:153.0119597,-27.515171
END:VEVENT
BEGIN:VEVENT
DTSTART;TZID=Australia/Brisbane:20171014T110000
DTEND;TZID=Australia/Brisbane:20171014T190000
DTSTAMP:20260424T163311
CREATED:20170703T231709Z
LAST-MODIFIED:20170703T231709Z
UID:13010-1507978800-1508007600@nicolejohnston.com.au
SUMMARY:St Sebastian's Primary School Fete
DESCRIPTION:
URL:https://nicolejohnston.com.au/event/st-sebastians-primary-school-fete/
LOCATION:St Sebastian’s School\, Kadumba Street\, Yeronga\, Queensland\, 4104\, Australia
GEO:-27.515171;153.0119597
X-APPLE-STRUCTURED-LOCATION;VALUE=URI;X-ADDRESS=St Sebastian’s School Kadumba Street Yeronga Queensland 4104 Australia;X-APPLE-RADIUS=500;X-TITLE=Kadumba Street:geo:153.0119597,-27.515171
END:VEVENT
BEGIN:VEVENT
DTSTART;TZID=Australia/Brisbane:20150905T120000
DTEND;TZID=Australia/Brisbane:20150905T180000
DTSTAMP:20260424T163311
CREATED:20150720T044951Z
LAST-MODIFIED:20150904T024731Z
UID:3512-1441454400-1441476000@nicolejohnston.com.au
SUMMARY:St Sebastian's Yeronga Community Fair
DESCRIPTION:Rides ~ Markets ~ Entertainment ~ Food Bar & More
URL:https://nicolejohnston.com.au/event/st-sebastians-yeronga-community-fair/
LOCATION:St Sebastian’s School\, Kadumba Street\, Yeronga\, Queensland\, 4104\, Australia
GEO:-27.515171;153.0119597
X-APPLE-STRUCTURED-LOCATION;VALUE=URI;X-ADDRESS=St Sebastian’s School Kadumba Street Yeronga Queensland 4104 Australia;X-APPLE-RADIUS=500;X-TITLE=Kadumba Street:geo:153.0119597,-27.515171
END:VEVENT
BEGIN:VEVENT
DTSTART;TZID=Australia/Brisbane:20150228T183000
DTEND;TZID=Australia/Brisbane:20150228T203000
DTSTAMP:20260424T163311
CREATED:20150224T043852Z
LAST-MODIFIED:20150224T085034Z
UID:973-1425148200-1425155400@nicolejohnston.com.au
SUMMARY:Yeronga Movie in the Park
DESCRIPTION:How To Train Your Dragon 2 \nIn the case of wet weather\, contact 3403 8888 on the day. \nFive years have passed since Hiccup and Toothless united the dragons and Vikings of Berk. Now\, they spend their time charting the island’s unmapped territories. During one of their adventures\, the pair discover a secret cave that houses hundreds of wild dragons — and a mysterious dragon rider who turns out to be Hiccup’s long-lost mother\, Valka. Hiccup and Toothless then find themselves at the centre of a battle to protect Berk from a power-hungry warrior named Drago.
URL:https://nicolejohnston.com.au/event/yeronga-movie-in-the-park/
LOCATION:St Sebastian’s School\, Kadumba Street\, Yeronga\, Queensland\, 4104\, Australia
GEO:-27.515171;153.0119597
X-APPLE-STRUCTURED-LOCATION;VALUE=URI;X-ADDRESS=St Sebastian’s School Kadumba Street Yeronga Queensland 4104 Australia;X-APPLE-RADIUS=500;X-TITLE=Kadumba Street:geo:153.0119597,-27.515171
END:VEVENT
END:VCALENDAR