BEGIN:VCALENDAR
VERSION:2.0
PRODID:-//Nicole Johnston - ECPv6.15.20//NONSGML v1.0//EN
CALSCALE:GREGORIAN
METHOD:PUBLISH
X-WR-CALNAME:Nicole Johnston
X-ORIGINAL-URL:https://nicolejohnston.com.au
X-WR-CALDESC:Events for Nicole Johnston
REFRESH-INTERVAL;VALUE=DURATION:PT1H
X-Robots-Tag:noindex
X-PUBLISHED-TTL:PT1H
BEGIN:VTIMEZONE
TZID:Australia/Brisbane
BEGIN:STANDARD
TZOFFSETFROM:+1000
TZOFFSETTO:+1000
TZNAME:AEST
DTSTART:20140101T000000
END:STANDARD
END:VTIMEZONE
BEGIN:VEVENT
DTSTART;TZID=Australia/Brisbane:20250524T090000
DTEND;TZID=Australia/Brisbane:20250524T100000
DTSTAMP:20260424T195506
CREATED:20250516T045928Z
LAST-MODIFIED:20250516T045928Z
UID:29795-1748077200-1748080800@nicolejohnston.com.au
SUMMARY:Chelmer | Staverton Kindergarten Open Day
DESCRIPTION:
URL:https://nicolejohnston.com.au/event/chelmer-staverton-kindergarten-open-day-2/
LOCATION:Staverton Kindergarten\, 43 Twickenham St\, Chelmer\, Queensland\, 4068\, Australia
CATEGORIES:Community Event
ATTACH;FMTTYPE=image/jpeg:https://nicolejohnston.com.au/wp-content/uploads/2025/05/Staverton-Open-Day-2025-Facebook-post.jpg
GEO:-27.516108;152.971398
X-APPLE-STRUCTURED-LOCATION;VALUE=URI;X-ADDRESS=Staverton Kindergarten 43 Twickenham St Chelmer Queensland 4068 Australia;X-APPLE-RADIUS=500;X-TITLE=43 Twickenham St:geo:152.971398,-27.516108
END:VEVENT
BEGIN:VEVENT
DTSTART;TZID=Australia/Brisbane:20240518T090000
DTEND;TZID=Australia/Brisbane:20240518T100000
DTSTAMP:20260424T195506
CREATED:20240426T020538Z
LAST-MODIFIED:20240426T020604Z
UID:27179-1716022800-1716026400@nicolejohnston.com.au
SUMMARY:Chelmer | Staverton Kindergarten Open Day
DESCRIPTION:To book\, visit: https://www.trybooking.com/events/landing/1201123
URL:https://nicolejohnston.com.au/event/chelmer-staverton-kindergarten-open-day/
LOCATION:Staverton Kindergarten\, 43 Twickenham St\, Chelmer\, Queensland\, 4068\, Australia
CATEGORIES:Community Event
ATTACH;FMTTYPE=image/png:https://nicolejohnston.com.au/wp-content/uploads/2024/04/Staverton-Open-Day.png
GEO:-27.516108;152.971398
X-APPLE-STRUCTURED-LOCATION;VALUE=URI;X-ADDRESS=Staverton Kindergarten 43 Twickenham St Chelmer Queensland 4068 Australia;X-APPLE-RADIUS=500;X-TITLE=43 Twickenham St:geo:152.971398,-27.516108
END:VEVENT
BEGIN:VEVENT
DTSTART;TZID=Australia/Brisbane:20170621T190000
DTEND;TZID=Australia/Brisbane:20170621T200000
DTSTAMP:20260424T195506
CREATED:20170614T233742Z
LAST-MODIFIED:20170614T233800Z
UID:12830-1498071600-1498075200@nicolejohnston.com.au
SUMMARY:Prep Readiness Skills
DESCRIPTION:
URL:https://nicolejohnston.com.au/event/prep-readiness-skills/
LOCATION:Staverton Kindergarten\, 43 Twickenham St\, Chelmer\, Queensland\, 4068\, Australia
GEO:-27.516108;152.971398
X-APPLE-STRUCTURED-LOCATION;VALUE=URI;X-ADDRESS=Staverton Kindergarten 43 Twickenham St Chelmer Queensland 4068 Australia;X-APPLE-RADIUS=500;X-TITLE=43 Twickenham St:geo:152.971398,-27.516108
END:VEVENT
BEGIN:VEVENT
DTSTART;TZID=Australia/Brisbane:20170208T190000
DTEND;TZID=Australia/Brisbane:20170208T200000
DTSTAMP:20260424T195506
CREATED:20170131T013849Z
LAST-MODIFIED:20170131T013900Z
UID:11469-1486580400-1486584000@nicolejohnston.com.au
SUMMARY:Dealing with an Anxious Child Info Session | Chelmer
DESCRIPTION:Each term\, Staverton Kindergarten at Chelmer holds the ‘Staverton Series” at which a speaker addresses parents\, local families and the community about a topic relating to young children. \n  \nThis session is called ‘Dealing with an Anxious Child’ and will be delivered by Dr Peta Lilley from Lilley Place Psychology at Indooroopilly. It will be held on Wednesday the 8th of February at 7pm at Staverton Kindergarten\, 43 Twickenham Street\, Chelmer. It is a free session and open to all.  \n 
URL:https://nicolejohnston.com.au/event/dealing-with-an-anxious-child-chelmer/
LOCATION:Staverton Kindergarten\, 43 Twickenham St\, Chelmer\, Queensland\, 4068\, Australia
GEO:-27.516108;152.971398
X-APPLE-STRUCTURED-LOCATION;VALUE=URI;X-ADDRESS=Staverton Kindergarten 43 Twickenham St Chelmer Queensland 4068 Australia;X-APPLE-RADIUS=500;X-TITLE=43 Twickenham St:geo:152.971398,-27.516108
END:VEVENT
BEGIN:VEVENT
DTSTART;TZID=Australia/Brisbane:20160611T090000
DTEND;TZID=Australia/Brisbane:20160611T110000
DTSTAMP:20260424T195506
CREATED:20160603T034616Z
LAST-MODIFIED:20160603T034616Z
UID:9261-1465635600-1465642800@nicolejohnston.com.au
SUMMARY:Staverton Kindergarten Open Day
DESCRIPTION:
URL:https://nicolejohnston.com.au/event/staverton-kindergarten-open-day-2/
LOCATION:Staverton Kindergarten\, 43 Twickenham St\, Chelmer\, Queensland\, 4068\, Australia
GEO:-27.516108;152.971398
X-APPLE-STRUCTURED-LOCATION;VALUE=URI;X-ADDRESS=Staverton Kindergarten 43 Twickenham St Chelmer Queensland 4068 Australia;X-APPLE-RADIUS=500;X-TITLE=43 Twickenham St:geo:152.971398,-27.516108
END:VEVENT
BEGIN:VEVENT
DTSTART;TZID=Australia/Brisbane:20150620T090000
DTEND;TZID=Australia/Brisbane:20150620T110000
DTSTAMP:20260424T195506
CREATED:20150601T042728Z
LAST-MODIFIED:20150601T042728Z
UID:3174-1434790800-1434798000@nicolejohnston.com.au
SUMMARY:Staverton Kindergarten Open Day
DESCRIPTION:Come along and experience Staverton Kindergarten. \nMeet the Educators and join in the fun kids activities!
URL:https://nicolejohnston.com.au/event/staverton-kindergarten-open-day/
LOCATION:Staverton Kindergarten\, 43 Twickenham St\, Chelmer\, Queensland\, 4068\, Australia
GEO:-27.516108;152.971398
X-APPLE-STRUCTURED-LOCATION;VALUE=URI;X-ADDRESS=Staverton Kindergarten 43 Twickenham St Chelmer Queensland 4068 Australia;X-APPLE-RADIUS=500;X-TITLE=43 Twickenham St:geo:152.971398,-27.516108
END:VEVENT
END:VCALENDAR