BEGIN:VCALENDAR
VERSION:2.0
PRODID:-//Nicole Johnston - ECPv6.15.20//NONSGML v1.0//EN
CALSCALE:GREGORIAN
METHOD:PUBLISH
X-ORIGINAL-URL:https://nicolejohnston.com.au
X-WR-CALDESC:Events for Nicole Johnston
REFRESH-INTERVAL;VALUE=DURATION:PT1H
X-Robots-Tag:noindex
X-PUBLISHED-TTL:PT1H
BEGIN:VTIMEZONE
TZID:Australia/Brisbane
BEGIN:STANDARD
TZOFFSETFROM:+1000
TZOFFSETTO:+1000
TZNAME:AEST
DTSTART:20160101T000000
END:STANDARD
END:VTIMEZONE
BEGIN:VEVENT
DTSTART;TZID=Australia/Brisbane:20260326T070000
DTEND;TZID=Australia/Brisbane:20260326T090000
DTSTAMP:20260424T102026
CREATED:20260119T014137Z
LAST-MODIFIED:20260119T020049Z
UID:31769-1774508400-1774515600@nicolejohnston.com.au
SUMMARY:Sherwood | Creekcare: Strickland Terrace Parklands
DESCRIPTION:OCCA’s CreekCare Team is a roving group of volunteers that assists both OCCA Bushcare and Habitat Brisbane groups in Oxley Creek Catchment. The group meets at different regeneration sites each Thursday morning from 7 am to 9 am. \nCome along and enjoy the company of this hard working group of volunteers\, contribute to the maintenance of some significant sites in the catchment and share in morning tea. \nIf you are interested in being involved\, please contact the coordinator: Trevor Armstrong on 0414 691 264 or trevor.r.armstrong@gmail.com to confirm details of the next group.
URL:https://nicolejohnston.com.au/event/sherwood-creekcare-strickland-terrace-parklands/2026-03-26/
LOCATION:Strickland Tce Park\, 11 Strickland Tce\, Sherwood\, Qld\, 4075\, Australia
ORGANIZER;CN="OCCA Creekcare Team":MAILTO:trevor.r.armstrong@gmail.com
GEO:-27.5283393;152.9895341
X-APPLE-STRUCTURED-LOCATION;VALUE=URI;X-ADDRESS=Strickland Tce Park 11 Strickland Tce Sherwood Qld 4075 Australia;X-APPLE-RADIUS=500;X-TITLE=11 Strickland Tce:geo:152.9895341,-27.5283393
END:VEVENT
BEGIN:VEVENT
DTSTART;TZID=Australia/Brisbane:20251011T080000
DTEND;TZID=Australia/Brisbane:20251011T100000
DTSTAMP:20260424T102026
CREATED:20250910T010832Z
LAST-MODIFIED:20250910T010832Z
UID:30806-1760169600-1760176800@nicolejohnston.com.au
SUMMARY:Sherwood | Strickland Terrace Parklands Bushcare Group Working Bee
DESCRIPTION:Venue: Strickland Terrace Park\, 11 Strickland Terrace\, Sherwood \nFor more information\, contact group leader Mike Robinson via email.
URL:https://nicolejohnston.com.au/event/sherwood-strickland-terrace-parklands-bushcare-group-working-bee/
LOCATION:Strickland Tce Park\, 11 Strickland Tce\, Sherwood\, Qld\, 4075\, Australia
ORGANIZER;CN="Strickland Terrace Parklands Bushcare Group":MAILTO:stpbushcare@gmail.com
GEO:-27.5283393;152.9895341
X-APPLE-STRUCTURED-LOCATION;VALUE=URI;X-ADDRESS=Strickland Tce Park 11 Strickland Tce Sherwood Qld 4075 Australia;X-APPLE-RADIUS=500;X-TITLE=11 Strickland Tce:geo:152.9895341,-27.5283393
END:VEVENT
BEGIN:VEVENT
DTSTART;TZID=Australia/Brisbane:20240602T110000
DTEND;TZID=Australia/Brisbane:20240602T140000
DTSTAMP:20260424T102026
CREATED:20240430T004641Z
LAST-MODIFIED:20240430T004752Z
UID:27190-1717326000-1717336800@nicolejohnston.com.au
SUMMARY:Sherwood | Sherwood Neighbourhood Watch BBQ
DESCRIPTION:A Sausage Sizzle with cool drinks will be provided.\nBYO:\n\n– Camp Chairs/Picnic Rugs to claim your spot– Hat\, Sunscreen\, and/or Insect Repellent– Any other food/snacks to go with your sausage sizzle\nWe plan to once again have an assortment of lawn games along with a JUMPING CASTLE (for kids & adults of all ages!!)\nLocal representatives from the community should also be in attendance to chat about safety and looking out for your neighbours.\nNote: A gold coin donation would be appreciated to continue with these community events.
URL:https://nicolejohnston.com.au/event/sherwood-sherwood-neighbourhood-watch-bbq/
LOCATION:Strickland Tce Park\, 11 Strickland Tce\, Sherwood\, Qld\, 4075\, Australia
CATEGORIES:Community Event
ATTACH;FMTTYPE=image/png:https://nicolejohnston.com.au/wp-content/uploads/2024/04/Sherwood-NHW-BBQ.png
GEO:-27.5283393;152.9895341
X-APPLE-STRUCTURED-LOCATION;VALUE=URI;X-ADDRESS=Strickland Tce Park 11 Strickland Tce Sherwood Qld 4075 Australia;X-APPLE-RADIUS=500;X-TITLE=11 Strickland Tce:geo:152.9895341,-27.5283393
END:VEVENT
BEGIN:VEVENT
DTSTART;TZID=Australia/Brisbane:20230507T110000
DTEND;TZID=Australia/Brisbane:20230507T140000
DTSTAMP:20260424T102026
CREATED:20230404T004207Z
LAST-MODIFIED:20230427T060901Z
UID:26066-1683457200-1683468000@nicolejohnston.com.au
SUMMARY:Sherwood | Sherwood NHW Annual BBQ
DESCRIPTION:Join your neighbours for the Sherwood Neighbourhood Watch’s annual BBQ on Sunday 7 May\, 2023 at Strickland Tce Park\, Sherwood. Enjoy a sausage sizzle\, lawn games and jumping castle for the kids. Chat with community representatives and local Police. A gold coin donation towards food and drinks will be appreciated.
URL:https://nicolejohnston.com.au/event/sherwood-sherwood-nhw-annual-bbq/
LOCATION:Strickland Tce Park\, 11 Strickland Tce\, Sherwood\, Qld\, 4075\, Australia
CATEGORIES:Community Event
ATTACH;FMTTYPE=image/jpeg:https://nicolejohnston.com.au/wp-content/uploads/2023/04/Sherwood-NHW-BBQ.jpg
GEO:-27.5283393;152.9895341
X-APPLE-STRUCTURED-LOCATION;VALUE=URI;X-ADDRESS=Strickland Tce Park 11 Strickland Tce Sherwood Qld 4075 Australia;X-APPLE-RADIUS=500;X-TITLE=11 Strickland Tce:geo:152.9895341,-27.5283393
END:VEVENT
BEGIN:VEVENT
DTSTART;TZID=Australia/Brisbane:20220619T113000
DTEND;TZID=Australia/Brisbane:20220619T150000
DTSTAMP:20260424T102026
CREATED:20220613T064648Z
LAST-MODIFIED:20220613T064651Z
UID:25574-1655638200-1655650800@nicolejohnston.com.au
SUMMARY:Sherwood | Sherwood 1 Neighbourhood Watch Community BBQ
DESCRIPTION:Join Sherwood 1 Neighbourhood Watch for a community BBQ in Strickland Tce Park\, Sherwood.
URL:https://nicolejohnston.com.au/event/sherwood-sherwood-1-neighbourhood-watch-community-bbq/
LOCATION:Strickland Tce Park\, 11 Strickland Tce\, Sherwood\, Qld\, 4075\, Australia
CATEGORIES:Community Event
ATTACH;FMTTYPE=image/jpeg:https://nicolejohnston.com.au/wp-content/uploads/2022/06/Sherwood-NHW-1-BBQ.jpg
GEO:-27.5283393;152.9895341
X-APPLE-STRUCTURED-LOCATION;VALUE=URI;X-ADDRESS=Strickland Tce Park 11 Strickland Tce Sherwood Qld 4075 Australia;X-APPLE-RADIUS=500;X-TITLE=11 Strickland Tce:geo:152.9895341,-27.5283393
END:VEVENT
BEGIN:VEVENT
DTSTART;TZID=Australia/Brisbane:20180429T113000
DTEND;TZID=Australia/Brisbane:20180429T140000
DTSTAMP:20260424T102026
CREATED:20180326T050151Z
LAST-MODIFIED:20180326T050151Z
UID:15276-1525001400-1525010400@nicolejohnston.com.au
SUMMARY:Sherwood Neighbourhood Watch Community BBQ
DESCRIPTION:
URL:https://nicolejohnston.com.au/event/sherwood-neighbourhood-watch-community-bbq/
LOCATION:Strickland Tce Park\, 11 Strickland Tce\, Sherwood\, Qld\, 4075\, Australia
GEO:-27.5283393;152.9895341
X-APPLE-STRUCTURED-LOCATION;VALUE=URI;X-ADDRESS=Strickland Tce Park 11 Strickland Tce Sherwood Qld 4075 Australia;X-APPLE-RADIUS=500;X-TITLE=11 Strickland Tce:geo:152.9895341,-27.5283393
END:VEVENT
BEGIN:VEVENT
DTSTART;TZID=Australia/Brisbane:20171015T113000
DTEND;TZID=Australia/Brisbane:20171015T130000
DTSTAMP:20260424T102026
CREATED:20170703T230354Z
LAST-MODIFIED:20170703T230354Z
UID:12993-1508067000-1508072400@nicolejohnston.com.au
SUMMARY:Sherwood NHW1 Spring BBQ
DESCRIPTION:
URL:https://nicolejohnston.com.au/event/sherwood-nhw1-spring-bbq/
LOCATION:Strickland Tce Park\, 11 Strickland Tce\, Sherwood\, Qld\, 4075\, Australia
GEO:-27.5283393;152.9895341
X-APPLE-STRUCTURED-LOCATION;VALUE=URI;X-ADDRESS=Strickland Tce Park 11 Strickland Tce Sherwood Qld 4075 Australia;X-APPLE-RADIUS=500;X-TITLE=11 Strickland Tce:geo:152.9895341,-27.5283393
END:VEVENT
END:VCALENDAR