BEGIN:VCALENDAR
VERSION:2.0
PRODID:-//Nicole Johnston - ECPv6.15.20//NONSGML v1.0//EN
CALSCALE:GREGORIAN
METHOD:PUBLISH
X-ORIGINAL-URL:https://nicolejohnston.com.au
X-WR-CALDESC:Events for Nicole Johnston
REFRESH-INTERVAL;VALUE=DURATION:PT1H
X-Robots-Tag:noindex
X-PUBLISHED-TTL:PT1H
BEGIN:VTIMEZONE
TZID:Australia/Brisbane
BEGIN:STANDARD
TZOFFSETFROM:+1000
TZOFFSETTO:+1000
TZNAME:AEST
DTSTART:20210101T000000
END:STANDARD
END:VTIMEZONE
BEGIN:VEVENT
DTSTART;TZID=Australia/Brisbane:20220730T150000
DTEND;TZID=Australia/Brisbane:20220730T170000
DTSTAMP:20260424T183022
CREATED:20220725T040228Z
LAST-MODIFIED:20220725T040231Z
UID:25708-1659193200-1659200400@nicolejohnston.com.au
SUMMARY:Annerley Stephens History Group 'Women of Stephens' Book Launch
DESCRIPTION:Come and celebrate the lives and stories of women from all walks of life who contributed to the rich tapestry of the southside of Brisbane as we launch Women of Stephens. \nLight finger food will be served with liquid refreshments available from the bar. Stay on at the Clubhouse after (food trucks generally attend). \nThis is a free ticketed event\, but a gold coin donation at the venue would be welcomed.
URL:https://nicolejohnston.com.au/event/annerley-stephens-history-group-women-of-stephens-book-launch/
LOCATION:The Clubhouse Moorooka\, 76 Koala Rd\, Moorooka
CATEGORIES:Community Event
ATTACH;FMTTYPE=image/jpeg:https://nicolejohnston.com.au/wp-content/uploads/2022/07/Annerley-Stephens-History-Group-Poster-Women-of-Stephens.jpg
ORGANIZER;CN="Annerley-Stephens History Group Inc":MAILTO:annerleystephenshistorygroupin@gmail.com
END:VEVENT
END:VCALENDAR