BEGIN:VCALENDAR
VERSION:2.0
PRODID:-//Nicole Johnston - ECPv6.15.20//NONSGML v1.0//EN
CALSCALE:GREGORIAN
METHOD:PUBLISH
X-WR-CALNAME:Nicole Johnston
X-ORIGINAL-URL:https://nicolejohnston.com.au
X-WR-CALDESC:Events for Nicole Johnston
REFRESH-INTERVAL;VALUE=DURATION:PT1H
X-Robots-Tag:noindex
X-PUBLISHED-TTL:PT1H
BEGIN:VTIMEZONE
TZID:Australia/Brisbane
BEGIN:STANDARD
TZOFFSETFROM:+1000
TZOFFSETTO:+1000
TZNAME:AEST
DTSTART:20210101T000000
END:STANDARD
END:VTIMEZONE
BEGIN:VEVENT
DTSTART;TZID=Australia/Brisbane:20220909T170000
DTEND;TZID=Australia/Brisbane:20220909T210000
DTSTAMP:20260424T162020
CREATED:20220905T055033Z
LAST-MODIFIED:20220905T055033Z
UID:25770-1662742800-1662757200@nicolejohnston.com.au
SUMMARY:Yeronga | Brisbane Festival Blak Warehouse Party
DESCRIPTION:
URL:https://nicolejohnston.com.au/event/yeronga-brisbane-festival-blak-warehouse-party/
LOCATION:The Paint Factory\, 115 Hyde Rd\, Yeronga\, Queensland\, 4103\, Australia
CATEGORIES:Community Event
ORGANIZER;CN="Brisbane Festival":MAILTO:brisbane@brisbanefestival.com.au
END:VEVENT
END:VCALENDAR