BEGIN:VCALENDAR
VERSION:2.0
PRODID:-//Nicole Johnston - ECPv6.15.20//NONSGML v1.0//EN
CALSCALE:GREGORIAN
METHOD:PUBLISH
X-WR-CALNAME:Nicole Johnston
X-ORIGINAL-URL:https://nicolejohnston.com.au
X-WR-CALDESC:Events for Nicole Johnston
REFRESH-INTERVAL;VALUE=DURATION:PT1H
X-Robots-Tag:noindex
X-PUBLISHED-TTL:PT1H
BEGIN:VTIMEZONE
TZID:Australia/Brisbane
BEGIN:STANDARD
TZOFFSETFROM:+1000
TZOFFSETTO:+1000
TZNAME:AEST
DTSTART:20230101T000000
END:STANDARD
END:VTIMEZONE
BEGIN:VEVENT
DTSTART;TZID=Australia/Brisbane:20250906T070000
DTEND;TZID=Australia/Brisbane:20250906T080000
DTSTAMP:20260424T115804
CREATED:20250609T043928Z
LAST-MODIFIED:20250609T043928Z
UID:30127-1757142000-1757145600@nicolejohnston.com.au
SUMMARY:Annerley | Yoga
DESCRIPTION:Focus on a range of movements to relax the mind and body. Stretching\, breathing\, strength and balance exercises are included by incorporating standing poses and mat work into the session. \nNo bookings required. For more information phone Yoga Mind Body Brisbane on 0401 247 328. \nBYO exercise mat\, towel\, two blocks and a yoga strap if you have them.
URL:https://nicolejohnston.com.au/event/annerley-yoga-17/
LOCATION:Vallely St Park\, 51 Vallely Street\, Annerley\, QLD\, 4103\, Australia
END:VEVENT
BEGIN:VEVENT
DTSTART;TZID=Australia/Brisbane:20250830T070000
DTEND;TZID=Australia/Brisbane:20250830T080000
DTSTAMP:20260424T115804
CREATED:20250605T051705Z
LAST-MODIFIED:20250605T051705Z
UID:30089-1756537200-1756540800@nicolejohnston.com.au
SUMMARY:Annerley | Yoga
DESCRIPTION:Focus on a range of movements to relax the mind and body. Stretching\, breathing\, strength and balance exercises are included by incorporating standing poses and mat work into the session. \nNo bookings required. For more information phone Yoga Mind Body Brisbane on 0401 247 328. \nBYO exercise mat\, towel\, two blocks and a yoga strap if you have them.
URL:https://nicolejohnston.com.au/event/annerley-yoga-16/
LOCATION:Vallely St Park\, 51 Vallely Street\, Annerley\, QLD\, 4103\, Australia
END:VEVENT
BEGIN:VEVENT
DTSTART;TZID=Australia/Brisbane:20250823T070000
DTEND;TZID=Australia/Brisbane:20250823T080000
DTSTAMP:20260424T115804
CREATED:20250605T042735Z
LAST-MODIFIED:20250605T042735Z
UID:30058-1755932400-1755936000@nicolejohnston.com.au
SUMMARY:Annerley | Yoga
DESCRIPTION:Focus on a range of movements to relax the mind and body. Stretching\, breathing\, strength and balance exercises are included by incorporating standing poses and mat work into the session. \nNo bookings required. For more information phone Yoga Mind Body Brisbane on 0401 247 328. \nBYO Exercise mat\, towel\, two blocks and a yoga strap if you have them.
URL:https://nicolejohnston.com.au/event/annerley-yoga-15/
LOCATION:Vallely St Park\, 51 Vallely Street\, Annerley\, QLD\, 4103\, Australia
END:VEVENT
BEGIN:VEVENT
DTSTART;TZID=Australia/Brisbane:20250816T070000
DTEND;TZID=Australia/Brisbane:20250816T080000
DTSTAMP:20260424T115804
CREATED:20250605T035457Z
LAST-MODIFIED:20250605T035457Z
UID:30028-1755327600-1755331200@nicolejohnston.com.au
SUMMARY:Annerley | Yoga
DESCRIPTION:Focus on a range of movements to relax the mind and body. Stretching\, breathing\, strength and balance exercises are included by incorporating standing poses and mat work into the session. \nNo bookings required. For more information phone Yoga Mind Body Brisbane on 0401 247 328. \nBYO exercise mat\, towel\, two blocks and a yoga strap if you have them.
URL:https://nicolejohnston.com.au/event/annerley-yoga-14/
LOCATION:Vallely St Park\, 51 Vallely Street\, Annerley\, QLD\, 4103\, Australia
END:VEVENT
BEGIN:VEVENT
DTSTART;TZID=Australia/Brisbane:20250809T070000
DTEND;TZID=Australia/Brisbane:20250809T080000
DTSTAMP:20260424T115804
CREATED:20250605T032132Z
LAST-MODIFIED:20250605T032132Z
UID:30001-1754722800-1754726400@nicolejohnston.com.au
SUMMARY:Annerley | Yoga
DESCRIPTION:Focus on a range of movements to relax the mind and body. Stretching\, breathing\, strength and balance exercises are included by incorporating standing poses and mat work into the session. \nNo bookings required. For more information phone Yoga Mind Body Brisbane on 0401 247 328. \nBYO exercise mat\, towel\, two blocks and a yoga strap if you have them.
URL:https://nicolejohnston.com.au/event/annerley-yoga-13/
LOCATION:Vallely St Park\, 51 Vallely Street\, Annerley\, QLD\, 4103\, Australia
END:VEVENT
BEGIN:VEVENT
DTSTART;TZID=Australia/Brisbane:20250802T070000
DTEND;TZID=Australia/Brisbane:20250802T080000
DTSTAMP:20260424T115804
CREATED:20250605T021315Z
LAST-MODIFIED:20250605T021315Z
UID:29971-1754118000-1754121600@nicolejohnston.com.au
SUMMARY:Annerley | Yoga
DESCRIPTION:Focus on a range of movements to relax the mind and body. Stretching\, breathing\, strength and balance exercises are included by incorporating standing poses and mat work into the session. \nNo bookings required. For more information phone Yoga Mind Body Brisbane on 0401 247 328. \nBYO exercise mat\, towel\, two blocks and a yoga strap if you have them.
URL:https://nicolejohnston.com.au/event/annerley-yoga-12/
LOCATION:Vallely St Park\, 51 Vallely Street\, Annerley\, QLD\, 4103\, Australia
END:VEVENT
BEGIN:VEVENT
DTSTART;TZID=Australia/Brisbane:20250726T070000
DTEND;TZID=Australia/Brisbane:20250726T080000
DTSTAMP:20260424T115804
CREATED:20250605T011459Z
LAST-MODIFIED:20250605T011459Z
UID:29941-1753513200-1753516800@nicolejohnston.com.au
SUMMARY:Annerley | Yoga
DESCRIPTION:Focus on a range of movements to relax the mind and body. Stretching\, breathing\, strength and balance exercises are included by incorporating standing poses and mat work into the session. \nNo bookings required. For more information phone Yoga Mind Body Brisbane on 0401 247 328. \nBYO exercise mat\, towel\, two blocks and a yoga strap if you have them.
URL:https://nicolejohnston.com.au/event/annerley-yoga-11/
LOCATION:Vallely St Park\, 51 Vallely Street\, Annerley\, QLD\, 4103\, Australia
END:VEVENT
BEGIN:VEVENT
DTSTART;TZID=Australia/Brisbane:20250719T070000
DTEND;TZID=Australia/Brisbane:20250719T080000
DTSTAMP:20260424T115804
CREATED:20250605T003309Z
LAST-MODIFIED:20250605T003309Z
UID:29913-1752908400-1752912000@nicolejohnston.com.au
SUMMARY:Annerley | Yoga
DESCRIPTION:Focus on a range of movements to relax the mind and body. Stretching\, breathing\, strength and balance exercises are included by incorporating standing poses and mat work into the session. \nNo bookings required. For more information phone Yoga Mind Body Brisbane on 0401 247 328. \nBYO exercise mat\, towel\, two blocks and a yoga strap if you have them.
URL:https://nicolejohnston.com.au/event/annerley-yoga-10/
LOCATION:Vallely St Park\, 51 Vallely Street\, Annerley\, QLD\, 4103\, Australia
END:VEVENT
BEGIN:VEVENT
DTSTART;TZID=Australia/Brisbane:20250607T070000
DTEND;TZID=Australia/Brisbane:20250607T080000
DTSTAMP:20260424T115804
CREATED:20241113T060545Z
LAST-MODIFIED:20241113T060545Z
UID:28997-1749279600-1749283200@nicolejohnston.com.au
SUMMARY:Annerley | Yoga
DESCRIPTION:Focus on a range of movements to relax the mind and body. Stretching\, breathing\, strength and balance exercises are included by incorporating standing poses and mat work into the session. \nFor more information phone Deanna from Yoga Mind Body Brisbane on 0401 247 328.
URL:https://nicolejohnston.com.au/event/annerley-yoga-9/2025-06-07/
LOCATION:Vallely St Park\, 51 Vallely Street\, Annerley\, QLD\, 4103\, Australia
END:VEVENT
BEGIN:VEVENT
DTSTART;TZID=Australia/Brisbane:20250531T070000
DTEND;TZID=Australia/Brisbane:20250531T080000
DTSTAMP:20260424T115804
CREATED:20241113T060545Z
LAST-MODIFIED:20241113T060545Z
UID:28996-1748674800-1748678400@nicolejohnston.com.au
SUMMARY:Annerley | Yoga
DESCRIPTION:Focus on a range of movements to relax the mind and body. Stretching\, breathing\, strength and balance exercises are included by incorporating standing poses and mat work into the session. \nFor more information phone Deanna from Yoga Mind Body Brisbane on 0401 247 328.
URL:https://nicolejohnston.com.au/event/annerley-yoga-9/2025-05-31/
LOCATION:Vallely St Park\, 51 Vallely Street\, Annerley\, QLD\, 4103\, Australia
END:VEVENT
BEGIN:VEVENT
DTSTART;TZID=Australia/Brisbane:20250524T070000
DTEND;TZID=Australia/Brisbane:20250524T080000
DTSTAMP:20260424T115804
CREATED:20241113T060545Z
LAST-MODIFIED:20241113T060545Z
UID:28995-1748070000-1748073600@nicolejohnston.com.au
SUMMARY:Annerley | Yoga
DESCRIPTION:Focus on a range of movements to relax the mind and body. Stretching\, breathing\, strength and balance exercises are included by incorporating standing poses and mat work into the session. \nFor more information phone Deanna from Yoga Mind Body Brisbane on 0401 247 328.
URL:https://nicolejohnston.com.au/event/annerley-yoga-9/2025-05-24/
LOCATION:Vallely St Park\, 51 Vallely Street\, Annerley\, QLD\, 4103\, Australia
END:VEVENT
BEGIN:VEVENT
DTSTART;TZID=Australia/Brisbane:20250517T070000
DTEND;TZID=Australia/Brisbane:20250517T080000
DTSTAMP:20260424T115804
CREATED:20241113T060545Z
LAST-MODIFIED:20241113T060545Z
UID:28994-1747465200-1747468800@nicolejohnston.com.au
SUMMARY:Annerley | Yoga
DESCRIPTION:Focus on a range of movements to relax the mind and body. Stretching\, breathing\, strength and balance exercises are included by incorporating standing poses and mat work into the session. \nFor more information phone Deanna from Yoga Mind Body Brisbane on 0401 247 328.
URL:https://nicolejohnston.com.au/event/annerley-yoga-9/2025-05-17/
LOCATION:Vallely St Park\, 51 Vallely Street\, Annerley\, QLD\, 4103\, Australia
END:VEVENT
BEGIN:VEVENT
DTSTART;TZID=Australia/Brisbane:20250510T070000
DTEND;TZID=Australia/Brisbane:20250510T080000
DTSTAMP:20260424T115804
CREATED:20241113T060545Z
LAST-MODIFIED:20241113T060545Z
UID:28993-1746860400-1746864000@nicolejohnston.com.au
SUMMARY:Annerley | Yoga
DESCRIPTION:Focus on a range of movements to relax the mind and body. Stretching\, breathing\, strength and balance exercises are included by incorporating standing poses and mat work into the session. \nFor more information phone Deanna from Yoga Mind Body Brisbane on 0401 247 328.
URL:https://nicolejohnston.com.au/event/annerley-yoga-9/2025-05-10/
LOCATION:Vallely St Park\, 51 Vallely Street\, Annerley\, QLD\, 4103\, Australia
END:VEVENT
BEGIN:VEVENT
DTSTART;TZID=Australia/Brisbane:20250503T070000
DTEND;TZID=Australia/Brisbane:20250503T080000
DTSTAMP:20260424T115804
CREATED:20241113T060545Z
LAST-MODIFIED:20241113T060545Z
UID:28992-1746255600-1746259200@nicolejohnston.com.au
SUMMARY:Annerley | Yoga
DESCRIPTION:Focus on a range of movements to relax the mind and body. Stretching\, breathing\, strength and balance exercises are included by incorporating standing poses and mat work into the session. \nFor more information phone Deanna from Yoga Mind Body Brisbane on 0401 247 328.
URL:https://nicolejohnston.com.au/event/annerley-yoga-9/2025-05-03/
LOCATION:Vallely St Park\, 51 Vallely Street\, Annerley\, QLD\, 4103\, Australia
END:VEVENT
BEGIN:VEVENT
DTSTART;TZID=Australia/Brisbane:20250426T070000
DTEND;TZID=Australia/Brisbane:20250426T080000
DTSTAMP:20260424T115804
CREATED:20241113T060545Z
LAST-MODIFIED:20241113T060545Z
UID:28991-1745650800-1745654400@nicolejohnston.com.au
SUMMARY:Annerley | Yoga
DESCRIPTION:Focus on a range of movements to relax the mind and body. Stretching\, breathing\, strength and balance exercises are included by incorporating standing poses and mat work into the session. \nFor more information phone Deanna from Yoga Mind Body Brisbane on 0401 247 328.
URL:https://nicolejohnston.com.au/event/annerley-yoga-9/2025-04-26/
LOCATION:Vallely St Park\, 51 Vallely Street\, Annerley\, QLD\, 4103\, Australia
END:VEVENT
BEGIN:VEVENT
DTSTART;TZID=Australia/Brisbane:20250405T070000
DTEND;TZID=Australia/Brisbane:20250405T080000
DTSTAMP:20260424T115804
CREATED:20241113T060545Z
LAST-MODIFIED:20241113T060545Z
UID:28990-1743836400-1743840000@nicolejohnston.com.au
SUMMARY:Annerley | Yoga
DESCRIPTION:Focus on a range of movements to relax the mind and body. Stretching\, breathing\, strength and balance exercises are included by incorporating standing poses and mat work into the session. \nFor more information phone Deanna from Yoga Mind Body Brisbane on 0401 247 328.
URL:https://nicolejohnston.com.au/event/annerley-yoga-9/2025-04-05/
LOCATION:Vallely St Park\, 51 Vallely Street\, Annerley\, QLD\, 4103\, Australia
END:VEVENT
BEGIN:VEVENT
DTSTART;TZID=Australia/Brisbane:20250329T070000
DTEND;TZID=Australia/Brisbane:20250329T080000
DTSTAMP:20260424T115804
CREATED:20241113T060545Z
LAST-MODIFIED:20241113T060545Z
UID:28989-1743231600-1743235200@nicolejohnston.com.au
SUMMARY:Annerley | Yoga
DESCRIPTION:Focus on a range of movements to relax the mind and body. Stretching\, breathing\, strength and balance exercises are included by incorporating standing poses and mat work into the session. \nFor more information phone Deanna from Yoga Mind Body Brisbane on 0401 247 328.
URL:https://nicolejohnston.com.au/event/annerley-yoga-9/2025-03-29/
LOCATION:Vallely St Park\, 51 Vallely Street\, Annerley\, QLD\, 4103\, Australia
END:VEVENT
BEGIN:VEVENT
DTSTART;TZID=Australia/Brisbane:20250322T070000
DTEND;TZID=Australia/Brisbane:20250322T080000
DTSTAMP:20260424T115804
CREATED:20241113T060545Z
LAST-MODIFIED:20250113T033301Z
UID:28829-1742626800-1742630400@nicolejohnston.com.au
SUMMARY:Annerley | Yoga
DESCRIPTION:Focus on a range of movements to relax the mind and body. Stretching\, breathing\, strength and balance exercises are included by incorporating standing poses and mat work into the session. \nFor more information phone Deanna from Yoga Mind Body Brisbane on 0401 247 328.
URL:https://nicolejohnston.com.au/event/annerley-yoga-9/2025-03-22/
LOCATION:Vallely St Park\, 51 Vallely Street\, Annerley\, QLD\, 4103\, Australia
END:VEVENT
BEGIN:VEVENT
DTSTART;TZID=Australia/Brisbane:20250315T070000
DTEND;TZID=Australia/Brisbane:20250315T080000
DTSTAMP:20260424T115804
CREATED:20241113T060545Z
LAST-MODIFIED:20250113T033300Z
UID:28828-1742022000-1742025600@nicolejohnston.com.au
SUMMARY:Annerley | Yoga
DESCRIPTION:Focus on a range of movements to relax the mind and body. Stretching\, breathing\, strength and balance exercises are included by incorporating standing poses and mat work into the session. \nFor more information phone Deanna from Yoga Mind Body Brisbane on 0401 247 328.
URL:https://nicolejohnston.com.au/event/annerley-yoga-9/2025-03-15/
LOCATION:Vallely St Park\, 51 Vallely Street\, Annerley\, QLD\, 4103\, Australia
END:VEVENT
BEGIN:VEVENT
DTSTART;TZID=Australia/Brisbane:20250308T070000
DTEND;TZID=Australia/Brisbane:20250308T080000
DTSTAMP:20260424T115804
CREATED:20241113T060545Z
LAST-MODIFIED:20250113T033300Z
UID:28827-1741417200-1741420800@nicolejohnston.com.au
SUMMARY:Annerley | Yoga
DESCRIPTION:Focus on a range of movements to relax the mind and body. Stretching\, breathing\, strength and balance exercises are included by incorporating standing poses and mat work into the session. \nFor more information phone Deanna from Yoga Mind Body Brisbane on 0401 247 328.
URL:https://nicolejohnston.com.au/event/annerley-yoga-9/2025-03-08/
LOCATION:Vallely St Park\, 51 Vallely Street\, Annerley\, QLD\, 4103\, Australia
END:VEVENT
BEGIN:VEVENT
DTSTART;TZID=Australia/Brisbane:20250301T070000
DTEND;TZID=Australia/Brisbane:20250301T080000
DTSTAMP:20260424T115804
CREATED:20241113T060545Z
LAST-MODIFIED:20250113T033259Z
UID:28826-1740812400-1740816000@nicolejohnston.com.au
SUMMARY:Annerley | Yoga
DESCRIPTION:Focus on a range of movements to relax the mind and body. Stretching\, breathing\, strength and balance exercises are included by incorporating standing poses and mat work into the session. \nFor more information phone Deanna from Yoga Mind Body Brisbane on 0401 247 328.
URL:https://nicolejohnston.com.au/event/annerley-yoga-9/2025-03-01/
LOCATION:Vallely St Park\, 51 Vallely Street\, Annerley\, QLD\, 4103\, Australia
END:VEVENT
BEGIN:VEVENT
DTSTART;TZID=Australia/Brisbane:20250222T070000
DTEND;TZID=Australia/Brisbane:20250222T080000
DTSTAMP:20260424T115804
CREATED:20241113T060545Z
LAST-MODIFIED:20250113T033259Z
UID:28825-1740207600-1740211200@nicolejohnston.com.au
SUMMARY:Annerley | Yoga
DESCRIPTION:Focus on a range of movements to relax the mind and body. Stretching\, breathing\, strength and balance exercises are included by incorporating standing poses and mat work into the session. \nFor more information phone Deanna from Yoga Mind Body Brisbane on 0401 247 328.
URL:https://nicolejohnston.com.au/event/annerley-yoga-9/2025-02-22/
LOCATION:Vallely St Park\, 51 Vallely Street\, Annerley\, QLD\, 4103\, Australia
END:VEVENT
BEGIN:VEVENT
DTSTART;TZID=Australia/Brisbane:20250215T070000
DTEND;TZID=Australia/Brisbane:20250215T080000
DTSTAMP:20260424T115804
CREATED:20241113T060545Z
LAST-MODIFIED:20250113T033258Z
UID:28824-1739602800-1739606400@nicolejohnston.com.au
SUMMARY:Annerley | Yoga
DESCRIPTION:Focus on a range of movements to relax the mind and body. Stretching\, breathing\, strength and balance exercises are included by incorporating standing poses and mat work into the session. \nFor more information phone Deanna from Yoga Mind Body Brisbane on 0401 247 328.
URL:https://nicolejohnston.com.au/event/annerley-yoga-9/2025-02-15/
LOCATION:Vallely St Park\, 51 Vallely Street\, Annerley\, QLD\, 4103\, Australia
END:VEVENT
BEGIN:VEVENT
DTSTART;TZID=Australia/Brisbane:20250208T070000
DTEND;TZID=Australia/Brisbane:20250208T080000
DTSTAMP:20260424T115804
CREATED:20241113T060545Z
LAST-MODIFIED:20250113T033253Z
UID:28823-1738998000-1739001600@nicolejohnston.com.au
SUMMARY:Annerley | Yoga
DESCRIPTION:Focus on a range of movements to relax the mind and body. Stretching\, breathing\, strength and balance exercises are included by incorporating standing poses and mat work into the session. \nFor more information phone Deanna from Yoga Mind Body Brisbane on 0401 247 328.
URL:https://nicolejohnston.com.au/event/annerley-yoga-9/2025-02-08/
LOCATION:Vallely St Park\, 51 Vallely Street\, Annerley\, QLD\, 4103\, Australia
END:VEVENT
BEGIN:VEVENT
DTSTART;TZID=Australia/Brisbane:20250201T070000
DTEND;TZID=Australia/Brisbane:20250201T080000
DTSTAMP:20260424T115804
CREATED:20241113T060545Z
LAST-MODIFIED:20250113T033250Z
UID:28585-1738393200-1738396800@nicolejohnston.com.au
SUMMARY:Annerley | Yoga
DESCRIPTION:Focus on a range of movements to relax the mind and body. Stretching\, breathing\, strength and balance exercises are included by incorporating standing poses and mat work into the session. \nFor more information phone Deanna from Yoga Mind Body Brisbane on 0401 247 328.
URL:https://nicolejohnston.com.au/event/annerley-yoga-9/2025-02-01/
LOCATION:Vallely St Park\, 51 Vallely Street\, Annerley\, QLD\, 4103\, Australia
END:VEVENT
BEGIN:VEVENT
DTSTART;TZID=Australia/Brisbane:20241207T070000
DTEND;TZID=Australia/Brisbane:20241207T080000
DTSTAMP:20260424T115804
CREATED:20241113T013731Z
LAST-MODIFIED:20241113T013731Z
UID:28454-1733554800-1733558400@nicolejohnston.com.au
SUMMARY:Annerley | Yoga
DESCRIPTION:Focus on a range of movements to relax the mind and body. Stretching\, breathing\, strength and balance exercises are included by incorporating standing poses and mat work into the session. \nFor more information phone Deanna from Yoga Mind Body Brisbane on 0401 247 328.
URL:https://nicolejohnston.com.au/event/annerley-yoga-8/
LOCATION:Vallely St Park\, 51 Vallely Street\, Annerley\, QLD\, 4103\, Australia
END:VEVENT
BEGIN:VEVENT
DTSTART;TZID=Australia/Brisbane:20241130T070000
DTEND;TZID=Australia/Brisbane:20241130T080000
DTSTAMP:20260424T115804
CREATED:20241113T011816Z
LAST-MODIFIED:20241113T011816Z
UID:28432-1732950000-1732953600@nicolejohnston.com.au
SUMMARY:Annerley | Yoga
DESCRIPTION:Focus on a range of movements to relax the mind and body. Stretching\, breathing\, strength and balance exercises are included by incorporating standing poses and mat work into the session. \nFor more information phone Deanna from Yoga Mind Body Brisbane on 0401 247 328.
URL:https://nicolejohnston.com.au/event/annerley-yoga-7/
LOCATION:Vallely St Park\, 51 Vallely Street\, Annerley\, QLD\, 4103\, Australia
END:VEVENT
BEGIN:VEVENT
DTSTART;TZID=Australia/Brisbane:20241123T070000
DTEND;TZID=Australia/Brisbane:20241123T080000
DTSTAMP:20260424T115804
CREATED:20240619T063747Z
LAST-MODIFIED:20240619T063747Z
UID:27417-1732345200-1732348800@nicolejohnston.com.au
SUMMARY:Annerley | Yoga
DESCRIPTION:Focus on a range of movements to relax the mind and body. Stretching\, breathing\, strength and balance exercises are included by incorporating standing poses and mat work into the session. \nFor more information phone Deanna from Yoga Mind Body Brisbane on 0401 247 328. \nBring an exercise mat\, towel\, two blocks and a yoga strap if you have them.
URL:https://nicolejohnston.com.au/event/annerley-yoga-6/2024-11-23/
LOCATION:Vallely St Park\, 51 Vallely Street\, Annerley\, QLD\, 4103\, Australia
END:VEVENT
BEGIN:VEVENT
DTSTART;TZID=Australia/Brisbane:20241116T070000
DTEND;TZID=Australia/Brisbane:20241116T080000
DTSTAMP:20260424T115804
CREATED:20240619T063747Z
LAST-MODIFIED:20240619T063747Z
UID:27416-1731740400-1731744000@nicolejohnston.com.au
SUMMARY:Annerley | Yoga
DESCRIPTION:Focus on a range of movements to relax the mind and body. Stretching\, breathing\, strength and balance exercises are included by incorporating standing poses and mat work into the session. \nFor more information phone Deanna from Yoga Mind Body Brisbane on 0401 247 328. \nBring an exercise mat\, towel\, two blocks and a yoga strap if you have them.
URL:https://nicolejohnston.com.au/event/annerley-yoga-6/2024-11-16/
LOCATION:Vallely St Park\, 51 Vallely Street\, Annerley\, QLD\, 4103\, Australia
END:VEVENT
BEGIN:VEVENT
DTSTART;TZID=Australia/Brisbane:20241109T070000
DTEND;TZID=Australia/Brisbane:20241109T080000
DTSTAMP:20260424T115804
CREATED:20240619T063747Z
LAST-MODIFIED:20240619T063747Z
UID:27415-1731135600-1731139200@nicolejohnston.com.au
SUMMARY:Annerley | Yoga
DESCRIPTION:Focus on a range of movements to relax the mind and body. Stretching\, breathing\, strength and balance exercises are included by incorporating standing poses and mat work into the session. \nFor more information phone Deanna from Yoga Mind Body Brisbane on 0401 247 328. \nBring an exercise mat\, towel\, two blocks and a yoga strap if you have them.
URL:https://nicolejohnston.com.au/event/annerley-yoga-6/2024-11-09/
LOCATION:Vallely St Park\, 51 Vallely Street\, Annerley\, QLD\, 4103\, Australia
END:VEVENT
END:VCALENDAR