BEGIN:VCALENDAR
VERSION:2.0
PRODID:-//Nicole Johnston - ECPv6.15.20//NONSGML v1.0//EN
CALSCALE:GREGORIAN
METHOD:PUBLISH
X-WR-CALNAME:Nicole Johnston
X-ORIGINAL-URL:https://nicolejohnston.com.au
X-WR-CALDESC:Events for Nicole Johnston
REFRESH-INTERVAL;VALUE=DURATION:PT1H
X-Robots-Tag:noindex
X-PUBLISHED-TTL:PT1H
BEGIN:VTIMEZONE
TZID:Australia/Brisbane
BEGIN:STANDARD
TZOFFSETFROM:+1000
TZOFFSETTO:+1000
TZNAME:AEST
DTSTART:20190101T000000
END:STANDARD
END:VTIMEZONE
BEGIN:VEVENT
DTSTART;TZID=Australia/Brisbane:20241102T070000
DTEND;TZID=Australia/Brisbane:20241102T080000
DTSTAMP:20260424T174944
CREATED:20240619T063747Z
LAST-MODIFIED:20240619T063747Z
UID:27414-1730530800-1730534400@nicolejohnston.com.au
SUMMARY:Annerley | Yoga
DESCRIPTION:Focus on a range of movements to relax the mind and body. Stretching\, breathing\, strength and balance exercises are included by incorporating standing poses and mat work into the session. \nFor more information phone Deanna from Yoga Mind Body Brisbane on 0401 247 328. \nBring an exercise mat\, towel\, two blocks and a yoga strap if you have them.
URL:https://nicolejohnston.com.au/event/annerley-yoga-6/2024-11-02/
LOCATION:Vallely St Park\, 51 Vallely Street\, Annerley\, QLD\, 4103\, Australia
END:VEVENT
BEGIN:VEVENT
DTSTART;TZID=Australia/Brisbane:20241026T070000
DTEND;TZID=Australia/Brisbane:20241026T080000
DTSTAMP:20260424T174944
CREATED:20240619T063747Z
LAST-MODIFIED:20240619T063747Z
UID:27413-1729926000-1729929600@nicolejohnston.com.au
SUMMARY:Annerley | Yoga
DESCRIPTION:Focus on a range of movements to relax the mind and body. Stretching\, breathing\, strength and balance exercises are included by incorporating standing poses and mat work into the session. \nFor more information phone Deanna from Yoga Mind Body Brisbane on 0401 247 328. \nBring an exercise mat\, towel\, two blocks and a yoga strap if you have them.
URL:https://nicolejohnston.com.au/event/annerley-yoga-6/2024-10-26/
LOCATION:Vallely St Park\, 51 Vallely Street\, Annerley\, QLD\, 4103\, Australia
END:VEVENT
BEGIN:VEVENT
DTSTART;TZID=Australia/Brisbane:20241019T070000
DTEND;TZID=Australia/Brisbane:20241019T080000
DTSTAMP:20260424T174944
CREATED:20240619T063747Z
LAST-MODIFIED:20240619T063747Z
UID:27412-1729321200-1729324800@nicolejohnston.com.au
SUMMARY:Annerley | Yoga
DESCRIPTION:Focus on a range of movements to relax the mind and body. Stretching\, breathing\, strength and balance exercises are included by incorporating standing poses and mat work into the session. \nFor more information phone Deanna from Yoga Mind Body Brisbane on 0401 247 328. \nBring an exercise mat\, towel\, two blocks and a yoga strap if you have them.
URL:https://nicolejohnston.com.au/event/annerley-yoga-6/2024-10-19/
LOCATION:Vallely St Park\, 51 Vallely Street\, Annerley\, QLD\, 4103\, Australia
END:VEVENT
BEGIN:VEVENT
DTSTART;TZID=Australia/Brisbane:20241012T070000
DTEND;TZID=Australia/Brisbane:20241012T080000
DTSTAMP:20260424T174944
CREATED:20240619T063747Z
LAST-MODIFIED:20240619T063747Z
UID:27411-1728716400-1728720000@nicolejohnston.com.au
SUMMARY:Annerley | Yoga
DESCRIPTION:Focus on a range of movements to relax the mind and body. Stretching\, breathing\, strength and balance exercises are included by incorporating standing poses and mat work into the session. \nFor more information phone Deanna from Yoga Mind Body Brisbane on 0401 247 328. \nBring an exercise mat\, towel\, two blocks and a yoga strap if you have them.
URL:https://nicolejohnston.com.au/event/annerley-yoga-6/2024-10-12/
LOCATION:Vallely St Park\, 51 Vallely Street\, Annerley\, QLD\, 4103\, Australia
END:VEVENT
BEGIN:VEVENT
DTSTART;TZID=Australia/Brisbane:20241005T070000
DTEND;TZID=Australia/Brisbane:20241005T080000
DTSTAMP:20260424T174944
CREATED:20240619T063747Z
LAST-MODIFIED:20240619T063747Z
UID:27409-1728111600-1728115200@nicolejohnston.com.au
SUMMARY:Annerley | Yoga
DESCRIPTION:Focus on a range of movements to relax the mind and body. Stretching\, breathing\, strength and balance exercises are included by incorporating standing poses and mat work into the session. \nFor more information phone Deanna from Yoga Mind Body Brisbane on 0401 247 328. \nBring an exercise mat\, towel\, two blocks and a yoga strap if you have them.
URL:https://nicolejohnston.com.au/event/annerley-yoga-6/2024-10-05/
LOCATION:Vallely St Park\, 51 Vallely Street\, Annerley\, QLD\, 4103\, Australia
END:VEVENT
BEGIN:VEVENT
DTSTART;TZID=Australia/Brisbane:20240914T070000
DTEND;TZID=Australia/Brisbane:20240914T080000
DTSTAMP:20260424T174944
CREATED:20240619T063747Z
LAST-MODIFIED:20240619T063747Z
UID:27408-1726297200-1726300800@nicolejohnston.com.au
SUMMARY:Annerley | Yoga
DESCRIPTION:Focus on a range of movements to relax the mind and body. Stretching\, breathing\, strength and balance exercises are included by incorporating standing poses and mat work into the session. \nFor more information phone Deanna from Yoga Mind Body Brisbane on 0401 247 328. \nBring an exercise mat\, towel\, two blocks and a yoga strap if you have them.
URL:https://nicolejohnston.com.au/event/annerley-yoga-6/2024-09-14/
LOCATION:Vallely St Park\, 51 Vallely Street\, Annerley\, QLD\, 4103\, Australia
END:VEVENT
BEGIN:VEVENT
DTSTART;TZID=Australia/Brisbane:20240907T070000
DTEND;TZID=Australia/Brisbane:20240907T080000
DTSTAMP:20260424T174944
CREATED:20240619T063747Z
LAST-MODIFIED:20240619T063747Z
UID:27407-1725692400-1725696000@nicolejohnston.com.au
SUMMARY:Annerley | Yoga
DESCRIPTION:Focus on a range of movements to relax the mind and body. Stretching\, breathing\, strength and balance exercises are included by incorporating standing poses and mat work into the session. \nFor more information phone Deanna from Yoga Mind Body Brisbane on 0401 247 328. \nBring an exercise mat\, towel\, two blocks and a yoga strap if you have them.
URL:https://nicolejohnston.com.au/event/annerley-yoga-6/2024-09-07/
LOCATION:Vallely St Park\, 51 Vallely Street\, Annerley\, QLD\, 4103\, Australia
END:VEVENT
BEGIN:VEVENT
DTSTART;TZID=Australia/Brisbane:20240831T070000
DTEND;TZID=Australia/Brisbane:20240831T080000
DTSTAMP:20260424T174944
CREATED:20240619T063747Z
LAST-MODIFIED:20240619T063747Z
UID:27406-1725087600-1725091200@nicolejohnston.com.au
SUMMARY:Annerley | Yoga
DESCRIPTION:Focus on a range of movements to relax the mind and body. Stretching\, breathing\, strength and balance exercises are included by incorporating standing poses and mat work into the session. \nFor more information phone Deanna from Yoga Mind Body Brisbane on 0401 247 328. \nBring an exercise mat\, towel\, two blocks and a yoga strap if you have them.
URL:https://nicolejohnston.com.au/event/annerley-yoga-6/2024-08-31/
LOCATION:Vallely St Park\, 51 Vallely Street\, Annerley\, QLD\, 4103\, Australia
END:VEVENT
BEGIN:VEVENT
DTSTART;TZID=Australia/Brisbane:20240824T070000
DTEND;TZID=Australia/Brisbane:20240824T080000
DTSTAMP:20260424T174944
CREATED:20240619T063747Z
LAST-MODIFIED:20240619T063747Z
UID:27405-1724482800-1724486400@nicolejohnston.com.au
SUMMARY:Annerley | Yoga
DESCRIPTION:Focus on a range of movements to relax the mind and body. Stretching\, breathing\, strength and balance exercises are included by incorporating standing poses and mat work into the session. \nFor more information phone Deanna from Yoga Mind Body Brisbane on 0401 247 328. \nBring an exercise mat\, towel\, two blocks and a yoga strap if you have them.
URL:https://nicolejohnston.com.au/event/annerley-yoga-6/2024-08-24/
LOCATION:Vallely St Park\, 51 Vallely Street\, Annerley\, QLD\, 4103\, Australia
END:VEVENT
BEGIN:VEVENT
DTSTART;TZID=Australia/Brisbane:20240817T070000
DTEND;TZID=Australia/Brisbane:20240817T080000
DTSTAMP:20260424T174944
CREATED:20240619T063747Z
LAST-MODIFIED:20240619T063747Z
UID:27404-1723878000-1723881600@nicolejohnston.com.au
SUMMARY:Annerley | Yoga
DESCRIPTION:Focus on a range of movements to relax the mind and body. Stretching\, breathing\, strength and balance exercises are included by incorporating standing poses and mat work into the session. \nFor more information phone Deanna from Yoga Mind Body Brisbane on 0401 247 328. \nBring an exercise mat\, towel\, two blocks and a yoga strap if you have them.
URL:https://nicolejohnston.com.au/event/annerley-yoga-6/2024-08-17/
LOCATION:Vallely St Park\, 51 Vallely Street\, Annerley\, QLD\, 4103\, Australia
END:VEVENT
BEGIN:VEVENT
DTSTART;TZID=Australia/Brisbane:20240810T070000
DTEND;TZID=Australia/Brisbane:20240810T080000
DTSTAMP:20260424T174944
CREATED:20240619T063747Z
LAST-MODIFIED:20240619T063747Z
UID:27403-1723273200-1723276800@nicolejohnston.com.au
SUMMARY:Annerley | Yoga
DESCRIPTION:Focus on a range of movements to relax the mind and body. Stretching\, breathing\, strength and balance exercises are included by incorporating standing poses and mat work into the session. \nFor more information phone Deanna from Yoga Mind Body Brisbane on 0401 247 328. \nBring an exercise mat\, towel\, two blocks and a yoga strap if you have them.
URL:https://nicolejohnston.com.au/event/annerley-yoga-6/2024-08-10/
LOCATION:Vallely St Park\, 51 Vallely Street\, Annerley\, QLD\, 4103\, Australia
END:VEVENT
BEGIN:VEVENT
DTSTART;TZID=Australia/Brisbane:20240803T070000
DTEND;TZID=Australia/Brisbane:20240803T080000
DTSTAMP:20260424T174944
CREATED:20240619T063747Z
LAST-MODIFIED:20240619T063747Z
UID:27402-1722668400-1722672000@nicolejohnston.com.au
SUMMARY:Annerley | Yoga
DESCRIPTION:Focus on a range of movements to relax the mind and body. Stretching\, breathing\, strength and balance exercises are included by incorporating standing poses and mat work into the session. \nFor more information phone Deanna from Yoga Mind Body Brisbane on 0401 247 328. \nBring an exercise mat\, towel\, two blocks and a yoga strap if you have them.
URL:https://nicolejohnston.com.au/event/annerley-yoga-6/2024-08-03/
LOCATION:Vallely St Park\, 51 Vallely Street\, Annerley\, QLD\, 4103\, Australia
END:VEVENT
BEGIN:VEVENT
DTSTART;TZID=Australia/Brisbane:20240727T070000
DTEND;TZID=Australia/Brisbane:20240727T080000
DTSTAMP:20260424T174944
CREATED:20240619T063747Z
LAST-MODIFIED:20240619T063747Z
UID:27401-1722063600-1722067200@nicolejohnston.com.au
SUMMARY:Annerley | Yoga
DESCRIPTION:Focus on a range of movements to relax the mind and body. Stretching\, breathing\, strength and balance exercises are included by incorporating standing poses and mat work into the session. \nFor more information phone Deanna from Yoga Mind Body Brisbane on 0401 247 328. \nBring an exercise mat\, towel\, two blocks and a yoga strap if you have them.
URL:https://nicolejohnston.com.au/event/annerley-yoga-6/2024-07-27/
LOCATION:Vallely St Park\, 51 Vallely Street\, Annerley\, QLD\, 4103\, Australia
END:VEVENT
BEGIN:VEVENT
DTSTART;TZID=Australia/Brisbane:20240720T070000
DTEND;TZID=Australia/Brisbane:20240720T080000
DTSTAMP:20260424T174944
CREATED:20240619T063747Z
LAST-MODIFIED:20240619T063747Z
UID:27400-1721458800-1721462400@nicolejohnston.com.au
SUMMARY:Annerley | Yoga
DESCRIPTION:Focus on a range of movements to relax the mind and body. Stretching\, breathing\, strength and balance exercises are included by incorporating standing poses and mat work into the session. \nFor more information phone Deanna from Yoga Mind Body Brisbane on 0401 247 328. \nBring an exercise mat\, towel\, two blocks and a yoga strap if you have them.
URL:https://nicolejohnston.com.au/event/annerley-yoga-6/2024-07-20/
LOCATION:Vallely St Park\, 51 Vallely Street\, Annerley\, QLD\, 4103\, Australia
END:VEVENT
BEGIN:VEVENT
DTSTART;TZID=Australia/Brisbane:20240713T070000
DTEND;TZID=Australia/Brisbane:20240713T080000
DTSTAMP:20260424T174944
CREATED:20240619T063747Z
LAST-MODIFIED:20240619T063747Z
UID:27399-1720854000-1720857600@nicolejohnston.com.au
SUMMARY:Annerley | Yoga
DESCRIPTION:Focus on a range of movements to relax the mind and body. Stretching\, breathing\, strength and balance exercises are included by incorporating standing poses and mat work into the session. \nFor more information phone Deanna from Yoga Mind Body Brisbane on 0401 247 328. \nBring an exercise mat\, towel\, two blocks and a yoga strap if you have them.
URL:https://nicolejohnston.com.au/event/annerley-yoga-6/2024-07-13/
LOCATION:Vallely St Park\, 51 Vallely Street\, Annerley\, QLD\, 4103\, Australia
END:VEVENT
BEGIN:VEVENT
DTSTART;TZID=Australia/Brisbane:20231007T070000
DTEND;TZID=Australia/Brisbane:20231007T080000
DTSTAMP:20260424T174944
CREATED:20230807T030515Z
LAST-MODIFIED:20230807T030516Z
UID:26760-1696662000-1696665600@nicolejohnston.com.au
SUMMARY:Annerley | Yoga
DESCRIPTION:Yoga to stretch\, tone and strengthen your body. Includes seated and standing yoga postures. \nNo bookings required. For more information phone Yoga Mind Body Brisbane on 0401 247 328. \nBring yoga mat\, towel\, 2 yoga blocks and a yoga strap if you have them.
URL:https://nicolejohnston.com.au/event/annerley-yoga-5/2023-10-07/
LOCATION:Vallely St Park\, 51 Vallely Street\, Annerley\, QLD\, 4103\, Australia
END:VEVENT
BEGIN:VEVENT
DTSTART;TZID=Australia/Brisbane:20230627T070000
DTEND;TZID=Australia/Brisbane:20230627T080000
DTSTAMP:20260424T174944
CREATED:20230627T014001Z
LAST-MODIFIED:20230627T014001Z
UID:26390-1687849200-1687852800@nicolejohnston.com.au
SUMMARY:Annerley | Yoga
DESCRIPTION:Yoga to stretch\, tone and strengthen your body. Includes seated and standing yoga postures. \n\n\nFor more information phone Yoga Mind Body Brisbane on 0401 247 328.\nBring yoga mat\, towel\, 2 yoga blocks and a yoga strap if you have them.
URL:https://nicolejohnston.com.au/event/annerley-yoga-4/2023-06-27/
LOCATION:Vallely St Park\, 51 Vallely Street\, Annerley\, QLD\, 4103\, Australia
END:VEVENT
BEGIN:VEVENT
DTSTART;TZID=Australia/Brisbane:20220903T070000
DTEND;TZID=Australia/Brisbane:20220903T080000
DTSTAMP:20260424T174944
CREATED:20220829T001041Z
LAST-MODIFIED:20220829T001041Z
UID:25748-1662188400-1662192000@nicolejohnston.com.au
SUMMARY:Annerley | Yoga
DESCRIPTION:Yoga to stretch\, tone and strengthen your body. Includes seated and standing yoga postures. \nBring a yoga mat\, 2 yoga blocks and a yoga strap if you have them. \nFor more information phone Yoga Mind Body Brisbane on 0401 247 328.
URL:https://nicolejohnston.com.au/event/annerley-yoga-3/2022-09-03/
LOCATION:Vallely St Park\, 51 Vallely Street\, Annerley\, QLD\, 4103\, Australia
END:VEVENT
BEGIN:VEVENT
DTSTART;TZID=Australia/Brisbane:20220129T073000
DTEND;TZID=Australia/Brisbane:20220129T083000
DTSTAMP:20260424T174944
CREATED:20211214T042149Z
LAST-MODIFIED:20220503T051210Z
UID:25251-1643441400-1643445000@nicolejohnston.com.au
SUMMARY:Annerley | Yoga
DESCRIPTION:Yoga for everybody to stretch\, tone and strengthen your body into shape and feel great! Suitable for all abilities. Bring a yoga mat. \nMeet near the playground. \nNo bookings required. For more information phone Yoga Mind Body Brisbane on 0401 247 328.
URL:https://nicolejohnston.com.au/event/annerley-yoga-2/2022-01-29/
LOCATION:Vallely St Park\, 51 Vallely Street\, Annerley\, QLD\, 4103\, Australia
END:VEVENT
BEGIN:VEVENT
DTSTART;TZID=Australia/Brisbane:20200718T073000
DTEND;TZID=Australia/Brisbane:20200718T083000
DTSTAMP:20260424T174944
CREATED:20200708T000050Z
LAST-MODIFIED:20200708T000050Z
UID:22074-1595057400-1595061000@nicolejohnston.com.au
SUMMARY:Annerley | Yoga
DESCRIPTION:Yoga for fitness: tone\, stretch and strengthen your body into shape and feel great. Suitable for all levels. \nFor more information phone Deanna from Yoga Mind Body Brisbane on 0401 247 328.
URL:https://nicolejohnston.com.au/event/annerley-yoga/2020-07-18/
LOCATION:Vallely St Park\, 51 Vallely Street\, Annerley\, QLD\, 4103\, Australia
END:VEVENT
END:VCALENDAR