BEGIN:VCALENDAR
VERSION:2.0
PRODID:-//Nicole Johnston - ECPv6.15.20//NONSGML v1.0//EN
CALSCALE:GREGORIAN
METHOD:PUBLISH
X-WR-CALNAME:Nicole Johnston
X-ORIGINAL-URL:https://nicolejohnston.com.au
X-WR-CALDESC:Events for Nicole Johnston
REFRESH-INTERVAL;VALUE=DURATION:PT1H
X-Robots-Tag:noindex
X-PUBLISHED-TTL:PT1H
BEGIN:VTIMEZONE
TZID:Australia/Brisbane
BEGIN:STANDARD
TZOFFSETFROM:+1000
TZOFFSETTO:+1000
TZNAME:AEST
DTSTART:20140101T000000
END:STANDARD
END:VTIMEZONE
BEGIN:VEVENT
DTSTART;TZID=Australia/Brisbane:20150928T080000
DTEND;TZID=Australia/Brisbane:20150928T170000
DTSTAMP:20260424T220718
CREATED:20150928T113817Z
LAST-MODIFIED:20150928T113817Z
UID:4299-1443427200-1443459600@nicolejohnston.com.au
SUMMARY:World's Biggest Garage Sale
DESCRIPTION:Southside Garage Sale aiming to raise $100\,000 for Smiling for Smiddy and Cancer Research for Mater Hospital. \nDrop offs can be made on the following day: \n\n\n\n\n5th October 9AM – 4PM\n\nPlease visit their website for more information. \n\n\n\n 
URL:https://nicolejohnston.com.au/event/worlds-biggest-garage-sale/
LOCATION:World’s Biggest Garage Sale\, 8/836 Boundary Rd\, Coopers Plains\, Qld\, 4109\, Australia
ORGANIZER;CN="World's Biggest Garage Sale":MAILTO:yasming@worldsbiggestgaragesale.com.au
GEO:-27.568756;153.033257
X-APPLE-STRUCTURED-LOCATION;VALUE=URI;X-ADDRESS=World’s Biggest Garage Sale 8/836 Boundary Rd Coopers Plains Qld 4109 Australia;X-APPLE-RADIUS=500;X-TITLE=8/836 Boundary Rd:geo:153.033257,-27.568756
END:VEVENT
END:VCALENDAR