BEGIN:VCALENDAR
VERSION:2.0
PRODID:-//Nicole Johnston - ECPv6.15.20//NONSGML v1.0//EN
CALSCALE:GREGORIAN
METHOD:PUBLISH
X-ORIGINAL-URL:https://nicolejohnston.com.au
X-WR-CALDESC:Events for Nicole Johnston
REFRESH-INTERVAL;VALUE=DURATION:PT1H
X-Robots-Tag:noindex
X-PUBLISHED-TTL:PT1H
BEGIN:VTIMEZONE
TZID:Australia/Brisbane
BEGIN:STANDARD
TZOFFSETFROM:+1000
TZOFFSETTO:+1000
TZNAME:AEST
DTSTART:20160101T000000
END:STANDARD
END:VTIMEZONE
BEGIN:VEVENT
DTSTART;TZID=Australia/Brisbane:20170527T073000
DTEND;TZID=Australia/Brisbane:20170527T090000
DTSTAMP:20260424T212523
CREATED:20170518T001513Z
LAST-MODIFIED:20170518T001530Z
UID:12572-1495870200-1495875600@nicolejohnston.com.au
SUMMARY:Yeronga Bushcare Group
DESCRIPTION:We have a regular working bee on the 4th Saturday of each month 7.30-9am. We are currently working on rehabilitating the riverside strip along The Esplanade\, Yeronga\, and have planted approx. 450 native plants so far. Our work also involved maintain the plantings. For further inquiries contact Michael on yfbc@googlegroups.com. All welcome\, and tools supplied\, plus tea\, coffee and bikkies.
URL:https://nicolejohnston.com.au/event/yeronga-bushcare-group/2017-05-27/
LOCATION:Yeronga Bushcare Group\, Esplanade\, Yeronga\, Qld\, 4104\, Australia
GEO:-27.5147955;153.0014977
X-APPLE-STRUCTURED-LOCATION;VALUE=URI;X-ADDRESS=Yeronga Bushcare Group Esplanade Yeronga Qld 4104 Australia;X-APPLE-RADIUS=500;X-TITLE=Esplanade:geo:153.0014977,-27.5147955
END:VEVENT
END:VCALENDAR