BEGIN:VCALENDAR
VERSION:2.0
PRODID:-//Nicole Johnston - ECPv6.15.20//NONSGML v1.0//EN
CALSCALE:GREGORIAN
METHOD:PUBLISH
X-WR-CALNAME:Nicole Johnston
X-ORIGINAL-URL:https://nicolejohnston.com.au
X-WR-CALDESC:Events for Nicole Johnston
REFRESH-INTERVAL;VALUE=DURATION:PT1H
X-Robots-Tag:noindex
X-PUBLISHED-TTL:PT1H
BEGIN:VTIMEZONE
TZID:Australia/Brisbane
BEGIN:STANDARD
TZOFFSETFROM:+1000
TZOFFSETTO:+1000
TZNAME:AEST
DTSTART:20140101T000000
END:STANDARD
END:VTIMEZONE
BEGIN:VEVENT
DTSTART;TZID=Australia/Brisbane:20230629T170000
DTEND;TZID=Australia/Brisbane:20230629T190000
DTSTAMP:20260424T153723
CREATED:20230627T065915Z
LAST-MODIFIED:20230627T065916Z
UID:26435-1688058000-1688065200@nicolejohnston.com.au
SUMMARY:Yeronga | YCC Art Group Exhibition
DESCRIPTION:
URL:https://nicolejohnston.com.au/event/yeronga-ycc-art-group-exhibition/
LOCATION:Yeronga Community Centre\, 62 Park Rd\, Yeronga\, Queensland\, 4103\, Australia
CATEGORIES:Community Event
ATTACH;FMTTYPE=image/png:https://nicolejohnston.com.au/wp-content/uploads/2023/06/YCC-SOCIALS-JUN-2023-2.png
ORGANIZER;CN="Yeronga Community Centre":MAILTO:yeronga@communityplus.org.au
GEO:-27.5178214;153.0308084
X-APPLE-STRUCTURED-LOCATION;VALUE=URI;X-ADDRESS=Yeronga Community Centre 62 Park Rd Yeronga Queensland 4103 Australia;X-APPLE-RADIUS=500;X-TITLE=62 Park Rd:geo:153.0308084,-27.5178214
END:VEVENT
BEGIN:VEVENT
DTSTART;TZID=Australia/Brisbane:20191103T093000
DTEND;TZID=Australia/Brisbane:20191103T110000
DTSTAMP:20260424T153723
CREATED:20191028T033743Z
LAST-MODIFIED:20191028T033743Z
UID:19752-1572773400-1572778800@nicolejohnston.com.au
SUMMARY:Yeronga | Kids Clothing Swap
DESCRIPTION:
URL:https://nicolejohnston.com.au/event/yeronga-kids-clothing-swap/
LOCATION:Yeronga Community Centre\, 62 Park Rd\, Yeronga\, Queensland\, 4103\, Australia
GEO:-27.5178214;153.0308084
X-APPLE-STRUCTURED-LOCATION;VALUE=URI;X-ADDRESS=Yeronga Community Centre 62 Park Rd Yeronga Queensland 4103 Australia;X-APPLE-RADIUS=500;X-TITLE=62 Park Rd:geo:153.0308084,-27.5178214
END:VEVENT
BEGIN:VEVENT
DTSTART;TZID=Australia/Brisbane:20191008T103000
DTEND;TZID=Australia/Brisbane:20191008T123000
DTSTAMP:20260424T153723
CREATED:20190915T234557Z
LAST-MODIFIED:20190915T234557Z
UID:19488-1570530600-1570537800@nicolejohnston.com.au
SUMMARY:Yeronga | Tenant Trivia!
DESCRIPTION:
URL:https://nicolejohnston.com.au/event/yeronga-tenant-trivia/
LOCATION:Yeronga Community Centre\, 62 Park Rd\, Yeronga\, Queensland\, 4103\, Australia
GEO:-27.5178214;153.0308084
X-APPLE-STRUCTURED-LOCATION;VALUE=URI;X-ADDRESS=Yeronga Community Centre 62 Park Rd Yeronga Queensland 4103 Australia;X-APPLE-RADIUS=500;X-TITLE=62 Park Rd:geo:153.0308084,-27.5178214
END:VEVENT
BEGIN:VEVENT
DTSTART;TZID=Australia/Brisbane:20190928T103000
DTEND;TZID=Australia/Brisbane:20190928T113000
DTSTAMP:20260424T153723
CREATED:20190904T002253Z
LAST-MODIFIED:20190904T002254Z
UID:19429-1569666600-1569670200@nicolejohnston.com.au
SUMMARY:Yeronga | ReThink Lotion-Bar Workshop
DESCRIPTION:
URL:https://nicolejohnston.com.au/event/yeronga-rethink-lotion-bar-workshop/
LOCATION:Yeronga Community Centre\, 62 Park Rd\, Yeronga\, Queensland\, 4103\, Australia
GEO:-27.5178214;153.0308084
X-APPLE-STRUCTURED-LOCATION;VALUE=URI;X-ADDRESS=Yeronga Community Centre 62 Park Rd Yeronga Queensland 4103 Australia;X-APPLE-RADIUS=500;X-TITLE=62 Park Rd:geo:153.0308084,-27.5178214
END:VEVENT
BEGIN:VEVENT
DTSTART;TZID=Australia/Brisbane:20190714T100000
DTEND;TZID=Australia/Brisbane:20190714T140000
DTSTAMP:20260424T153723
CREATED:20190703T011504Z
LAST-MODIFIED:20190703T011504Z
UID:19095-1563098400-1563112800@nicolejohnston.com.au
SUMMARY:Community Plus Open Day
DESCRIPTION:
URL:https://nicolejohnston.com.au/event/community-plus-open-day/
LOCATION:Yeronga Community Centre\, 62 Park Rd\, Yeronga\, Queensland\, 4103\, Australia
GEO:-27.5178214;153.0308084
X-APPLE-STRUCTURED-LOCATION;VALUE=URI;X-ADDRESS=Yeronga Community Centre 62 Park Rd Yeronga Queensland 4103 Australia;X-APPLE-RADIUS=500;X-TITLE=62 Park Rd:geo:153.0308084,-27.5178214
END:VEVENT
BEGIN:VEVENT
DTSTART;TZID=Australia/Brisbane:20180510T103000
DTEND;TZID=Australia/Brisbane:20180510T123000
DTSTAMP:20260424T153723
CREATED:20180504T014819Z
LAST-MODIFIED:20180504T014819Z
UID:16508-1525948200-1525955400@nicolejohnston.com.au
SUMMARY:Art Group | Yeronga Community Centre
DESCRIPTION:Painting class with an experienced art teacher.
URL:https://nicolejohnston.com.au/event/art-group-yeronga-community-centre/2018-05-10/
LOCATION:Yeronga Community Centre\, 62 Park Rd\, Yeronga\, Queensland\, 4103\, Australia
GEO:-27.5178214;153.0308084
X-APPLE-STRUCTURED-LOCATION;VALUE=URI;X-ADDRESS=Yeronga Community Centre 62 Park Rd Yeronga Queensland 4103 Australia;X-APPLE-RADIUS=500;X-TITLE=62 Park Rd:geo:153.0308084,-27.5178214
END:VEVENT
BEGIN:VEVENT
DTSTART;TZID=Australia/Brisbane:20180510T100000
DTEND;TZID=Australia/Brisbane:20180510T103000
DTSTAMP:20260424T153723
CREATED:20180504T013049Z
LAST-MODIFIED:20180504T013049Z
UID:16304-1525946400-1525948200@nicolejohnston.com.au
SUMMARY:Guided Meditation | Yeronga Community Centre
DESCRIPTION:This is a volunteer-led meditation group to help bring you some calm.
URL:https://nicolejohnston.com.au/event/guided-meditation-yeronga-community-centre-2/2018-05-10/
LOCATION:Yeronga Community Centre\, 62 Park Rd\, Yeronga\, Queensland\, 4103\, Australia
GEO:-27.5178214;153.0308084
X-APPLE-STRUCTURED-LOCATION;VALUE=URI;X-ADDRESS=Yeronga Community Centre 62 Park Rd Yeronga Queensland 4103 Australia;X-APPLE-RADIUS=500;X-TITLE=62 Park Rd:geo:153.0308084,-27.5178214
END:VEVENT
BEGIN:VEVENT
DTSTART;TZID=Australia/Brisbane:20180510T093000
DTEND;TZID=Australia/Brisbane:20180510T120000
DTSTAMP:20260424T153723
CREATED:20180504T013149Z
LAST-MODIFIED:20180504T013237Z
UID:16329-1525944600-1525953600@nicolejohnston.com.au
SUMMARY:Craft Group | Yeronga Community Centre
DESCRIPTION:BYO craft activity or share with your skills with the group. New craft ideas welcome. All levels.
URL:https://nicolejohnston.com.au/event/craft-group-yeronga-community-centre-2/2018-05-10/
LOCATION:Yeronga Community Centre\, 62 Park Rd\, Yeronga\, Queensland\, 4103\, Australia
GEO:-27.5178214;153.0308084
X-APPLE-STRUCTURED-LOCATION;VALUE=URI;X-ADDRESS=Yeronga Community Centre 62 Park Rd Yeronga Queensland 4103 Australia;X-APPLE-RADIUS=500;X-TITLE=62 Park Rd:geo:153.0308084,-27.5178214
END:VEVENT
BEGIN:VEVENT
DTSTART;TZID=Australia/Brisbane:20180507T100000
DTEND;TZID=Australia/Brisbane:20180507T120000
DTSTAMP:20260424T153723
CREATED:20180504T012141Z
LAST-MODIFIED:20180504T012209Z
UID:16170-1525687200-1525694400@nicolejohnston.com.au
SUMMARY:Computer Assistance | Yeronga Community Centre
DESCRIPTION:Help with smart phones\, laptops and tablets etc.
URL:https://nicolejohnston.com.au/event/computer-assistance-yeronga-community-centre-2/2018-05-07/
LOCATION:Yeronga Community Centre\, 62 Park Rd\, Yeronga\, Queensland\, 4103\, Australia
GEO:-27.5178214;153.0308084
X-APPLE-STRUCTURED-LOCATION;VALUE=URI;X-ADDRESS=Yeronga Community Centre 62 Park Rd Yeronga Queensland 4103 Australia;X-APPLE-RADIUS=500;X-TITLE=62 Park Rd:geo:153.0308084,-27.5178214
END:VEVENT
BEGIN:VEVENT
DTSTART;TZID=Australia/Brisbane:20180507T100000
DTEND;TZID=Australia/Brisbane:20180507T120000
DTSTAMP:20260424T153723
CREATED:20180504T012013Z
LAST-MODIFIED:20180504T012031Z
UID:16117-1525687200-1525694400@nicolejohnston.com.au
SUMMARY:Seniors Group | Yeronga Community Centre
DESCRIPTION:Socialising and games
URL:https://nicolejohnston.com.au/event/yeronga-community-centre-seniors-group/2018-05-07/
LOCATION:Yeronga Community Centre\, 62 Park Rd\, Yeronga\, Queensland\, 4103\, Australia
GEO:-27.5178214;153.0308084
X-APPLE-STRUCTURED-LOCATION;VALUE=URI;X-ADDRESS=Yeronga Community Centre 62 Park Rd Yeronga Queensland 4103 Australia;X-APPLE-RADIUS=500;X-TITLE=62 Park Rd:geo:153.0308084,-27.5178214
END:VEVENT
BEGIN:VEVENT
DTSTART;TZID=Australia/Brisbane:20180507T100000
DTEND;TZID=Australia/Brisbane:20180507T110000
DTSTAMP:20260424T153723
CREATED:20180504T015313Z
LAST-MODIFIED:20180504T015313Z
UID:16617-1525687200-1525690800@nicolejohnston.com.au
SUMMARY:Indoor Lawn Bowls | Yeronga Community Centre
DESCRIPTION:Come and have some fun on the ‘bowling green’ at the community centre at Yeronga. Every Monday at 10:00am. Everyone is welcome\, and best of all – it’s free!
URL:https://nicolejohnston.com.au/event/indoor-lawn-bowls-yeronga-community-centre/2018-05-07/
LOCATION:Yeronga Community Centre\, 62 Park Rd\, Yeronga\, Queensland\, 4103\, Australia
GEO:-27.5178214;153.0308084
X-APPLE-STRUCTURED-LOCATION;VALUE=URI;X-ADDRESS=Yeronga Community Centre 62 Park Rd Yeronga Queensland 4103 Australia;X-APPLE-RADIUS=500;X-TITLE=62 Park Rd:geo:153.0308084,-27.5178214
END:VEVENT
BEGIN:VEVENT
DTSTART;TZID=Australia/Brisbane:20170727T103000
DTEND;TZID=Australia/Brisbane:20170727T120000
DTSTAMP:20260424T153723
CREATED:20170724T051125Z
LAST-MODIFIED:20170724T051125Z
UID:13547-1501151400-1501156800@nicolejohnston.com.au
SUMMARY:Art Classes | Yeronga Community Centre
DESCRIPTION:Practice art with an experienced art teacher.
URL:https://nicolejohnston.com.au/event/art-classes-yeronga-community-centre/2017-07-27/
LOCATION:Yeronga Community Centre\, 62 Park Rd\, Yeronga\, Queensland\, 4103\, Australia
GEO:-27.5178214;153.0308084
X-APPLE-STRUCTURED-LOCATION;VALUE=URI;X-ADDRESS=Yeronga Community Centre 62 Park Rd Yeronga Queensland 4103 Australia;X-APPLE-RADIUS=500;X-TITLE=62 Park Rd:geo:153.0308084,-27.5178214
END:VEVENT
BEGIN:VEVENT
DTSTART;TZID=Australia/Brisbane:20170727T103000
DTEND;TZID=Australia/Brisbane:20170727T120000
DTSTAMP:20260424T153723
CREATED:20170724T050940Z
LAST-MODIFIED:20170724T050940Z
UID:13529-1501151400-1501156800@nicolejohnston.com.au
SUMMARY:Craft Group | Yeronga Community Centre
DESCRIPTION:BYO craft activity or share your skills with the group. New craft ideas welcome. Open to all levels. All welcome. Free!
URL:https://nicolejohnston.com.au/event/craft-group-yeronga-community-centre/2017-07-27/
LOCATION:Yeronga Community Centre\, 62 Park Rd\, Yeronga\, Queensland\, 4103\, Australia
GEO:-27.5178214;153.0308084
X-APPLE-STRUCTURED-LOCATION;VALUE=URI;X-ADDRESS=Yeronga Community Centre 62 Park Rd Yeronga Queensland 4103 Australia;X-APPLE-RADIUS=500;X-TITLE=62 Park Rd:geo:153.0308084,-27.5178214
END:VEVENT
BEGIN:VEVENT
DTSTART;TZID=Australia/Brisbane:20170727T100000
DTEND;TZID=Australia/Brisbane:20170727T103000
DTSTAMP:20260424T153723
CREATED:20170724T050349Z
LAST-MODIFIED:20170724T050349Z
UID:13476-1501149600-1501151400@nicolejohnston.com.au
SUMMARY:Guided Meditation | Yeronga Community Centre
DESCRIPTION:
URL:https://nicolejohnston.com.au/event/guided-meditation-yeronga-community-centre/2017-07-27/
LOCATION:Yeronga Community Centre\, 62 Park Rd\, Yeronga\, Queensland\, 4103\, Australia
GEO:-27.5178214;153.0308084
X-APPLE-STRUCTURED-LOCATION;VALUE=URI;X-ADDRESS=Yeronga Community Centre 62 Park Rd Yeronga Queensland 4103 Australia;X-APPLE-RADIUS=500;X-TITLE=62 Park Rd:geo:153.0308084,-27.5178214
END:VEVENT
BEGIN:VEVENT
DTSTART;TZID=Australia/Brisbane:20170726T100000
DTEND;TZID=Australia/Brisbane:20170726T110000
DTSTAMP:20260424T153723
CREATED:20170724T050044Z
LAST-MODIFIED:20170724T050044Z
UID:13363-1501063200-1501066800@nicolejohnston.com.au
SUMMARY:Computer Assistance | Yeronga Community Centre
DESCRIPTION:Basic computer assistance based on individual needs. Help with Smart Phones\, tablet\, laptops\, etc. FREE!
URL:https://nicolejohnston.com.au/event/computer-assistance-yeronga-community-centre/2017-07-26/
LOCATION:Yeronga Community Centre\, 62 Park Rd\, Yeronga\, Queensland\, 4103\, Australia
GEO:-27.5178214;153.0308084
X-APPLE-STRUCTURED-LOCATION;VALUE=URI;X-ADDRESS=Yeronga Community Centre 62 Park Rd Yeronga Queensland 4103 Australia;X-APPLE-RADIUS=500;X-TITLE=62 Park Rd:geo:153.0308084,-27.5178214
END:VEVENT
BEGIN:VEVENT
DTSTART;TZID=Australia/Brisbane:20170726T073000
DTEND;TZID=Australia/Brisbane:20170726T083000
DTSTAMP:20260424T153723
CREATED:20170724T050210Z
LAST-MODIFIED:20170724T050210Z
UID:13415-1501054200-1501057800@nicolejohnston.com.au
SUMMARY:Community Breakfast | Yeronga Community Centre
DESCRIPTION:During the school term only
URL:https://nicolejohnston.com.au/event/community-breakfast-yeronga-community-centre/2017-07-26/
LOCATION:Yeronga Community Centre\, 62 Park Rd\, Yeronga\, Queensland\, 4103\, Australia
GEO:-27.5178214;153.0308084
X-APPLE-STRUCTURED-LOCATION;VALUE=URI;X-ADDRESS=Yeronga Community Centre 62 Park Rd Yeronga Queensland 4103 Australia;X-APPLE-RADIUS=500;X-TITLE=62 Park Rd:geo:153.0308084,-27.5178214
END:VEVENT
BEGIN:VEVENT
DTSTART;TZID=Australia/Brisbane:20170724T100000
DTEND;TZID=Australia/Brisbane:20170724T120000
DTSTAMP:20260424T153723
CREATED:20170724T033725Z
LAST-MODIFIED:20170724T033725Z
UID:13241-1500890400-1500897600@nicolejohnston.com.au
SUMMARY:Seniors Morning Tea | Yeronga Community Centre
DESCRIPTION:Socialising and games
URL:https://nicolejohnston.com.au/event/seniors-morning-tea-yeronga-community-centre/2017-07-24/
LOCATION:Yeronga Community Centre\, 62 Park Rd\, Yeronga\, Queensland\, 4103\, Australia
GEO:-27.5178214;153.0308084
X-APPLE-STRUCTURED-LOCATION;VALUE=URI;X-ADDRESS=Yeronga Community Centre 62 Park Rd Yeronga Queensland 4103 Australia;X-APPLE-RADIUS=500;X-TITLE=62 Park Rd:geo:153.0308084,-27.5178214
END:VEVENT
BEGIN:VEVENT
DTSTART;TZID=Australia/Brisbane:20170724T093000
DTEND;TZID=Australia/Brisbane:20170724T100000
DTSTAMP:20260424T153723
CREATED:20170724T045723Z
LAST-MODIFIED:20170724T045723Z
UID:13308-1500888600-1500890400@nicolejohnston.com.au
SUMMARY:Seniors Gentle Yoga | Yeronga Community Centre
DESCRIPTION:
URL:https://nicolejohnston.com.au/event/seniors-gentle-yoga-yeronga-community-centre/2017-07-24/
LOCATION:Yeronga Community Centre\, 62 Park Rd\, Yeronga\, Queensland\, 4103\, Australia
GEO:-27.5178214;153.0308084
X-APPLE-STRUCTURED-LOCATION;VALUE=URI;X-ADDRESS=Yeronga Community Centre 62 Park Rd Yeronga Queensland 4103 Australia;X-APPLE-RADIUS=500;X-TITLE=62 Park Rd:geo:153.0308084,-27.5178214
END:VEVENT
BEGIN:VEVENT
DTSTART;VALUE=DATE:20160919
DTEND;VALUE=DATE:20160920
DTSTAMP:20260424T153723
CREATED:20160630T013419Z
LAST-MODIFIED:20160630T013419Z
UID:9425-1474243200-1474329599@nicolejohnston.com.au
SUMMARY:Seniors Excursion - Carnival of Flowers Toowoomba
DESCRIPTION:Carnival of Flowers Excursion Info \nPlease visit the above link for more information
URL:https://nicolejohnston.com.au/event/seniors-excursion-carnival-of-flowers-toowoomba/
LOCATION:Yeronga Community Centre\, 62 Park Rd\, Yeronga\, Queensland\, 4103\, Australia
ORGANIZER;CN="Yeronga Community Centre":MAILTO:yeronga@communityplus.org.au
GEO:-27.5178214;153.0308084
X-APPLE-STRUCTURED-LOCATION;VALUE=URI;X-ADDRESS=Yeronga Community Centre 62 Park Rd Yeronga Queensland 4103 Australia;X-APPLE-RADIUS=500;X-TITLE=62 Park Rd:geo:153.0308084,-27.5178214
END:VEVENT
BEGIN:VEVENT
DTSTART;TZID=Australia/Brisbane:20160725T100000
DTEND;TZID=Australia/Brisbane:20160725T120000
DTSTAMP:20260424T153723
CREATED:20160711T011604Z
LAST-MODIFIED:20160711T011604Z
UID:9508-1469440800-1469448000@nicolejohnston.com.au
SUMMARY:Monday Movie Morning
DESCRIPTION:Join the Yeronga Community Centre for a movie morning. The movie pick is The Dressmaker\, which is set in 1950’s Australia and stars Kate Winslet.
URL:https://nicolejohnston.com.au/event/monday-movie-morning/
LOCATION:Yeronga Community Centre\, 62 Park Rd\, Yeronga\, Queensland\, 4103\, Australia
ORGANIZER;CN="Yeronga Community Centre":MAILTO:yeronga@communityplus.org.au
GEO:-27.5178214;153.0308084
X-APPLE-STRUCTURED-LOCATION;VALUE=URI;X-ADDRESS=Yeronga Community Centre 62 Park Rd Yeronga Queensland 4103 Australia;X-APPLE-RADIUS=500;X-TITLE=62 Park Rd:geo:153.0308084,-27.5178214
END:VEVENT
BEGIN:VEVENT
DTSTART;TZID=Australia/Brisbane:20160714T130000
DTEND;TZID=Australia/Brisbane:20160714T150000
DTSTAMP:20260424T153723
CREATED:20160712T065637Z
LAST-MODIFIED:20160712T065656Z
UID:9543-1468501200-1468508400@nicolejohnston.com.au
SUMMARY:Dancing Fun
DESCRIPTION:There is a new group that have started a dance activity where they learn a different dance style every month. Beginners welcome. Free! Call the centre if interested in coming along – 3848 2285.
URL:https://nicolejohnston.com.au/event/dancing-fun/2016-07-14/
LOCATION:Yeronga Community Centre\, 62 Park Rd\, Yeronga\, Queensland\, 4103\, Australia
ORGANIZER;CN="Yeronga Community Centre":MAILTO:yeronga@communityplus.org.au
GEO:-27.5178214;153.0308084
X-APPLE-STRUCTURED-LOCATION;VALUE=URI;X-ADDRESS=Yeronga Community Centre 62 Park Rd Yeronga Queensland 4103 Australia;X-APPLE-RADIUS=500;X-TITLE=62 Park Rd:geo:153.0308084,-27.5178214
END:VEVENT
BEGIN:VEVENT
DTSTART;TZID=Australia/Brisbane:20160713T100000
DTEND;TZID=Australia/Brisbane:20160713T120000
DTSTAMP:20260424T153723
CREATED:20160712T065813Z
LAST-MODIFIED:20160712T065813Z
UID:9568-1468404000-1468411200@nicolejohnston.com.au
SUMMARY:Community Garden
DESCRIPTION:The community garden group have started work in the garden at the Yeronga Community Centre as a starting point and with the view to also have a larger site at an alternative location. Exciting times – come and join in the gardening fun! There are plans to meet both during the week and on a weekend (most likely a Saturday). Enquiries to PJ on 3848 2285 or pj@communityplus.org.au
URL:https://nicolejohnston.com.au/event/community-garden/2016-07-13/
LOCATION:Yeronga Community Centre\, 62 Park Rd\, Yeronga\, Queensland\, 4103\, Australia
ORGANIZER;CN="Yeronga Community Centre":MAILTO:yeronga@communityplus.org.au
GEO:-27.5178214;153.0308084
X-APPLE-STRUCTURED-LOCATION;VALUE=URI;X-ADDRESS=Yeronga Community Centre 62 Park Rd Yeronga Queensland 4103 Australia;X-APPLE-RADIUS=500;X-TITLE=62 Park Rd:geo:153.0308084,-27.5178214
END:VEVENT
BEGIN:VEVENT
DTSTART;TZID=Australia/Brisbane:20160713T080000
DTEND;TZID=Australia/Brisbane:20160713T170000
DTSTAMP:20260424T153723
CREATED:20160711T010959Z
LAST-MODIFIED:20160711T010959Z
UID:9499-1468396800-1468429200@nicolejohnston.com.au
SUMMARY:Yeronga Community Breakfast
DESCRIPTION:A breakfast for everyone in the community. All welcome
URL:https://nicolejohnston.com.au/event/yeronga-community-breakfast/2016-07-13/
LOCATION:Yeronga Community Centre\, 62 Park Rd\, Yeronga\, Queensland\, 4103\, Australia
ORGANIZER;CN="Yeronga Community Centre":MAILTO:yeronga@communityplus.org.au
GEO:-27.5178214;153.0308084
X-APPLE-STRUCTURED-LOCATION;VALUE=URI;X-ADDRESS=Yeronga Community Centre 62 Park Rd Yeronga Queensland 4103 Australia;X-APPLE-RADIUS=500;X-TITLE=62 Park Rd:geo:153.0308084,-27.5178214
END:VEVENT
BEGIN:VEVENT
DTSTART;TZID=Australia/Brisbane:20160323T090000
DTEND;TZID=Australia/Brisbane:20160323T110000
DTSTAMP:20260424T153723
CREATED:20160317T084839Z
LAST-MODIFIED:20160317T084839Z
UID:7887-1458723600-1458730800@nicolejohnston.com.au
SUMMARY:Yeronga | Computer Assistance
DESCRIPTION:Basic computer skills class based on individuals needs. \nContact the Centre for more information.
URL:https://nicolejohnston.com.au/event/yeronga-computer-assistance/2016-03-23/
LOCATION:Yeronga Community Centre\, 62 Park Rd\, Yeronga\, Queensland\, 4103\, Australia
ORGANIZER;CN="Yeronga Community Centre":MAILTO:yeronga@communityplus.org.au
GEO:-27.5178214;153.0308084
X-APPLE-STRUCTURED-LOCATION;VALUE=URI;X-ADDRESS=Yeronga Community Centre 62 Park Rd Yeronga Queensland 4103 Australia;X-APPLE-RADIUS=500;X-TITLE=62 Park Rd:geo:153.0308084,-27.5178214
END:VEVENT
BEGIN:VEVENT
DTSTART;TZID=Australia/Brisbane:20160322T093000
DTEND;TZID=Australia/Brisbane:20160322T113000
DTSTAMP:20260424T153723
CREATED:20160317T084327Z
LAST-MODIFIED:20160317T084337Z
UID:7866-1458639000-1458646200@nicolejohnston.com.au
SUMMARY:Yeronga | Lively Lambs Playgroup
DESCRIPTION:Open to all children aged 0 – 5 years.  Playgroup is a parent lead initiative with involvement from all who attend.
URL:https://nicolejohnston.com.au/event/yeronga-lively-lambs-playgroup/2016-03-22/
LOCATION:Yeronga Community Centre\, 62 Park Rd\, Yeronga\, Queensland\, 4103\, Australia
ORGANIZER;CN="Yeronga Community Centre":MAILTO:yeronga@communityplus.org.au
GEO:-27.5178214;153.0308084
X-APPLE-STRUCTURED-LOCATION;VALUE=URI;X-ADDRESS=Yeronga Community Centre 62 Park Rd Yeronga Queensland 4103 Australia;X-APPLE-RADIUS=500;X-TITLE=62 Park Rd:geo:153.0308084,-27.5178214
END:VEVENT
BEGIN:VEVENT
DTSTART;TZID=Australia/Brisbane:20160211T093000
DTEND;TZID=Australia/Brisbane:20160211T113000
DTSTAMP:20260424T153723
CREATED:20160210T130956Z
LAST-MODIFIED:20170727T230653Z
UID:7006-1455183000-1455190200@nicolejohnston.com.au
SUMMARY:Yeronga | Painting Class
DESCRIPTION:As part of our Thursday Craft Group there will be a painting class for beginners and those with more experience. The class will be facilitated by experienced Art Teacher\, Rosemary MacBride. All welcome.
URL:https://nicolejohnston.com.au/event/yeronga-painting-class/2016-02-11/
LOCATION:Yeronga Community Centre\, 62 Park Rd\, Yeronga\, Queensland\, 4103\, Australia
ORGANIZER;CN="Yeronga Community Centre":MAILTO:yeronga@communityplus.org.au
GEO:-27.5178214;153.0308084
X-APPLE-STRUCTURED-LOCATION;VALUE=URI;X-ADDRESS=Yeronga Community Centre 62 Park Rd Yeronga Queensland 4103 Australia;X-APPLE-RADIUS=500;X-TITLE=62 Park Rd:geo:153.0308084,-27.5178214
END:VEVENT
BEGIN:VEVENT
DTSTART;TZID=Australia/Brisbane:20151110T093000
DTEND;TZID=Australia/Brisbane:20151110T113000
DTSTAMP:20260424T153723
CREATED:20150511T111825Z
LAST-MODIFIED:20150511T111825Z
UID:2716-1447147800-1447155000@nicolejohnston.com.au
SUMMARY:Lively Lambs Playgroup
DESCRIPTION:Lively Lambs Playgroup is supported by the Yeronga Community Centre and is open for all families in our community with children.
URL:https://nicolejohnston.com.au/event/lively-lambs-playgroup-7/2015-11-10/
LOCATION:Yeronga Community Centre\, 62 Park Rd\, Yeronga\, Queensland\, 4103\, Australia
ORGANIZER;CN="Yeronga Community Centre":MAILTO:yeronga@communityplus.org.au
GEO:-27.5178214;153.0308084
X-APPLE-STRUCTURED-LOCATION;VALUE=URI;X-ADDRESS=Yeronga Community Centre 62 Park Rd Yeronga Queensland 4103 Australia;X-APPLE-RADIUS=500;X-TITLE=62 Park Rd:geo:153.0308084,-27.5178214
END:VEVENT
BEGIN:VEVENT
DTSTART;TZID=Australia/Brisbane:20151024T070000
DTEND;TZID=Australia/Brisbane:20151024T120000
DTSTAMP:20260424T153723
CREATED:20150928T115222Z
LAST-MODIFIED:20150928T115222Z
UID:4304-1445670000-1445688000@nicolejohnston.com.au
SUMMARY:Yeronga Car Boot Sale
DESCRIPTION:We invite you to join your neighbours and community by having a car boot or table stall on National Garage Sale Day. \nTo boot a spot\, contact us as all sellers must be preregistered.  Cost per site: Donation to Yeronga Community Centre.
URL:https://nicolejohnston.com.au/event/yeronga-car-boot-sale/
LOCATION:Yeronga Community Centre\, 62 Park Rd\, Yeronga\, Queensland\, 4103\, Australia
ORGANIZER;CN="Yeronga Community Centre":MAILTO:yeronga@communityplus.org.au
GEO:-27.5178214;153.0308084
X-APPLE-STRUCTURED-LOCATION;VALUE=URI;X-ADDRESS=Yeronga Community Centre 62 Park Rd Yeronga Queensland 4103 Australia;X-APPLE-RADIUS=500;X-TITLE=62 Park Rd:geo:153.0308084,-27.5178214
END:VEVENT
BEGIN:VEVENT
DTSTART;TZID=Australia/Brisbane:20151013T093000
DTEND;TZID=Australia/Brisbane:20151013T113000
DTSTAMP:20260424T153723
CREATED:20150511T111738Z
LAST-MODIFIED:20150511T111738Z
UID:2713-1444728600-1444735800@nicolejohnston.com.au
SUMMARY:Lively Lambs Playgroup
DESCRIPTION:Lively Lambs Playgroup is supported by the Yeronga Community Centre and is open for all families in our community with children.
URL:https://nicolejohnston.com.au/event/lively-lambs-playgroup-6/2015-10-13/
LOCATION:Yeronga Community Centre\, 62 Park Rd\, Yeronga\, Queensland\, 4103\, Australia
ORGANIZER;CN="Yeronga Community Centre":MAILTO:yeronga@communityplus.org.au
GEO:-27.5178214;153.0308084
X-APPLE-STRUCTURED-LOCATION;VALUE=URI;X-ADDRESS=Yeronga Community Centre 62 Park Rd Yeronga Queensland 4103 Australia;X-APPLE-RADIUS=500;X-TITLE=62 Park Rd:geo:153.0308084,-27.5178214
END:VEVENT
BEGIN:VEVENT
DTSTART;TZID=Australia/Brisbane:20151001T180000
DTEND;TZID=Australia/Brisbane:20151001T190000
DTSTAMP:20260424T153723
CREATED:20150911T095601Z
LAST-MODIFIED:20150911T095601Z
UID:3861-1443722400-1443726000@nicolejohnston.com.au
SUMMARY:Beginner Yoga - Yeronga
DESCRIPTION:Come along and join a beginners yoga group. \nYoga mats provided. \n$10.00 waged; $5 unwaged.
URL:https://nicolejohnston.com.au/event/beginner-yoga-yeronga/2015-10-01/
LOCATION:Yeronga Community Centre\, 62 Park Rd\, Yeronga\, Queensland\, 4103\, Australia
ORGANIZER;CN="Yeronga Community Centre":MAILTO:yeronga@communityplus.org.au
GEO:-27.5178214;153.0308084
X-APPLE-STRUCTURED-LOCATION;VALUE=URI;X-ADDRESS=Yeronga Community Centre 62 Park Rd Yeronga Queensland 4103 Australia;X-APPLE-RADIUS=500;X-TITLE=62 Park Rd:geo:153.0308084,-27.5178214
END:VEVENT
END:VCALENDAR