BEGIN:VCALENDAR
VERSION:2.0
PRODID:-//Nicole Johnston - ECPv6.15.20//NONSGML v1.0//EN
CALSCALE:GREGORIAN
METHOD:PUBLISH
X-ORIGINAL-URL:https://nicolejohnston.com.au
X-WR-CALDESC:Events for Nicole Johnston
REFRESH-INTERVAL;VALUE=DURATION:PT1H
X-Robots-Tag:noindex
X-PUBLISHED-TTL:PT1H
BEGIN:VTIMEZONE
TZID:Australia/Brisbane
BEGIN:STANDARD
TZOFFSETFROM:+1000
TZOFFSETTO:+1000
TZNAME:AEST
DTSTART:20230101T000000
END:STANDARD
END:VTIMEZONE
BEGIN:VEVENT
DTSTART;TZID=Australia/Brisbane:20241214T160000
DTEND;TZID=Australia/Brisbane:20241214T210000
DTSTAMP:20260424T141156
CREATED:20241021T052720Z
LAST-MODIFIED:20241023T035327Z
UID:28347-1734192000-1734210000@nicolejohnston.com.au
SUMMARY:Yeronga | Yeronga Community Christmas Party
DESCRIPTION:Rides\, food trucks\, Movie in the Fields and more surprises announced closer to the date.
URL:https://nicolejohnston.com.au/event/yeronga-yeronga-community-christmas-party/
LOCATION:Yeronga Devils AFL Club\, Leyshon Park\, Yeronga\, Queensland\, 4104\, Australia
CATEGORIES:Community Event
ATTACH;FMTTYPE=image/png:https://nicolejohnston.com.au/wp-content/uploads/2024/10/Yeronga-Community-Christmas-Party.png
END:VEVENT
END:VCALENDAR