BEGIN:VCALENDAR
VERSION:2.0
PRODID:-//Nicole Johnston - ECPv6.15.20//NONSGML v1.0//EN
CALSCALE:GREGORIAN
METHOD:PUBLISH
X-ORIGINAL-URL:https://nicolejohnston.com.au
X-WR-CALDESC:Events for Nicole Johnston
REFRESH-INTERVAL;VALUE=DURATION:PT1H
X-Robots-Tag:noindex
X-PUBLISHED-TTL:PT1H
BEGIN:VTIMEZONE
TZID:Australia/Brisbane
BEGIN:STANDARD
TZOFFSETFROM:+1000
TZOFFSETTO:+1000
TZNAME:AEST
DTSTART:20150101T000000
END:STANDARD
END:VTIMEZONE
BEGIN:VEVENT
DTSTART;TZID=Australia/Brisbane:20160521T120000
DTEND;TZID=Australia/Brisbane:20160521T160000
DTSTAMP:20260424T141338
CREATED:20160428T041846Z
LAST-MODIFIED:20160428T044115Z
UID:9063-1463832000-1463846400@nicolejohnston.com.au
SUMMARY:Yeronga Devils Junior Football Club Ladies Day
DESCRIPTION:
URL:https://nicolejohnston.com.au/event/world-croquet-day-at-stephens/
LOCATION:Yeronga Devils Junior Football Club\, Leyshon Park\, 1 Cansdale St\, Yeronga\, Queensland\, 4104\, Australia
GEO:-27.5100945;153.0143755
X-APPLE-STRUCTURED-LOCATION;VALUE=URI;X-ADDRESS=Yeronga Devils Junior Football Club Leyshon Park 1 Cansdale St Yeronga Queensland 4104 Australia;X-APPLE-RADIUS=500;X-TITLE=Leyshon Park\, 1 Cansdale St:geo:153.0143755,-27.5100945
END:VEVENT
END:VCALENDAR