BEGIN:VCALENDAR
VERSION:2.0
PRODID:-//Nicole Johnston - ECPv6.15.20//NONSGML v1.0//EN
CALSCALE:GREGORIAN
METHOD:PUBLISH
X-WR-CALNAME:Nicole Johnston
X-ORIGINAL-URL:https://nicolejohnston.com.au
X-WR-CALDESC:Events for Nicole Johnston
REFRESH-INTERVAL;VALUE=DURATION:PT1H
X-Robots-Tag:noindex
X-PUBLISHED-TTL:PT1H
BEGIN:VTIMEZONE
TZID:Australia/Brisbane
BEGIN:STANDARD
TZOFFSETFROM:+1000
TZOFFSETTO:+1000
TZNAME:AEST
DTSTART:20140101T000000
END:STANDARD
END:VTIMEZONE
BEGIN:VEVENT
DTSTART;TZID=Australia/Brisbane:20151125T170000
DTEND;TZID=Australia/Brisbane:20151125T190000
DTSTAMP:20260424T234050
CREATED:20151102T201236Z
LAST-MODIFIED:20151102T201236Z
UID:4727-1448470800-1448478000@nicolejohnston.com.au
SUMMARY:Talk to a Planner - Dutton Park Fairfield Neighbourhood Plan
DESCRIPTION:Council is holding Talk to a Planner sessions where you can speak one-on-one with a Council officer about the draft Dutton Park – Fairfield Neighbourhood Plan.
URL:https://nicolejohnston.com.au/event/talk-to-a-planner-dutton-park-fairfield-neighbourhood-plan-4/
LOCATION:Yeronga Dutton Park RSL\, Cnr Fairfield Rd & Kadumba St\, Yeronga\, Queensland\, 4104\, Australia
GEO:-27.5160043;153.017903
X-APPLE-STRUCTURED-LOCATION;VALUE=URI;X-ADDRESS=Yeronga Dutton Park RSL Cnr Fairfield Rd & Kadumba St Yeronga Queensland 4104 Australia;X-APPLE-RADIUS=500;X-TITLE=Cnr Fairfield Rd & Kadumba St:geo:153.017903,-27.5160043
END:VEVENT
BEGIN:VEVENT
DTSTART;TZID=Australia/Brisbane:20151125T140000
DTEND;TZID=Australia/Brisbane:20151125T160000
DTSTAMP:20260424T234050
CREATED:20151102T201145Z
LAST-MODIFIED:20151102T201145Z
UID:4726-1448460000-1448467200@nicolejohnston.com.au
SUMMARY:Talk to a Planner - Dutton Park Fairfield Neighbourhood Plan
DESCRIPTION:Council is holding Talk to a Planner sessions where you can speak one-on-one with a Council officer about the draft Dutton Park – Fairfield Neighbourhood Plan.
URL:https://nicolejohnston.com.au/event/talk-to-a-planner-dutton-park-fairfield-neighbourhood-plan-3/
LOCATION:Yeronga Dutton Park RSL\, Cnr Fairfield Rd & Kadumba St\, Yeronga\, Queensland\, 4104\, Australia
GEO:-27.5160043;153.017903
X-APPLE-STRUCTURED-LOCATION;VALUE=URI;X-ADDRESS=Yeronga Dutton Park RSL Cnr Fairfield Rd & Kadumba St Yeronga Queensland 4104 Australia;X-APPLE-RADIUS=500;X-TITLE=Cnr Fairfield Rd & Kadumba St:geo:153.017903,-27.5160043
END:VEVENT
END:VCALENDAR