BEGIN:VCALENDAR
VERSION:2.0
PRODID:-//Nicole Johnston - ECPv6.15.20//NONSGML v1.0//EN
CALSCALE:GREGORIAN
METHOD:PUBLISH
X-ORIGINAL-URL:https://nicolejohnston.com.au
X-WR-CALDESC:Events for Nicole Johnston
REFRESH-INTERVAL;VALUE=DURATION:PT1H
X-Robots-Tag:noindex
X-PUBLISHED-TTL:PT1H
BEGIN:VTIMEZONE
TZID:Australia/Brisbane
BEGIN:STANDARD
TZOFFSETFROM:+1000
TZOFFSETTO:+1000
TZNAME:AEST
DTSTART:20230101T000000
END:STANDARD
END:VTIMEZONE
BEGIN:VEVENT
DTSTART;TZID=Australia/Brisbane:20240601T110000
DTEND;TZID=Australia/Brisbane:20240601T150000
DTSTAMP:20260424T195745
CREATED:20240430T040336Z
LAST-MODIFIED:20240430T040337Z
UID:27193-1717239600-1717254000@nicolejohnston.com.au
SUMMARY:Yeronga | Yeronga Hyde Road Kindergarten 75th Birthday Celebration
DESCRIPTION:Yeronga Hyde Road Kindergarten Inc invites you to join our historic 75 year anniversary celebrations and open day on Saturday\, 1 June 2024 from 11am-3pm \n\n\nWe have a fabulous family-friendly day planned to honor this major milestone and all those who have contributed to the kindy’s success over the years
URL:https://nicolejohnston.com.au/event/yeronga-yeronga-hyde-road-kindergarten-75th-birthday-celebration/
LOCATION:Yeronga Hyde Road Kindergarten\, 43 Hyde Rd\, Yeronga\, QLD\, 4104\, Australia
CATEGORIES:Community Event
ATTACH;FMTTYPE=image/jpeg:https://nicolejohnston.com.au/wp-content/uploads/2024/04/Yeronga-Hyde-Rd-Kindergarten.jpg
END:VEVENT
END:VCALENDAR