BEGIN:VCALENDAR
VERSION:2.0
PRODID:-//Nicole Johnston - ECPv6.15.20//NONSGML v1.0//EN
CALSCALE:GREGORIAN
METHOD:PUBLISH
X-WR-CALNAME:Nicole Johnston
X-ORIGINAL-URL:https://nicolejohnston.com.au
X-WR-CALDESC:Events for Nicole Johnston
REFRESH-INTERVAL;VALUE=DURATION:PT1H
X-Robots-Tag:noindex
X-PUBLISHED-TTL:PT1H
BEGIN:VTIMEZONE
TZID:Australia/Brisbane
BEGIN:STANDARD
TZOFFSETFROM:+1000
TZOFFSETTO:+1000
TZNAME:AEST
DTSTART:20250101T000000
END:STANDARD
END:VTIMEZONE
BEGIN:VEVENT
DTSTART;TZID=Australia/Brisbane:20260425T073000
DTEND;TZID=Australia/Brisbane:20260425T083000
DTSTAMP:20260424T023407
CREATED:20260413T033554Z
LAST-MODIFIED:20260413T033555Z
UID:32601-1777102200-1777105800@nicolejohnston.com.au
SUMMARY:Yeronga | Stephens RSL Sub Branch 2025 ANZAC Day Service
DESCRIPTION:The Stephens RSL Sub Branch ANZAC Day Parade will step off at 7:00am from outside the Yeronga State School. The Parade will travel along Park Road\, turn right through the Yeronga Memorial Park gates into Honour Avenue and proceed to the WW1 Cenotaph. ANZAC Day Service to follow.
URL:https://nicolejohnston.com.au/event/yeronga-stephens-rsl-sub-branch-2025-anzac-day-service-2/
LOCATION:Yeronga Memorial Park\, School Road\, Yeronga\, Queensland\, 4104\, Australia
CATEGORIES:Community Event
ATTACH;FMTTYPE=image/png:https://nicolejohnston.com.au/wp-content/uploads/2026/04/ANZAC-Day-2026.png
GEO:-27.5212612;153.0201362
X-APPLE-STRUCTURED-LOCATION;VALUE=URI;X-ADDRESS=Yeronga Memorial Park School Road Yeronga Queensland 4104 Australia;X-APPLE-RADIUS=500;X-TITLE=School Road:geo:153.0201362,-27.5212612
END:VEVENT
BEGIN:VEVENT
DTSTART;TZID=Australia/Brisbane:20260427T160000
DTEND;TZID=Australia/Brisbane:20260427T170000
DTSTAMP:20260424T023407
CREATED:20260302T045933Z
LAST-MODIFIED:20260302T045933Z
UID:32192-1777305600-1777309200@nicolejohnston.com.au
SUMMARY:Yeronga | Kids Sports
DESCRIPTION:Fun park games for the whole family to enjoy. \nNo bookings required. For more information phone Anthony from Kids Sports on 0414 872 299. \nMeet on the grassed area near the Yeronga Girl Guides building. Best parking is Villa Street or Frederick Street.
URL:https://nicolejohnston.com.au/event/yeronga-kids-sports-10/
LOCATION:Yeronga Memorial Park\, School Road\, Yeronga\, Queensland\, 4104\, Australia
GEO:-27.5212612;153.0201362
X-APPLE-STRUCTURED-LOCATION;VALUE=URI;X-ADDRESS=Yeronga Memorial Park School Road Yeronga Queensland 4104 Australia;X-APPLE-RADIUS=500;X-TITLE=School Road:geo:153.0201362,-27.5212612
END:VEVENT
BEGIN:VEVENT
DTSTART;TZID=Australia/Brisbane:20260511T160000
DTEND;TZID=Australia/Brisbane:20260511T170000
DTSTAMP:20260424T023407
CREATED:20260318T045004Z
LAST-MODIFIED:20260318T045004Z
UID:32438-1778515200-1778518800@nicolejohnston.com.au
SUMMARY:Yeronga | Kids Sports
DESCRIPTION:Fun park games for the whole family to enjoy. \nNo bookings required. For more information phone Anthony from Kids Sports on 0414 872 299. \nMeet on the grassed area near the Yeronga Girl Guides building. Best parking is Villa Street or Frederick Street.
URL:https://nicolejohnston.com.au/event/yeronga-kids-sports-11/
LOCATION:Yeronga Memorial Park\, School Road\, Yeronga\, Queensland\, 4104\, Australia
GEO:-27.5212612;153.0201362
X-APPLE-STRUCTURED-LOCATION;VALUE=URI;X-ADDRESS=Yeronga Memorial Park School Road Yeronga Queensland 4104 Australia;X-APPLE-RADIUS=500;X-TITLE=School Road:geo:153.0201362,-27.5212612
END:VEVENT
BEGIN:VEVENT
DTSTART;TZID=Australia/Brisbane:20260518T160000
DTEND;TZID=Australia/Brisbane:20260518T170000
DTSTAMP:20260424T023407
CREATED:20260319T012752Z
LAST-MODIFIED:20260319T012752Z
UID:32463-1779120000-1779123600@nicolejohnston.com.au
SUMMARY:Yeronga | Kids Sports
DESCRIPTION:Fun park games for the whole family to enjoy. \nNo bookings required. For more information phone Anthony from Kids Sports on 0414 872 299. \nMeet on the grassed area near the Yeronga Girl Guides building. Best parking is Villa Street or Frederick Street.
URL:https://nicolejohnston.com.au/event/yeronga-kids-sports-12/
LOCATION:Yeronga Memorial Park\, School Road\, Yeronga\, Queensland\, 4104\, Australia
GEO:-27.5212612;153.0201362
X-APPLE-STRUCTURED-LOCATION;VALUE=URI;X-ADDRESS=Yeronga Memorial Park School Road Yeronga Queensland 4104 Australia;X-APPLE-RADIUS=500;X-TITLE=School Road:geo:153.0201362,-27.5212612
END:VEVENT
BEGIN:VEVENT
DTSTART;TZID=Australia/Brisbane:20260525T160000
DTEND;TZID=Australia/Brisbane:20260525T170000
DTSTAMP:20260424T023407
CREATED:20260319T020947Z
LAST-MODIFIED:20260319T020947Z
UID:32489-1779724800-1779728400@nicolejohnston.com.au
SUMMARY:Yeronga | Kids Sports
DESCRIPTION:Fun park games for the whole family to enjoy. \nNo bookings required. For more information phone Anthony from Kids Sports on 0414 872 299. \nMeet on the grassed area near the Yeronga Girl Guides building. Best parking is Villa Street or Frederick Street.
URL:https://nicolejohnston.com.au/event/yeronga-kids-sports-13/
LOCATION:Yeronga Memorial Park\, School Road\, Yeronga\, Queensland\, 4104\, Australia
GEO:-27.5212612;153.0201362
X-APPLE-STRUCTURED-LOCATION;VALUE=URI;X-ADDRESS=Yeronga Memorial Park School Road Yeronga Queensland 4104 Australia;X-APPLE-RADIUS=500;X-TITLE=School Road:geo:153.0201362,-27.5212612
END:VEVENT
END:VCALENDAR