BEGIN:VCALENDAR
VERSION:2.0
PRODID:-//Nicole Johnston - ECPv6.15.20//NONSGML v1.0//EN
CALSCALE:GREGORIAN
METHOD:PUBLISH
X-ORIGINAL-URL:https://nicolejohnston.com.au
X-WR-CALDESC:Events for Nicole Johnston
REFRESH-INTERVAL;VALUE=DURATION:PT1H
X-Robots-Tag:noindex
X-PUBLISHED-TTL:PT1H
BEGIN:VTIMEZONE
TZID:Australia/Brisbane
BEGIN:STANDARD
TZOFFSETFROM:+1000
TZOFFSETTO:+1000
TZNAME:AEST
DTSTART:20140101T000000
END:STANDARD
END:VTIMEZONE
BEGIN:VEVENT
DTSTART;TZID=Australia/Brisbane:20151004T150000
DTEND;TZID=Australia/Brisbane:20151004T170000
DTSTAMP:20260424T135012
CREATED:20150727T010724Z
LAST-MODIFIED:20150727T010724Z
UID:3561-1443970800-1443978000@nicolejohnston.com.au
SUMMARY:Come & Try Croquet - Yeronga
DESCRIPTION:It’s fun\, free and good for mind\, body and soul! \nSkills sessions and demonstration games.  All gear provided and all ages welcome. \nYou will need flat\, closed in shoes and a hat/cap and sunscreen. \nCome and have a try\, we’d love to see you! \nCar parking available from Frederick St\, off Villa St.
URL:https://nicolejohnston.com.au/event/come-try-croquet-yeronga-3/
LOCATION:Yeronga Memorial Park\, School Road\, Yeronga\, Queensland\, 4104\, Australia
ORGANIZER;CN="Stephen's Croquet Club":MAILTO:stephens@croquetqld.org
GEO:-27.5212612;153.0201362
X-APPLE-STRUCTURED-LOCATION;VALUE=URI;X-ADDRESS=Yeronga Memorial Park School Road Yeronga Queensland 4104 Australia;X-APPLE-RADIUS=500;X-TITLE=School Road:geo:153.0201362,-27.5212612
END:VEVENT
BEGIN:VEVENT
DTSTART;TZID=Australia/Brisbane:20151004T150000
DTEND;TZID=Australia/Brisbane:20151004T170000
DTSTAMP:20260424T135012
CREATED:20150727T010441Z
LAST-MODIFIED:20150727T010441Z
UID:3562-1443970800-1443978000@nicolejohnston.com.au
SUMMARY:Come & Try Croquet - Yeronga
DESCRIPTION:It’s fun\, free and good for mind\, body and soul! \nSkills sessions and demonstration games.  All gear provided and all ages welcome. \nYou will need flat\, closed in shoes and a hat/cap and sunscreen. \nCome and have a try\, we’d love to see you! \nCar parking available from Frederick St\, off Villa St.
URL:https://nicolejohnston.com.au/event/come-try-croquet-yeronga-2/
LOCATION:Yeronga Memorial Park\, School Road\, Yeronga\, Queensland\, 4104\, Australia
ORGANIZER;CN="Stephen's Croquet Club":MAILTO:stephens@croquetqld.org
GEO:-27.5212612;153.0201362
X-APPLE-STRUCTURED-LOCATION;VALUE=URI;X-ADDRESS=Yeronga Memorial Park School Road Yeronga Queensland 4104 Australia;X-APPLE-RADIUS=500;X-TITLE=School Road:geo:153.0201362,-27.5212612
END:VEVENT
BEGIN:VEVENT
DTSTART;TZID=Australia/Brisbane:20150809T140000
DTEND;TZID=Australia/Brisbane:20150809T170000
DTSTAMP:20260424T135012
CREATED:20150727T010251Z
LAST-MODIFIED:20150727T010251Z
UID:3559-1439128800-1439139600@nicolejohnston.com.au
SUMMARY:Come & Try Croquet - Yeronga
DESCRIPTION:It’s fun\, free and good for mind\, body and soul! \nSkills sessions and demonstration games.  All gear provided and all ages welcome. \nYou will need flat\, closed in shoes and a hat/cap and sunscreen. \nCome and have a try\, we’d love to see you! \nCar parking available from Frederick St\, off Villa St.
URL:https://nicolejohnston.com.au/event/come-try-croquet-yeronga/
LOCATION:Yeronga Memorial Park\, School Road\, Yeronga\, Queensland\, 4104\, Australia
ORGANIZER;CN="Stephen's Croquet Club":MAILTO:stephens@croquetqld.org
GEO:-27.5212612;153.0201362
X-APPLE-STRUCTURED-LOCATION;VALUE=URI;X-ADDRESS=Yeronga Memorial Park School Road Yeronga Queensland 4104 Australia;X-APPLE-RADIUS=500;X-TITLE=School Road:geo:153.0201362,-27.5212612
END:VEVENT
END:VCALENDAR