BEGIN:VCALENDAR
VERSION:2.0
PRODID:-//Nicole Johnston - ECPv6.15.20//NONSGML v1.0//EN
CALSCALE:GREGORIAN
METHOD:PUBLISH
X-WR-CALNAME:Nicole Johnston
X-ORIGINAL-URL:https://nicolejohnston.com.au
X-WR-CALDESC:Events for Nicole Johnston
REFRESH-INTERVAL;VALUE=DURATION:PT1H
X-Robots-Tag:noindex
X-PUBLISHED-TTL:PT1H
BEGIN:VTIMEZONE
TZID:Australia/Brisbane
BEGIN:STANDARD
TZOFFSETFROM:+1000
TZOFFSETTO:+1000
TZNAME:AEST
DTSTART:20250101T000000
END:STANDARD
END:VTIMEZONE
BEGIN:VEVENT
DTSTART;TZID=Australia/Brisbane:20260502T104500
DTEND;TZID=Australia/Brisbane:20260502T113000
DTSTAMP:20260424T060519
CREATED:20260302T053008Z
LAST-MODIFIED:20260302T053008Z
UID:32212-1777718700-1777721400@nicolejohnston.com.au
SUMMARY:Yeronga | Deep Water Running
DESCRIPTION:This is an aquatic workout that uses all major muscle groups. Participants wear a buoyancy belt so there’s no need to worry about being in deep water however you do require basic swimming skills. Classes will be held in the outdoor 50m pool. You must bring your own buoyancy belt for this class. \nNo bookings required. For more information text or phone Marise on 0408 515 128.
URL:https://nicolejohnston.com.au/event/yeronga-deep-water-running-35/
LOCATION:Yeronga Park Pool\, 81 School Rd\, Yeronga\, Qld\, 4104\, Australia
GEO:-27.5210935;153.019099
X-APPLE-STRUCTURED-LOCATION;VALUE=URI;X-ADDRESS=Yeronga Park Pool 81 School Rd Yeronga Qld 4104 Australia;X-APPLE-RADIUS=500;X-TITLE=81 School Rd:geo:153.019099,-27.5210935
END:VEVENT
BEGIN:VEVENT
DTSTART;TZID=Australia/Brisbane:20260509T093000
DTEND;TZID=Australia/Brisbane:20260509T101500
DTSTAMP:20260424T060519
CREATED:20260318T043228Z
LAST-MODIFIED:20260318T043228Z
UID:32424-1778319000-1778321700@nicolejohnston.com.au
SUMMARY:Yeronga | Deep Water Running
DESCRIPTION:This is an aquatic workout that uses all major muscle groups. Participants wear a buoyancy belt so there’s no need to worry about being in deep water however you do require basic swimming skills. Classes will be held in the outdoor 50m pool. You must bring your own buoyancy belt for this class. \nNo bookings required. For more information text or phone Marise on 0408 515 128.
URL:https://nicolejohnston.com.au/event/yeronga-deep-water-running-36/
LOCATION:Yeronga Park Pool\, 81 School Rd\, Yeronga\, Qld\, 4104\, Australia
GEO:-27.5210935;153.019099
X-APPLE-STRUCTURED-LOCATION;VALUE=URI;X-ADDRESS=Yeronga Park Pool 81 School Rd Yeronga Qld 4104 Australia;X-APPLE-RADIUS=500;X-TITLE=81 School Rd:geo:153.019099,-27.5210935
END:VEVENT
BEGIN:VEVENT
DTSTART;TZID=Australia/Brisbane:20260516T093000
DTEND;TZID=Australia/Brisbane:20260516T101500
DTSTAMP:20260424T060519
CREATED:20260319T010755Z
LAST-MODIFIED:20260319T010755Z
UID:32451-1778923800-1778926500@nicolejohnston.com.au
SUMMARY:Yeronga | Deep Water Running
DESCRIPTION:This is an aquatic workout that uses all major muscle groups. Participants wear a buoyancy belt so there’s no need to worry about being in deep water however you do require basic swimming skills. Classes will be held in the outdoor 50m pool. You must bring your own buoyancy belt for this class. \nNo bookings required. For more information text or phone Marise on 0408 515 128.
URL:https://nicolejohnston.com.au/event/yeronga-deep-water-running-37/
LOCATION:Yeronga Park Pool\, 81 School Rd\, Yeronga\, Qld\, 4104\, Australia
GEO:-27.5210935;153.019099
X-APPLE-STRUCTURED-LOCATION;VALUE=URI;X-ADDRESS=Yeronga Park Pool 81 School Rd Yeronga Qld 4104 Australia;X-APPLE-RADIUS=500;X-TITLE=81 School Rd:geo:153.019099,-27.5210935
END:VEVENT
BEGIN:VEVENT
DTSTART;TZID=Australia/Brisbane:20260523T093000
DTEND;TZID=Australia/Brisbane:20260523T101500
DTSTAMP:20260424T060519
CREATED:20260319T014544Z
LAST-MODIFIED:20260319T014544Z
UID:32477-1779528600-1779531300@nicolejohnston.com.au
SUMMARY:Yeronga | Deep Water Running
DESCRIPTION:This is an aquatic workout that uses all major muscle groups. Participants wear a buoyancy belt so there’s no need to worry about being in deep water however you do require basic swimming skills. Classes will be held in the outdoor 50m pool. You must bring your own buoyancy belt for this class. \nNo bookings required. For more information text or phone Marise on 0408 515 128.
URL:https://nicolejohnston.com.au/event/yeronga-deep-water-running-38/
LOCATION:Yeronga Park Pool\, 81 School Rd\, Yeronga\, Qld\, 4104\, Australia
GEO:-27.5210935;153.019099
X-APPLE-STRUCTURED-LOCATION;VALUE=URI;X-ADDRESS=Yeronga Park Pool 81 School Rd Yeronga Qld 4104 Australia;X-APPLE-RADIUS=500;X-TITLE=81 School Rd:geo:153.019099,-27.5210935
END:VEVENT
BEGIN:VEVENT
DTSTART;TZID=Australia/Brisbane:20260530T093000
DTEND;TZID=Australia/Brisbane:20260530T101500
DTSTAMP:20260424T060519
CREATED:20260319T022152Z
LAST-MODIFIED:20260319T022152Z
UID:32505-1780133400-1780136100@nicolejohnston.com.au
SUMMARY:Yeronga | Deep Water Running
DESCRIPTION:This is an aquatic workout that uses all major muscle groups. Participants wear a buoyancy belt so there’s no need to worry about being in deep water however you do require basic swimming skills. Classes will be held in the outdoor 50m pool. You must bring your own buoyancy belt for this class. \nNo bookings required. For more information text or phone Marise on 0408 515 128.
URL:https://nicolejohnston.com.au/event/yeronga-deep-water-running-39/
LOCATION:Yeronga Park Pool\, 81 School Rd\, Yeronga\, Qld\, 4104\, Australia
GEO:-27.5210935;153.019099
X-APPLE-STRUCTURED-LOCATION;VALUE=URI;X-ADDRESS=Yeronga Park Pool 81 School Rd Yeronga Qld 4104 Australia;X-APPLE-RADIUS=500;X-TITLE=81 School Rd:geo:153.019099,-27.5210935
END:VEVENT
END:VCALENDAR