BEGIN:VCALENDAR
VERSION:2.0
PRODID:-//Nicole Johnston - ECPv6.15.20//NONSGML v1.0//EN
CALSCALE:GREGORIAN
METHOD:PUBLISH
X-ORIGINAL-URL:https://nicolejohnston.com.au
X-WR-CALDESC:Events for Nicole Johnston
REFRESH-INTERVAL;VALUE=DURATION:PT1H
X-Robots-Tag:noindex
X-PUBLISHED-TTL:PT1H
BEGIN:VTIMEZONE
TZID:Australia/Brisbane
BEGIN:STANDARD
TZOFFSETFROM:+1000
TZOFFSETTO:+1000
TZNAME:AEST
DTSTART:20140101T000000
END:STANDARD
END:VTIMEZONE
BEGIN:VEVENT
DTSTART;TZID=Australia/Brisbane:20251122T173000
DTEND;TZID=Australia/Brisbane:20251122T203000
DTSTAMP:20260424T120717
CREATED:20251110T061905Z
LAST-MODIFIED:20251110T061907Z
UID:31125-1763832600-1763843400@nicolejohnston.com.au
SUMMARY:Yeronga | Yeronga SS Movie in the Park: 'Casper'
DESCRIPTION:Enjoy a FREE screening of ‘Casper’ on the Yeronga State School oval. Bring along a picnic blanket or camping chairs and enjoy a family-friendly night out under the stars. \nFood will be available to purchase on the night from 5:30pm\, or BYO picnic. \nMovie screening starts at sundown. \nProudly supported by Cr Nicole Johnston\, Councillor for Tennyson Ward and the Lord Mayor’s Community Fund.
URL:https://nicolejohnston.com.au/event/yeronga-yeronga-ss-movie-in-the-park-casper/
LOCATION:Yeronga State School\, 122 Park Road\, Yeronga\, Queensland\, 4104\, Australia
CATEGORIES:Community Event
ATTACH;FMTTYPE=image/png:https://nicolejohnston.com.au/wp-content/uploads/2025/11/Yeronga-SS-MIP-2025.png
GEO:-27.491914;153.030343
X-APPLE-STRUCTURED-LOCATION;VALUE=URI;X-ADDRESS=Yeronga State School 122 Park Road Yeronga Queensland 4104 Australia;X-APPLE-RADIUS=500;X-TITLE=122 Park Road:geo:153.030343,-27.491914
END:VEVENT
BEGIN:VEVENT
DTSTART;TZID=Australia/Brisbane:20230520T120000
DTEND;TZID=Australia/Brisbane:20230520T183000
DTSTAMP:20260424T120717
CREATED:20230515T033105Z
LAST-MODIFIED:20230515T033106Z
UID:26118-1684584000-1684607400@nicolejohnston.com.au
SUMMARY:Yeronga | Yeronga SS Fun Fair
DESCRIPTION:
URL:https://nicolejohnston.com.au/event/yeronga-yeronga-ss-fun-fair/
LOCATION:Yeronga State School\, 122 Park Road\, Yeronga\, Queensland\, 4104\, Australia
CATEGORIES:Community Event
ATTACH;FMTTYPE=image/jpeg:https://nicolejohnston.com.au/wp-content/uploads/2023/05/YSS-Fun-Fair.jpg
GEO:-27.491914;153.030343
X-APPLE-STRUCTURED-LOCATION;VALUE=URI;X-ADDRESS=Yeronga State School 122 Park Road Yeronga Queensland 4104 Australia;X-APPLE-RADIUS=500;X-TITLE=122 Park Road:geo:153.030343,-27.491914
END:VEVENT
BEGIN:VEVENT
DTSTART;TZID=Australia/Brisbane:20161029T173000
DTEND;TZID=Australia/Brisbane:20161029T213000
DTSTAMP:20260424T120717
CREATED:20161011T042727Z
LAST-MODIFIED:20161011T042833Z
UID:10301-1477762200-1477776600@nicolejohnston.com.au
SUMMARY:Yeronga State School Movie in the Park
DESCRIPTION:
URL:https://nicolejohnston.com.au/event/yeronga-state-school-movie-in-the-park/
LOCATION:Yeronga State School\, 122 Park Road\, Yeronga\, Queensland\, 4104\, Australia
GEO:-27.491914;153.030343
X-APPLE-STRUCTURED-LOCATION;VALUE=URI;X-ADDRESS=Yeronga State School 122 Park Road Yeronga Queensland 4104 Australia;X-APPLE-RADIUS=500;X-TITLE=122 Park Road:geo:153.030343,-27.491914
END:VEVENT
BEGIN:VEVENT
DTSTART;TZID=Australia/Brisbane:20150530T120000
DTEND;TZID=Australia/Brisbane:20150530T180000
DTSTAMP:20260424T120717
CREATED:20150511T120052Z
LAST-MODIFIED:20150511T120052Z
UID:2748-1432987200-1433008800@nicolejohnston.com.au
SUMMARY:Yeronga State School Fete
DESCRIPTION:Food & Drink Stalls ~ Rides ~ Activities ~ Entertainment \nCome along and support Yeronga State School. \nDon’t forget to like them on Facebook!
URL:https://nicolejohnston.com.au/event/yeronga-state-school-fete/
LOCATION:Yeronga State School\, 122 Park Road\, Yeronga\, Queensland\, 4104\, Australia
GEO:-27.491914;153.030343
X-APPLE-STRUCTURED-LOCATION;VALUE=URI;X-ADDRESS=Yeronga State School 122 Park Road Yeronga Queensland 4104 Australia;X-APPLE-RADIUS=500;X-TITLE=122 Park Road:geo:153.030343,-27.491914
END:VEVENT
END:VCALENDAR