BEGIN:VCALENDAR
VERSION:2.0
PRODID:-//Nicole Johnston - ECPv6.15.20//NONSGML v1.0//EN
CALSCALE:GREGORIAN
METHOD:PUBLISH
X-WR-CALNAME:Nicole Johnston
X-ORIGINAL-URL:https://nicolejohnston.com.au
X-WR-CALDESC:Events for Nicole Johnston
REFRESH-INTERVAL;VALUE=DURATION:PT1H
X-Robots-Tag:noindex
X-PUBLISHED-TTL:PT1H
BEGIN:VTIMEZONE
TZID:Australia/Brisbane
BEGIN:STANDARD
TZOFFSETFROM:+1000
TZOFFSETTO:+1000
TZNAME:AEST
DTSTART:20230101T000000
END:STANDARD
END:VTIMEZONE
BEGIN:VEVENT
DTSTART;TZID=Australia/Brisbane:20240823T090000
DTEND;TZID=Australia/Brisbane:20240823T120000
DTSTAMP:20260425T044748
CREATED:20240619T043359Z
LAST-MODIFIED:20240619T045405Z
UID:27319-1724403600-1724414400@nicolejohnston.com.au
SUMMARY:Yeronga | Yeronga UC Men's Shed Open Day
DESCRIPTION:Learn all about what’ son offer at the Yeronga UC Men’s Shed! Guided tours\, equipment demonstrations and craft display. Join the Men’s Shed for a cuppa and a piece of cake.
URL:https://nicolejohnston.com.au/event/yeronga-yeronga-uc-mens-shed-open-day/
LOCATION:Yeronga UC Men’s Shed\, 58 Kadumba St\, Yeronga\, Queensland\, 4104\, Australia
CATEGORIES:Community Event
ATTACH;FMTTYPE=image/png:https://nicolejohnston.com.au/wp-content/uploads/2024/06/Yeronga-Mens-Shed-Open-Day.png
END:VEVENT
END:VCALENDAR