BEGIN:VCALENDAR
VERSION:2.0
PRODID:-//Nicole Johnston - ECPv6.15.20//NONSGML v1.0//EN
CALSCALE:GREGORIAN
METHOD:PUBLISH
X-WR-CALNAME:Nicole Johnston
X-ORIGINAL-URL:https://nicolejohnston.com.au
X-WR-CALDESC:Events for Nicole Johnston
REFRESH-INTERVAL;VALUE=DURATION:PT1H
X-Robots-Tag:noindex
X-PUBLISHED-TTL:PT1H
BEGIN:VTIMEZONE
TZID:Australia/Brisbane
BEGIN:STANDARD
TZOFFSETFROM:+1000
TZOFFSETTO:+1000
TZNAME:AEST
DTSTART:20140101T000000
END:STANDARD
END:VTIMEZONE
BEGIN:VEVENT
DTSTART;TZID=Australia/Brisbane:20151013T193000
DTEND;TZID=Australia/Brisbane:20151013T213000
DTSTAMP:20260424T231224
CREATED:20151012T102737Z
LAST-MODIFIED:20151012T102737Z
UID:4352-1444764600-1444771800@nicolejohnston.com.au
SUMMARY:Yeronga/Annerley 3 Neighbourhood Watch Meeting
DESCRIPTION:All welcome!
URL:https://nicolejohnston.com.au/event/yerongaannerley-3-neighbourhood-watch-meeting/
LOCATION:Yeronga Uniting Church\, Kadumba Street\, Yeronga\, Qld\, 4104\, Australia
GEO:-27.515171;153.0119597
X-APPLE-STRUCTURED-LOCATION;VALUE=URI;X-ADDRESS=Yeronga Uniting Church Kadumba Street Yeronga Qld 4104 Australia;X-APPLE-RADIUS=500;X-TITLE=Kadumba Street:geo:153.0119597,-27.515171
END:VEVENT
END:VCALENDAR